{"text_format":"1","workbook":"xlsx","n_sheets":12,"sheets":["means unmatched TEMP","proportions- matched","rates - matched","rates - unmatched loss to FU","Mask1","HavePREC_prop_matched_hayes","HaveCLUSTER_prop_matched_hayes","values for k","Lists","HavePREC_rates_matched_hayes","HaveCLUSTER_rates_matched_hayes","Sheet1"],"not_rendered":{"charts":0,"images":9,"macros":1,"external_links":0,"defined_names":19,"comments":0,"pivot_tables":0},"unopened":[],"bounds":{"document_bytes":16777216,"sheet_cells":100000,"rows_first":2000,"rows_last":500,"rows_between":2000,"halvings":0,"cell_chars":16384,"cell_head_chars":4096},"cells_cut":0,"cells_raw":0,"read":"whole","date_system":"1900"}

{"sheet":"means unmatched TEMP","index":0,"n_rows":15,"n_cols":16,"rows_kept":15,"cut":false,"hidden":true,"merged":[]}
["PROPORTIONS: UNMATCHED"]
["1-type I","power","z_a","z_b",null,null,"m0","%","m1","s0","s1",null,"cluster","k","# clusters ","* to be conservative, round up"]
[null,null,null,null,null,null,null,"reduction",null,null,null,"n per arm","size",null,"per arm*"]
[]
[0.95,0.8,{"$f":"NORMSINV(1-(0.5*(1-A5)))","v":1.9599639845400536},{"$f":"NORMSINV(B5)","v":0.84162123357291474},{"$f":"(C5+D5)^2","v":7.8488797343490884},null,2.63,0.6,{"$f":"G5*(1-H5)","v":1.052},2.6,1.58,{"$f":"E5*((J5^2+K5^2))/(G5^2-I5^2)","v":12.504289076139415},5,0.1,{"$f":"2+E5*(((J5^2+K5^2)/M5)+(N5^2*(G5^2+I5^2)))/((G5-I5)^2)","v":8.0882432491940861},{"$f":"INT(O5)+1","v":9}]
[0.95,0.8,1.9599639845400536,0.84162123357291474,7.8488797343490884,null,2.63,0.6,{"$f":"G6*(1-H6)","v":1.052},2.6,1.58,{"$f":"E6*(J6^2+K6^2)/(G6^2-I6^2)","v":12.504289076139415},5,0.15,{"$f":"2+E6*(((J6^2+K6^2)/M6)+(N6^2*(G6^2+I6^2)))/((G6-I6)^2)","v":8.4043786829387024},9]
[0.95,0.8,{"$f":"NORMSINV(1-(0.5*(1-A7)))","v":1.9599639845400536},{"$f":"NORMSINV(B7)","v":0.84162123357291474},{"$f":"(C7+D7)^2","v":7.8488797343490884},null,2.63,0.6,{"$f":"G7*(1-H7)","v":1.052},2.6,1.58,{"$f":"E7*(J7^2+K7^2)/(G7^2-I7^2)","v":12.504289076139415},5,0.25,9.4160120709214752,10]
[]
[0.95,0.9,1.9599639845400536,1.2815515655446006,10.507423061440617,null,2.63,0.6,{"$f":"G9*(1-H9)","v":1.052},2.6,1.58,{"$f":"E9*(J9^2+K9^2)/(G9^2-I9^2)","v":16.739695326271086},5,0.1,10.15043033979515,11]
[0.95,0.9,1.9599639845400536,1.2815515655446006,10.507423061440617,null,2.63,0.6,{"$f":"G10*(1-H10)","v":1.052},2.6,1.58,{"$f":"E10*(J10^2+K10^2)/(G10^2-I10^2)","v":16.739695326271086},5,0.15,10.573645990880951,11]
[0.95,0.9,{"$f":"NORMSINV(1-(0.5*(1-A11)))","v":1.9599639845400536},{"$f":"NORMSINV(B11)","v":1.2815515655446006},{"$f":"(C11+D11)^2","v":10.507423061440617},null,2.63,0.6,{"$f":"G11*(1-H11)","v":1.052},2.6,1.58,{"$f":"E11*(J11^2+K11^2)/(G11^2-I11^2)","v":16.739695326271086},5,0.2,11.166147902401077,12]
[]
[]
["assumes different values of k "]
["used mean and SD for pre and post implementation "]

{"sheet":"proportions- matched","index":1,"n_rows":17,"n_cols":20,"rows_kept":17,"cut":false,"hidden":true,"merged":[[1,12,1,16],[1,17,2,18],[1,11,2,11]]}
["PROPORTIONS: MATCHED"]
["1-type I","power","z_a","z_b",null,"p_0","%","p_1","cluster","k","# clusters ","* to be conservative, round up","# Clusters With Adjustments",null,null,null,null,"Expected deaths per year per cluster"]
[null,null,null,null,null,null,"reduction",null,"size",null,"per arm*",null,"DEFF","Male:Female","Non-response 10%","Trend 3 y","Prior MCCD 9%"]
[null,null,null,null,null,null,"What if",null,null,null,null,null,2,2,1.1100000000000001,0.33300000000000002,1.0980000000000001,102,"per fraction","CDR increased if rural only"]
[0.95,0.8,{"$f":"NORMSINV(1-(0.5*(1-A5)))","v":1.9599639845400536},{"$f":"NORMSINV(B5)","v":0.84162123357291474},{"$f":"(C5+D5)^2","v":7.8488797343490884},0.02,1,{"$f":"F5*(1-G5)","v":0},{"$f":"S5","v":2.04},0.1,{"$f":"2+E5*((F5*(1-F5)/I5)+(H5*(1-H5)/I5)+(J5*J5)*((F5*F5)+(H5*H5)))/((H5-F5)^2)","v":190.60550202435587},{"$f":"INT(K5)+1","v":191},{"$f":"L5*M$4","v":382},{"$f":"M5*N$4","v":764},{"$f":"N5*O$4","v":848.04000000000008},{"$f":"O5*P$4","v":282.39732000000004},{"$f":"P5*Q$4","v":310.07225736000004},0.02,{"$f":"0.02*R4","v":2.04}," "]
[0.95,0.8,1.9599639845400536,0.84162123357291474,7.8488797343490884,0.05,0.5,2.5000000000000001E-2,5.1000000000000005,0.25,181.43731794642426,182,{"$f":"L6*M$4","v":364},728,808.08,269.09064000000001,295.46152272,0.05,{"$f":"0.05*R4","v":5.1000000000000005}]
[0.95,0.8,1.9599639845400536,0.84162123357291474,7.8488797343490884,0.1,0.27,7.2999999999999995E-2,10.200000000000001,0.25,178.74518323079562,179,358,716,794.7600000000001,264.65508000000005,290.59127784000009,0.1,{"$f":"0.1*R4","v":10.200000000000001}]
[0.95,0.8,1.9599639845400536,0.84162123357291474,7.8488797343490884,0.15,0.215,0.11774999999999999,15.299999999999999,0.25,133.27983086300071,134,268,536,594.96,198.12168000000003,217.53760464000004,0.15,{"$f":"0.15*R4","v":15.299999999999999}]
[0.95,0.8,1.9599639845400536,0.84162123357291474,7.8488797343490884,0.2,0.17,0.16600000000000001,20.400000000000002,0.25,129.99823960192899,130,260,520,577.20000000000005,192.20760000000001,211.04394480000002,0.2,{"$f":"0.2*R4","v":20.400000000000002}]
[0.95,0.8,1.9599639845400536,0.84162123357291474,7.8488797343490884,0.25,0.14000000000000001,0.215,25.5,0.25,135.05857340970329,136,272,544,603.84,201.07872000000003,220.78443456000005,0.25,{"$f":"0.25*R4","v":25.5}]
[null,null,null,null,null,null,null,null,null,null,null,null," ",null,null,null,"No. of clusters"]
[null,null,null,null,null,null,null,null,null,null,null,{"$f":"INT(K12)+1","v":1}," ",null,null,null," "]
[null,null,null,null,null,null,null,null,null,null,null,1]
[null,null,null,null,null,null,null,null,null,null,null,1]
[null,null,null,null,null,null,null,null,null,null,null,1]
[null,null,null,null,null,null,null,null,null,null,null,1]
[null,null,null,null,null,null,null,null,null,null,null,1]

{"sheet":"rates - matched","index":2,"n_rows":14,"n_cols":14,"rows_kept":14,"cut":false,"hidden":true,"merged":[]}
["MATCHED RATES"]
["1-type I","power","z_a","z_b",null,"l_0","%","l_1","# of","cluster","person","k","# clusters","* to be conservative, round up"]
[null,null,null,null,null,null,"reduction",null,"yrs","size","years",null,"per arm*"]
[0.95,0.8,{"$f":"NORMSINV(1-(0.5*(1-A4)))","v":1.9599639845400536},{"$f":"NORMSINV(B4)","v":0.84162123357291474},{"$f":"(C4+D4)^2","v":7.8488797343490884},0.02,0.6,{"$f":"F4*(1-G4)","v":8.0000000000000002E-3},1,300,{"$f":"I4*J4*(0.975)^I4","v":292.5},0.25,{"$f":"2+E4*(((F4+H4)/K4)+(L4*L4)*((F4*F4)+(H4*H4)))/((F4-H4)^2)","v":8.798356004472712}]
[0.95,0.8,{"$f":"NORMSINV(1-(0.5*(1-A5)))","v":1.9599639845400536},{"$f":"NORMSINV(B5)","v":0.84162123357291474},{"$f":"(C5+D5)^2","v":7.8488797343490884},0.04,0.6,{"$f":"F5*(1-G5)","v":1.6E-2},1,300,{"$f":"I5*J5*(0.975)^I5","v":292.5},0.25,{"$f":"2+E5*(((F5+H5)/K5)+(L5*L5)*((F5*F5)+(H5*H5)))/((F5-H5)^2)","v":6.1895165865978958}]
[0.95,0.8,{"$f":"NORMSINV(1-(0.5*(1-A6)))","v":1.9599639845400536},{"$f":"NORMSINV(B6)","v":0.84162123357291474},{"$f":"(C6+D6)^2","v":7.8488797343490884},0.06,0.6,{"$f":"F6*(1-G6)","v":2.4E-2},1,300,292.5,0.25,5.3199034473062907]
[0.95,0.8,{"$f":"NORMSINV(1-(0.5*(1-A7)))","v":1.9599639845400536},{"$f":"NORMSINV(B7)","v":0.84162123357291474},{"$f":"(C7+D7)^2","v":7.8488797343490884},0.08,0.6,{"$f":"F7*(1-G7)","v":3.2000000000000001E-2},1,300,292.5,0.25,4.8850968776604882]
[0.95,0.8,{"$f":"NORMSINV(1-(0.5*(1-A8)))","v":1.9599639845400536},{"$f":"NORMSINV(B8)","v":0.84162123357291474},{"$f":"(C8+D8)^2","v":7.8488797343490884},0.1,0.6,{"$f":"F8*(1-G8)","v":4.0000000000000008E-2},1,300,292.5,0.25,4.6242129358730075]
[]
[0.95,0.8,{"$f":"NORMSINV(1-(0.5*(1-A10)))","v":1.9599639845400536},{"$f":"NORMSINV(B10)","v":0.84162123357291474},{"$f":"(C10+D10)^2","v":7.8488797343490884},0.02,0.6,{"$f":"F10*(1-G10)","v":8.0000000000000002E-3},1,300,292.5,0.25,8.798356004472712]
[0.95,0.8,{"$f":"NORMSINV(1-(0.5*(1-A11)))","v":1.9599639845400536},{"$f":"NORMSINV(B11)","v":0.84162123357291474},{"$f":"(C11+D11)^2","v":7.8488797343490884},0.04,0.6,{"$f":"F11*(1-G11)","v":1.6E-2},1,300,292.5,0.25,6.1895165865978958]
[0.95,0.8,{"$f":"NORMSINV(1-(0.5*(1-A12)))","v":1.9599639845400536},{"$f":"NORMSINV(B12)","v":0.84162123357291474},{"$f":"(C12+D12)^2","v":7.8488797343490884},0.06,0.6,{"$f":"F12*(1-G12)","v":2.4E-2},1,300,292.5,0.25,5.3199034473062907]
[0.95,0.8,{"$f":"NORMSINV(1-(0.5*(1-A13)))","v":1.9599639845400536},{"$f":"NORMSINV(B13)","v":0.84162123357291474},{"$f":"(C13+D13)^2","v":7.8488797343490884},0.08,0.6,{"$f":"F13*(1-G13)","v":3.2000000000000001E-2},1,300,292.5,0.25,4.8850968776604882]
[0.95,0.8,{"$f":"NORMSINV(1-(0.5*(1-A14)))","v":1.9599639845400536},{"$f":"NORMSINV(B14)","v":0.84162123357291474},{"$f":"(C14+D14)^2","v":7.8488797343490884},0.1,0.6,{"$f":"F14*(1-G14)","v":4.0000000000000008E-2},1,300,292.5,0.25,4.6242129358730075]

{"sheet":"rates - unmatched loss to FU","index":3,"n_rows":87,"n_cols":14,"rows_kept":87,"cut":false,"hidden":true,"merged":[]}
["RATES UNMATCHED",null,null,null,null,null,null,null,null,null,"lost to fup"]
["1-type I","power","z_a","z_b",null,"l_0","%","l_1","# of","cluster","person","k","# clusters","* to be conservative,"]
[null,null,null,null,null,null,"reduction",null,"yrs","size","years",null,"per arm*","round up"]
[0.95,0.8,{"$f":"NORMSINV(1-(0.5*(1-A4)))","v":1.9599639845400536},{"$f":"NORMSINV(B4)","v":0.84162123357291474},{"$f":"(C4+D4)^2","v":7.8488797343490884},0.01,0.6,{"$f":"F4*(1-G4)","v":4.0000000000000001E-3},1,2000,{"$f":"I4*J4*0.95","v":1900},0.25,{"$f":"1+E4*(((F4+H4)/K4)+(L4*L4)*((F4*F4)+(H4*H4)))/((F4-H4)^2)","v":4.1871730207828346},{"$f":"INT(M4)+1","v":5}]
[0.95,0.8,{"$f":"NORMSINV(1-(0.5*(1-A5)))","v":1.9599639845400536},{"$f":"NORMSINV(B5)","v":0.84162123357291474},{"$f":"(C5+D5)^2","v":7.8488797343490884},0.02,0.6,{"$f":"F5*(1-G5)","v":8.0000000000000002E-3},1,2000,{"$f":"I5*J5*0.95","v":1900},0.25,{"$f":"1+E5*(((F5+H5)/K5)+(L5*L5)*((F5*F5)+(H5*H5)))/((F5-H5)^2)","v":3.3839250947529576},{"$f":"INT(M5)+1","v":4}]
[0.95,0.8,{"$f":"NORMSINV(1-(0.5*(1-A6)))","v":1.9599639845400536},{"$f":"NORMSINV(B6)","v":0.84162123357291474},{"$f":"(C6+D6)^2","v":7.8488797343490884},0.04,0.6,{"$f":"F6*(1-G6)","v":1.6E-2},1,2000,{"$f":"I6*J6*0.95","v":1900},0.25,{"$f":"1+E6*(((F6+H6)/K6)+(L6*L6)*((F6*F6)+(H6*H6)))/((F6-H6)^2)","v":2.9823011317380193},3]
[]
[0.95,0.9,{"$f":"NORMSINV(1-(0.5*(1-A8)))","v":1.9599639845400536},{"$f":"NORMSINV(B8)","v":1.2815515655446006},{"$f":"(C8+D8)^2","v":10.507423061440617},0.01,0.6,{"$f":"F8*(1-G8)","v":4.0000000000000001E-3},1,2000,{"$f":"I8*J8*0.95","v":1900},0.25,{"$f":"1+E8*(((F8+H8)/K8)+(L8*L8)*((F8*F8)+(H8*H8)))/((F8-H8)^2)","v":5.2667204025075023},6]
[0.95,0.9,{"$f":"NORMSINV(1-(0.5*(1-A9)))","v":1.9599639845400536},{"$f":"NORMSINV(B9)","v":1.2815515655446006},{"$f":"(C9+D9)^2","v":10.507423061440617},0.02,0.6,{"$f":"F9*(1-G9)","v":8.0000000000000002E-3},1,2000,{"$f":"I9*J9*0.95","v":1900},0.25,{"$f":"1+E9*(((F9+H9)/K9)+(L9*L9)*((F9*F9)+(H9*H9)))/((F9-H9)^2)","v":4.1913993289682576},5]
[0.95,0.9,{"$f":"NORMSINV(1-(0.5*(1-A10)))","v":1.9599639845400536},{"$f":"NORMSINV(B10)","v":1.2815515655446006},{"$f":"(C10+D10)^2","v":10.507423061440617},0.04,0.6,{"$f":"F10*(1-G10)","v":1.6E-2},1,2000,{"$f":"I10*J10*0.95","v":1900},0.25,{"$f":"1+E10*(((F10+H10)/K10)+(L10*L10)*((F10*F10)+(H10*H10)))/((F10-H10)^2)","v":3.6537387921986353},4]
[]
[]
[0.95,0.85,{"$f":"NORMSINV(1-(0.5*(1-A13)))","v":1.9599639845400536},{"$f":"NORMSINV(B13)","v":1.0364333894937898},{"$f":"(C13+D13)^2","v":8.9783972231169127},0.01,0.5,{"$f":"F13*(1-G13)","v":5.0000000000000001E-3},1,2000,{"$f":"I13*J13*0.95","v":1900},0.25,{"$f":"1+E13*(((F13+H13)/K13)+(L13*L13)*((F13*F13)+(H13*H13)))/((F13-H13)^2)","v":6.6410324658399018},{"$f":"INT(M13)+1","v":7}]
[0.95,0.85,{"$f":"NORMSINV(1-(0.5*(1-A14)))","v":1.9599639845400536},{"$f":"NORMSINV(B14)","v":1.0364333894937898},{"$f":"(C14+D14)^2","v":8.9783972231169127},0.02,0.5,{"$f":"F14*(1-G14)","v":0.01},1,2000,{"$f":"I14*J14*0.95","v":1900},0.25,{"$f":"1+E14*(((F14+H14)/K14)+(L14*L14)*((F14*F14)+(H14*H14)))/((F14-H14)^2)","v":5.2233907990319688},{"$f":"INT(M14)+1","v":6}]
[0.95,0.85,{"$f":"NORMSINV(1-(0.5*(1-A15)))","v":1.9599639845400536},{"$f":"NORMSINV(B15)","v":1.0364333894937898},{"$f":"(C15+D15)^2","v":8.9783972231169127},0.04,0.5,{"$f":"F15*(1-G15)","v":0.02},1,2000,{"$f":"I15*J15*0.95","v":1900},0.25,{"$f":"1+E15*(((F15+H15)/K15)+(L15*L15)*((F15*F15)+(H15*H15)))/((F15-H15)^2)","v":4.5145699656280023},5]
[]
[0.95,0.85,{"$f":"NORMSINV(1-(0.5*(1-A17)))","v":1.9599639845400536},{"$f":"NORMSINV(B17)","v":1.0364333894937898},{"$f":"(C17+D17)^2","v":8.9783972231169127},8.9999999999999993E-3,0.5,{"$f":"F17*(1-G17)","v":4.4999999999999997E-3},1,2000,{"$f":"I17*J17*0.95","v":1900},0.25,{"$f":"1+E17*(((F17+H17)/K17)+(L17*L17)*((F17*F17)+(H17*H17)))/((F17-H17)^2)","v":6.956063947352777},7]
[0.95,0.85,{"$f":"NORMSINV(1-(0.5*(1-A18)))","v":1.9599639845400536},{"$f":"NORMSINV(B18)","v":1.0364333894937898},{"$f":"(C18+D18)^2","v":8.9783972231169127},1.7999999999999999E-2,0.5,{"$f":"F18*(1-G18)","v":8.9999999999999993E-3},1,2000,{"$f":"I18*J18*0.95","v":1900},0.25,{"$f":"1+E18*(((F18+H18)/K18)+(L18*L18)*((F18*F18)+(H18*H18)))/((F18-H18)^2)","v":5.3809065397884055},6]
[0.95,0.85,{"$f":"NORMSINV(1-(0.5*(1-A19)))","v":1.9599639845400536},{"$f":"NORMSINV(B19)","v":1.0364333894937898},{"$f":"(C19+D19)^2","v":8.9783972231169127},2.7E-2,0.5,{"$f":"F19*(1-G19)","v":1.35E-2},1,2000,{"$f":"I19*J19*0.95","v":1900},0.25,{"$f":"1+E19*(((F19+H19)/K19)+(L19*L19)*((F19*F19)+(H19*H19)))/((F19-H19)^2)","v":4.855854070600282},5]
[]
[]
[0.95,0.8,{"$f":"NORMSINV(1-(0.5*(1-A22)))","v":1.9599639845400536},{"$f":"NORMSINV(B22)","v":0.84162123357291474},{"$f":"(C22+D22)^2","v":7.8488797343490884},8.9999999999999993E-3,0.6,{"$f":"F22*(1-G22)","v":3.5999999999999999E-3},1,2000,{"$f":"I22*J22*0.95","v":1900},0.25,{"$f":"1+E22*(((F22+H22)/K22)+(L22*L22)*((F22*F22)+(H22*H22)))/((F22-H22)^2)","v":4.3656725599005863},{"$f":"INT(M22)+1","v":5}]
[0.95,0.8,{"$f":"NORMSINV(1-(0.5*(1-A23)))","v":1.9599639845400536},{"$f":"NORMSINV(B23)","v":0.84162123357291474},{"$f":"(C23+D23)^2","v":7.8488797343490884},1.7999999999999999E-2,0.6,{"$f":"F23*(1-G23)","v":7.1999999999999998E-3},1,2000,{"$f":"I23*J23*0.95","v":1900},0.25,{"$f":"1+E23*(((F23+H23)/K23)+(L23*L23)*((F23*F23)+(H23*H23)))/((F23-H23)^2)","v":3.4731748643118334},{"$f":"INT(M23)+1","v":4}]
[0.95,0.8,{"$f":"NORMSINV(1-(0.5*(1-A24)))","v":1.9599639845400536},{"$f":"NORMSINV(B24)","v":0.84162123357291474},{"$f":"(C24+D24)^2","v":7.8488797343490884},2.7E-2,0.6,{"$f":"F24*(1-G24)","v":1.0800000000000001E-2},1,2000,{"$f":"I24*J24*0.95","v":1900},0.25,{"$f":"1+E24*(((F24+H24)/K24)+(L24*L24)*((F24*F24)+(H24*H24)))/((F24-H24)^2)","v":3.1756756324489159},4]
[]
[0.95,0.9,{"$f":"NORMSINV(1-(0.5*(1-A26)))","v":1.9599639845400536},{"$f":"NORMSINV(B26)","v":1.2815515655446006},{"$f":"(C26+D26)^2","v":10.507423061440617},8.9999999999999993E-3,0.6,{"$f":"F26*(1-G26)","v":3.5999999999999999E-3},1,2000,{"$f":"I26*J26*0.95","v":1900},0.25,{"$f":"1+E26*(((F26+H26)/K26)+(L26*L26)*((F26*F26)+(H26*H26)))/((F26-H26)^2)","v":5.5056806410717796},6]
[0.95,0.9,{"$f":"NORMSINV(1-(0.5*(1-A27)))","v":1.9599639845400536},{"$f":"NORMSINV(B27)","v":1.2815515655446006},{"$f":"(C27+D27)^2","v":10.507423061440617},1.7999999999999999E-2,0.6,{"$f":"F27*(1-G27)","v":7.1999999999999998E-3},1,2000,{"$f":"I27*J27*0.95","v":1900},0.25,{"$f":"1+E27*(((F27+H27)/K27)+(L27*L27)*((F27*F27)+(H27*H27)))/((F27-H27)^2)","v":4.3108794482503967},5]
[0.95,0.9,{"$f":"NORMSINV(1-(0.5*(1-A28)))","v":1.9599639845400536},{"$f":"NORMSINV(B28)","v":1.2815515655446006},{"$f":"(C28+D28)^2","v":10.507423061440617},2.7E-2,0.6,{"$f":"F28*(1-G28)","v":1.0800000000000001E-2},1,2000,{"$f":"I28*J28*0.95","v":1900},0.25,{"$f":"1+E28*(((F28+H28)/K28)+(L28*L28)*((F28*F28)+(H28*H28)))/((F28-H28)^2)","v":3.9126123839766023},4]
[]
[0.95,0.8,{"$f":"NORMSINV(1-(0.5*(1-A30)))","v":1.9599639845400536},{"$f":"NORMSINV(B30)","v":0.84162123357291474},{"$f":"(C30+D30)^2","v":7.8488797343490884},7.0000000000000001E-3,0.6,{"$f":"F30*(1-G30)","v":2.8000000000000004E-3},1,2000,{"$f":"I30*J30*0.95","v":1900},0.25,{"$f":"1+E30*(((F30+H30)/K30)+(L30*L30)*((F30*F30)+(H30*H30)))/((F30-H30)^2)","v":4.8756712430941604},{"$f":"INT(M30)+1","v":5}]
[0.95,0.8,{"$f":"NORMSINV(1-(0.5*(1-A31)))","v":1.9599639845400536},{"$f":"NORMSINV(B31)","v":0.84162123357291474},{"$f":"(C31+D31)^2","v":7.8488797343490884},1.4E-2,0.6,{"$f":"F31*(1-G31)","v":5.6000000000000008E-3},1,2000,{"$f":"I31*J31*0.95","v":1900},0.25,{"$f":"1+E31*(((F31+H31)/K31)+(L31*L31)*((F31*F31)+(H31*H31)))/((F31-H31)^2)","v":3.7281742059086205},{"$f":"INT(M31)+1","v":4}]
[0.95,0.8,{"$f":"NORMSINV(1-(0.5*(1-A32)))","v":1.9599639845400536},{"$f":"NORMSINV(B32)","v":0.84162123357291474},{"$f":"(C32+D32)^2","v":7.8488797343490884},2.1000000000000001E-2,0.6,{"$f":"F32*(1-G32)","v":8.4000000000000012E-3},1,2000,{"$f":"I32*J32*0.95","v":1900},0.25,{"$f":"1+E32*(((F32+H32)/K32)+(L32*L32)*((F32*F32)+(H32*H32)))/((F32-H32)^2)","v":3.3456751935134399},4]
[]
[0.95,0.9,{"$f":"NORMSINV(1-(0.5*(1-A34)))","v":1.9599639845400536},{"$f":"NORMSINV(B34)","v":1.2815515655446006},{"$f":"(C34+D34)^2","v":10.507423061440617},7.0000000000000001E-3,0.6,{"$f":"F34*(1-G34)","v":2.8000000000000004E-3},1,2000,{"$f":"I34*J34*0.95","v":1900},0.25,{"$f":"1+E34*(((F34+H34)/K34)+(L34*L34)*((F34*F34)+(H34*H34)))/((F34-H34)^2)","v":6.188424179826856},7]
[0.95,0.9,{"$f":"NORMSINV(1-(0.5*(1-A35)))","v":1.9599639845400536},{"$f":"NORMSINV(B35)","v":1.2815515655446006},{"$f":"(C35+D35)^2","v":10.507423061440617},1.4E-2,0.6,{"$f":"F35*(1-G35)","v":5.6000000000000008E-3},1,2000,{"$f":"I35*J35*0.95","v":1900},0.25,{"$f":"1+E35*(((F35+H35)/K35)+(L35*L35)*((F35*F35)+(H35*H35)))/((F35-H35)^2)","v":4.6522512176279349},5]
[0.95,0.9,{"$f":"NORMSINV(1-(0.5*(1-A36)))","v":1.9599639845400536},{"$f":"NORMSINV(B36)","v":1.2815515655446006},{"$f":"(C36+D36)^2","v":10.507423061440617},2.1000000000000001E-2,0.6,{"$f":"F36*(1-G36)","v":8.4000000000000012E-3},1,2000,{"$f":"I36*J36*0.95","v":1900},0.25,{"$f":"1+E36*(((F36+H36)/K36)+(L36*L36)*((F36*F36)+(H36*H36)))/((F36-H36)^2)","v":4.1401935635616276},5]
[]
[]
["INCREASE K"]
[0.95,0.8,{"$f":"NORMSINV(1-(0.5*(1-A40)))","v":1.9599639845400536},{"$f":"NORMSINV(B40)","v":0.84162123357291474},{"$f":"(C40+D40)^2","v":7.8488797343490884},0.01,0.6,{"$f":"F40*(1-G40)","v":4.0000000000000001E-3},1,2000,{"$f":"I40*J40*0.95","v":1900},0.3,{"$f":"1+E40*(((F40+H40)/K40)+(L40*L40)*((F40*F40)+(H40*H40)))/((F40-H40)^2)","v":4.8826709750209902},{"$f":"INT(M40)+1","v":5}]
[0.95,0.8,{"$f":"NORMSINV(1-(0.5*(1-A41)))","v":1.9599639845400536},{"$f":"NORMSINV(B41)","v":0.84162123357291474},{"$f":"(C41+D41)^2","v":7.8488797343490884},0.02,0.6,{"$f":"F41*(1-G41)","v":8.0000000000000002E-3},1,2000,{"$f":"I41*J41*0.95","v":1900},0.3,{"$f":"1+E41*(((F41+H41)/K41)+(L41*L41)*((F41*F41)+(H41*H41)))/((F41-H41)^2)","v":4.0794230489911136},{"$f":"INT(M41)+1","v":5}]
[0.95,0.8,{"$f":"NORMSINV(1-(0.5*(1-A42)))","v":1.9599639845400536},{"$f":"NORMSINV(B42)","v":0.84162123357291474},{"$f":"(C42+D42)^2","v":7.8488797343490884},0.04,0.6,{"$f":"F42*(1-G42)","v":1.6E-2},1,2000,{"$f":"I42*J42*0.95","v":1900},0.3,{"$f":"1+E42*(((F42+H42)/K42)+(L42*L42)*((F42*F42)+(H42*H42)))/((F42-H42)^2)","v":3.6777990859761744},4]
[]
[0.95,0.9,{"$f":"NORMSINV(1-(0.5*(1-A44)))","v":1.9599639845400536},{"$f":"NORMSINV(B44)","v":1.2815515655446006},{"$f":"(C44+D44)^2","v":10.507423061440617},0.01,0.6,{"$f":"F44*(1-G44)","v":4.0000000000000001E-3},1,2000,{"$f":"I44*J44*0.95","v":1900},0.3,{"$f":"1+E44*(((F44+H44)/K44)+(L44*L44)*((F44*F44)+(H44*H44)))/((F44-H44)^2)","v":6.1977948348962677},7]
[0.95,0.9,{"$f":"NORMSINV(1-(0.5*(1-A45)))","v":1.9599639845400536},{"$f":"NORMSINV(B45)","v":1.2815515655446006},{"$f":"(C45+D45)^2","v":10.507423061440617},0.02,0.6,{"$f":"F45*(1-G45)","v":8.0000000000000002E-3},1,2000,{"$f":"I45*J45*0.95","v":1900},0.3,{"$f":"1+E45*(((F45+H45)/K45)+(L45*L45)*((F45*F45)+(H45*H45)))/((F45-H45)^2)","v":5.1224737613570239},6]
[0.95,0.9,{"$f":"NORMSINV(1-(0.5*(1-A46)))","v":1.9599639845400536},{"$f":"NORMSINV(B46)","v":1.2815515655446006},{"$f":"(C46+D46)^2","v":10.507423061440617},0.04,0.6,{"$f":"F46*(1-G46)","v":1.6E-2},1,2000,{"$f":"I46*J46*0.95","v":1900},0.3,{"$f":"1+E46*(((F46+H46)/K46)+(L46*L46)*((F46*F46)+(H46*H46)))/((F46-H46)^2)","v":4.5848132245874007},5]
[]
[0.95,0.8,{"$f":"NORMSINV(1-(0.5*(1-A48)))","v":1.9599639845400536},{"$f":"NORMSINV(B48)","v":0.84162123357291474},{"$f":"(C48+D48)^2","v":7.8488797343490884},8.9999999999999993E-3,0.6,{"$f":"F48*(1-G48)","v":3.5999999999999999E-3},1,2000,{"$f":"I48*J48*0.95","v":1900},0.3,{"$f":"1+E48*(((F48+H48)/K48)+(L48*L48)*((F48*F48)+(H48*H48)))/((F48-H48)^2)","v":5.061170514138742},{"$f":"INT(M48)+1","v":6}]
[0.95,0.8,{"$f":"NORMSINV(1-(0.5*(1-A49)))","v":1.9599639845400536},{"$f":"NORMSINV(B49)","v":0.84162123357291474},{"$f":"(C49+D49)^2","v":7.8488797343490884},1.7999999999999999E-2,0.6,{"$f":"F49*(1-G49)","v":7.1999999999999998E-3},1,2000,{"$f":"I49*J49*0.95","v":1900},0.3,{"$f":"1+E49*(((F49+H49)/K49)+(L49*L49)*((F49*F49)+(H49*H49)))/((F49-H49)^2)","v":4.1686728185499886},{"$f":"INT(M49)+1","v":5}]
[0.95,0.8,{"$f":"NORMSINV(1-(0.5*(1-A50)))","v":1.9599639845400536},{"$f":"NORMSINV(B50)","v":0.84162123357291474},{"$f":"(C50+D50)^2","v":7.8488797343490884},2.7E-2,0.6,{"$f":"F50*(1-G50)","v":1.0800000000000001E-2},1,2000,{"$f":"I50*J50*0.95","v":1900},0.3,{"$f":"1+E50*(((F50+H50)/K50)+(L50*L50)*((F50*F50)+(H50*H50)))/((F50-H50)^2)","v":3.8711735866870716},4]
[]
[0.95,0.9,{"$f":"NORMSINV(1-(0.5*(1-A52)))","v":1.9599639845400536},{"$f":"NORMSINV(B52)","v":1.2815515655446006},{"$f":"(C52+D52)^2","v":10.507423061440617},8.9999999999999993E-3,0.6,{"$f":"F52*(1-G52)","v":3.5999999999999999E-3},1,2000,{"$f":"I52*J52*0.95","v":1900},0.3,{"$f":"1+E52*(((F52+H52)/K52)+(L52*L52)*((F52*F52)+(H52*H52)))/((F52-H52)^2)","v":6.4367550734605441},7]
[0.95,0.9,{"$f":"NORMSINV(1-(0.5*(1-A53)))","v":1.9599639845400536},{"$f":"NORMSINV(B53)","v":1.2815515655446006},{"$f":"(C53+D53)^2","v":10.507423061440617},1.7999999999999999E-2,0.6,{"$f":"F53*(1-G53)","v":7.1999999999999998E-3},1,2000,{"$f":"I53*J53*0.95","v":1900},0.3,{"$f":"1+E53*(((F53+H53)/K53)+(L53*L53)*((F53*F53)+(H53*H53)))/((F53-H53)^2)","v":5.2419538806391621},6]
[0.95,0.9,{"$f":"NORMSINV(1-(0.5*(1-A54)))","v":1.9599639845400536},{"$f":"NORMSINV(B54)","v":1.2815515655446006},{"$f":"(C54+D54)^2","v":10.507423061440617},2.7E-2,0.6,{"$f":"F54*(1-G54)","v":1.0800000000000001E-2},1,2000,{"$f":"I54*J54*0.95","v":1900},0.3,{"$f":"1+E54*(((F54+H54)/K54)+(L54*L54)*((F54*F54)+(H54*H54)))/((F54-H54)^2)","v":4.8436868163653681},5]
[]
[0.95,0.8,{"$f":"NORMSINV(1-(0.5*(1-A56)))","v":1.9599639845400536},{"$f":"NORMSINV(B56)","v":0.84162123357291474},{"$f":"(C56+D56)^2","v":7.8488797343490884},7.0000000000000001E-3,0.6,{"$f":"F56*(1-G56)","v":2.8000000000000004E-3},1,2000,{"$f":"I56*J56*0.95","v":1900},0.3,{"$f":"1+E56*(((F56+H56)/K56)+(L56*L56)*((F56*F56)+(H56*H56)))/((F56-H56)^2)","v":5.5711691973323143},{"$f":"INT(M56)+1","v":6}]
[0.95,0.8,{"$f":"NORMSINV(1-(0.5*(1-A57)))","v":1.9599639845400536},{"$f":"NORMSINV(B57)","v":0.84162123357291474},{"$f":"(C57+D57)^2","v":7.8488797343490884},1.4E-2,0.6,{"$f":"F57*(1-G57)","v":5.6000000000000008E-3},1,2000,{"$f":"I57*J57*0.95","v":1900},0.3,{"$f":"1+E57*(((F57+H57)/K57)+(L57*L57)*((F57*F57)+(H57*H57)))/((F57-H57)^2)","v":4.4236721601467757},{"$f":"INT(M57)+1","v":5}]
[0.95,0.8,{"$f":"NORMSINV(1-(0.5*(1-A58)))","v":1.9599639845400536},{"$f":"NORMSINV(B58)","v":0.84162123357291474},{"$f":"(C58+D58)^2","v":7.8488797343490884},2.1000000000000001E-2,0.6,{"$f":"F58*(1-G58)","v":8.4000000000000012E-3},1,2000,{"$f":"I58*J58*0.95","v":1900},0.3,{"$f":"1+E58*(((F58+H58)/K58)+(L58*L58)*((F58*F58)+(H58*H58)))/((F58-H58)^2)","v":4.0411731477515955},5]
[]
[0.95,0.85,{"$f":"NORMSINV(1-(0.5*(1-A60)))","v":1.9599639845400536},{"$f":"NORMSINV(B60)","v":1.0364333894937898},{"$f":"(C60+D60)^2","v":8.9783972231169127},7.0000000000000001E-3,0.6,{"$f":"F60*(1-G60)","v":2.8000000000000004E-3},1,2000,{"$f":"I60*J60*0.95","v":1900},0.3,{"$f":"1+E60*(((F60+H60)/K60)+(L60*L60)*((F60*F60)+(H60*H60)))/((F60-H60)^2)","v":6.2289975406445235},7]
[0.95,0.9,{"$f":"NORMSINV(1-(0.5*(1-A61)))","v":1.9599639845400536},{"$f":"NORMSINV(B61)","v":1.2815515655446006},{"$f":"(C61+D61)^2","v":10.507423061440617},1.4E-2,0.6,{"$f":"F61*(1-G61)","v":5.6000000000000008E-3},1,2000,{"$f":"I61*J61*0.95","v":1900},0.3,{"$f":"1+E61*(((F61+H61)/K61)+(L61*L61)*((F61*F61)+(H61*H61)))/((F61-H61)^2)","v":5.5833256500167012},6]
[0.95,0.9,{"$f":"NORMSINV(1-(0.5*(1-A62)))","v":1.9599639845400536},{"$f":"NORMSINV(B62)","v":1.2815515655446006},{"$f":"(C62+D62)^2","v":10.507423061440617},2.1000000000000001E-2,0.6,{"$f":"F62*(1-G62)","v":8.4000000000000012E-3},1,2000,{"$f":"I62*J62*0.95","v":1900},0.3,{"$f":"1+E62*(((F62+H62)/K62)+(L62*L62)*((F62*F62)+(H62*H62)))/((F62-H62)^2)","v":5.071267995950393},6]
[]
[]
[0.95,0.8,{"$f":"NORMSINV(1-(0.5*(1-A65)))","v":1.9599639845400536},{"$f":"NORMSINV(B65)","v":0.84162123357291474},{"$f":"(C65+D65)^2","v":7.8488797343490884},0.01,0.6,{"$f":"F65*(1-G65)","v":4.0000000000000001E-3},1,2000,{"$f":"I65*J65*0.95","v":1900},0.35,{"$f":"1+E65*(((F65+H65)/K65)+(L65*L65)*((F65*F65)+(H65*H65)))/((F65-H65)^2)","v":5.704623102756992},{"$f":"INT(M65)+1","v":6}]
[0.95,0.8,{"$f":"NORMSINV(1-(0.5*(1-A66)))","v":1.9599639845400536},{"$f":"NORMSINV(B66)","v":0.84162123357291474},{"$f":"(C66+D66)^2","v":7.8488797343490884},0.02,0.6,{"$f":"F66*(1-G66)","v":8.0000000000000002E-3},1,2000,{"$f":"I66*J66*0.95","v":1900},0.35,{"$f":"1+E66*(((F66+H66)/K66)+(L66*L66)*((F66*F66)+(H66*H66)))/((F66-H66)^2)","v":4.9013751767271145},{"$f":"INT(M66)+1","v":5}]
[0.95,0.8,{"$f":"NORMSINV(1-(0.5*(1-A67)))","v":1.9599639845400536},{"$f":"NORMSINV(B67)","v":0.84162123357291474},{"$f":"(C67+D67)^2","v":7.8488797343490884},0.04,0.6,{"$f":"F67*(1-G67)","v":1.6E-2},1,2000,{"$f":"I67*J67*0.95","v":1900},0.35,{"$f":"1+E67*(((F67+H67)/K67)+(L67*L67)*((F67*F67)+(H67*H67)))/((F67-H67)^2)","v":4.4997512137121758},5]
[]
[0.95,0.9,{"$f":"NORMSINV(1-(0.5*(1-A69)))","v":1.9599639845400536},{"$f":"NORMSINV(B69)","v":1.2815515655446006},{"$f":"(C69+D69)^2","v":10.507423061440617},0.01,0.6,{"$f":"F69*(1-G69)","v":4.0000000000000001E-3},1,2000,{"$f":"I69*J69*0.95","v":1900},0.35,{"$f":"1+E69*(((F69+H69)/K69)+(L69*L69)*((F69*F69)+(H69*H69)))/((F69-H69)^2)","v":7.2981555277193539},8]
[0.95,0.9,{"$f":"NORMSINV(1-(0.5*(1-A70)))","v":1.9599639845400536},{"$f":"NORMSINV(B70)","v":1.2815515655446006},{"$f":"(C70+D70)^2","v":10.507423061440617},0.02,0.6,{"$f":"F70*(1-G70)","v":8.0000000000000002E-3},1,2000,{"$f":"I70*J70*0.95","v":1900},0.35,{"$f":"1+E70*(((F70+H70)/K70)+(L70*L70)*((F70*F70)+(H70*H70)))/((F70-H70)^2)","v":6.2228344541801093},7]
[0.95,0.9,{"$f":"NORMSINV(1-(0.5*(1-A71)))","v":1.9599639845400536},{"$f":"NORMSINV(B71)","v":1.2815515655446006},{"$f":"(C71+D71)^2","v":10.507423061440617},0.04,0.6,{"$f":"F71*(1-G71)","v":1.6E-2},1,2000,{"$f":"I71*J71*0.95","v":1900},0.35,{"$f":"1+E71*(((F71+H71)/K71)+(L71*L71)*((F71*F71)+(H71*H71)))/((F71-H71)^2)","v":5.6851739174104869},6]
[]
[0.95,0.8,{"$f":"NORMSINV(1-(0.5*(1-A73)))","v":1.9599639845400536},{"$f":"NORMSINV(B73)","v":0.84162123357291474},{"$f":"(C73+D73)^2","v":7.8488797343490884},8.9999999999999993E-3,0.6,{"$f":"F73*(1-G73)","v":3.5999999999999999E-3},1,2000,{"$f":"I73*J73*0.95","v":1900},0.35,{"$f":"1+E73*(((F73+H73)/K73)+(L73*L73)*((F73*F73)+(H73*H73)))/((F73-H73)^2)","v":5.8831226418747429},{"$f":"INT(M73)+1","v":6}]
[0.95,0.8,{"$f":"NORMSINV(1-(0.5*(1-A74)))","v":1.9599639845400536},{"$f":"NORMSINV(B74)","v":0.84162123357291474},{"$f":"(C74+D74)^2","v":7.8488797343490884},1.7999999999999999E-2,0.6,{"$f":"F74*(1-G74)","v":7.1999999999999998E-3},1,2000,{"$f":"I74*J74*0.95","v":1900},0.35,{"$f":"1+E74*(((F74+H74)/K74)+(L74*L74)*((F74*F74)+(H74*H74)))/((F74-H74)^2)","v":4.9906249462859904},{"$f":"INT(M74)+1","v":5}]
[0.95,0.8,{"$f":"NORMSINV(1-(0.5*(1-A75)))","v":1.9599639845400536},{"$f":"NORMSINV(B75)","v":0.84162123357291474},{"$f":"(C75+D75)^2","v":7.8488797343490884},2.7E-2,0.6,{"$f":"F75*(1-G75)","v":1.0800000000000001E-2},1,2000,{"$f":"I75*J75*0.95","v":1900},0.35,{"$f":"1+E75*(((F75+H75)/K75)+(L75*L75)*((F75*F75)+(H75*H75)))/((F75-H75)^2)","v":4.6931257144230729},5]
[]
[0.95,0.9,{"$f":"NORMSINV(1-(0.5*(1-A77)))","v":1.9599639845400536},{"$f":"NORMSINV(B77)","v":1.2815515655446006},{"$f":"(C77+D77)^2","v":10.507423061440617},8.9999999999999993E-3,0.6,{"$f":"F77*(1-G77)","v":3.5999999999999999E-3},1,2000,{"$f":"I77*J77*0.95","v":1900},0.35,{"$f":"1+E77*(((F77+H77)/K77)+(L77*L77)*((F77*F77)+(H77*H77)))/((F77-H77)^2)","v":7.5371157662836303},8]
[0.95,0.9,{"$f":"NORMSINV(1-(0.5*(1-A78)))","v":1.9599639845400536},{"$f":"NORMSINV(B78)","v":1.2815515655446006},{"$f":"(C78+D78)^2","v":10.507423061440617},1.7999999999999999E-2,0.6,{"$f":"F78*(1-G78)","v":7.1999999999999998E-3},1,2000,{"$f":"I78*J78*0.95","v":1900},0.35,{"$f":"1+E78*(((F78+H78)/K78)+(L78*L78)*((F78*F78)+(H78*H78)))/((F78-H78)^2)","v":6.3423145734622475},7]
[0.95,0.9,{"$f":"NORMSINV(1-(0.5*(1-A79)))","v":1.9599639845400536},{"$f":"NORMSINV(B79)","v":1.2815515655446006},{"$f":"(C79+D79)^2","v":10.507423061440617},2.7E-2,0.6,{"$f":"F79*(1-G79)","v":1.0800000000000001E-2},1,2000,{"$f":"I79*J79*0.95","v":1900},0.35,{"$f":"1+E79*(((F79+H79)/K79)+(L79*L79)*((F79*F79)+(H79*H79)))/((F79-H79)^2)","v":5.9440475091884553},6]
[]
[0.95,0.8,{"$f":"NORMSINV(1-(0.5*(1-A81)))","v":1.9599639845400536},{"$f":"NORMSINV(B81)","v":0.84162123357291474},{"$f":"(C81+D81)^2","v":7.8488797343490884},7.0000000000000001E-3,0.6,{"$f":"F81*(1-G81)","v":2.8000000000000004E-3},1,2000,{"$f":"I81*J81*0.95","v":1900},0.35,{"$f":"1+E81*(((F81+H81)/K81)+(L81*L81)*((F81*F81)+(H81*H81)))/((F81-H81)^2)","v":6.393121325068317},{"$f":"INT(M81)+1","v":7}]
[0.95,0.8,{"$f":"NORMSINV(1-(0.5*(1-A82)))","v":1.9599639845400536},{"$f":"NORMSINV(B82)","v":0.84162123357291474},{"$f":"(C82+D82)^2","v":7.8488797343490884},1.4E-2,0.6,{"$f":"F82*(1-G82)","v":5.6000000000000008E-3},1,2000,{"$f":"I82*J82*0.95","v":1900},0.35,{"$f":"1+E82*(((F82+H82)/K82)+(L82*L82)*((F82*F82)+(H82*H82)))/((F82-H82)^2)","v":5.2456242878827766},{"$f":"INT(M82)+1","v":6}]
[0.95,0.8,{"$f":"NORMSINV(1-(0.5*(1-A83)))","v":1.9599639845400536},{"$f":"NORMSINV(B83)","v":0.84162123357291474},{"$f":"(C83+D83)^2","v":7.8488797343490884},2.1000000000000001E-2,0.6,{"$f":"F83*(1-G83)","v":8.4000000000000012E-3},1,2000,{"$f":"I83*J83*0.95","v":1900},0.35,{"$f":"1+E83*(((F83+H83)/K83)+(L83*L83)*((F83*F83)+(H83*H83)))/((F83-H83)^2)","v":4.8631252754875964},5]
[]
[0.95,0.9,{"$f":"NORMSINV(1-(0.5*(1-A85)))","v":1.9599639845400536},{"$f":"NORMSINV(B85)","v":1.2815515655446006},{"$f":"(C85+D85)^2","v":10.507423061440617},7.0000000000000001E-3,0.6,{"$f":"F85*(1-G85)","v":2.8000000000000004E-3},1,2000,{"$f":"I85*J85*0.95","v":1900},0.35,{"$f":"1+E85*(((F85+H85)/K85)+(L85*L85)*((F85*F85)+(H85*H85)))/((F85-H85)^2)","v":8.2198593050387085},9]
[0.95,0.9,{"$f":"NORMSINV(1-(0.5*(1-A86)))","v":1.9599639845400536},{"$f":"NORMSINV(B86)","v":1.2815515655446006},{"$f":"(C86+D86)^2","v":10.507423061440617},1.4E-2,0.6,{"$f":"F86*(1-G86)","v":5.6000000000000008E-3},1,2000,{"$f":"I86*J86*0.95","v":1900},0.35,{"$f":"1+E86*(((F86+H86)/K86)+(L86*L86)*((F86*F86)+(H86*H86)))/((F86-H86)^2)","v":6.6836863428397875},7]
[0.95,0.9,{"$f":"NORMSINV(1-(0.5*(1-A87)))","v":1.9599639845400536},{"$f":"NORMSINV(B87)","v":1.2815515655446006},{"$f":"(C87+D87)^2","v":10.507423061440617},2.1000000000000001E-2,0.6,{"$f":"F87*(1-G87)","v":8.4000000000000012E-3},1,2000,{"$f":"I87*J87*0.95","v":1900},0.35,{"$f":"1+E87*(((F87+H87)/K87)+(L87*L87)*((F87*F87)+(H87*H87)))/((F87-H87)^2)","v":6.1716286887734793},7]

{"sheet":"Mask1","index":4,"n_rows":5014,"n_cols":16,"rows_kept":5014,"cut":false,"hidden":false,"merged":[[45,5,45,7],[13,1,13,2],[15,1,15,2],[1,0,1,7],[29,3,29,4],[13,3,13,4],[15,3,15,4]]}
[]
["CRVS-VA Sample Size Calculator Tool v 1.0"]
[]
[]
[]
[null,"Country    ","Spain "]
[]
[null,"Subnational (optional)    "]
[]
[null,"Year    ",2010]
[]
["Please select how do you want to use this tool:"]
[]
[null,"I want to estimate the number of clusters to be sampled based on an acceptable uncertainty range for detecting significant CSMF changes",null,"Uncertainty range for the cause of death closest to 1.0% CSMF (+/-)",null,0.25,null,null,null,null,"Name of the cluster unit","Cluster population size","Crude Death Rate (CDR) per 1,000","Expected annual number of deaths"]
[null,null,null,null,null,null,null,null,null,null,null,null,null,{"$f":"IFERROR(M15*L15/1000,\"\")","v":0},1,{"$f":"IFERROR(INDEX($N$15:$N$5014,MATCH(ROW()-ROW($O$14),$O$15:$O$5014,0)),\"\")","v":0}]
[null,"I want to estimate the uncertainty range for detecting significant CSMF changes based on the number of clusters I wish to sample",null,"Number of Clusters",null,178,null,null,null,null,null,null,null,{"$f":"IFERROR(M16*L16/1000,\"\")","v":0},{"$f":"IF(N16=0,\"\",MAX(O$15:O15)+1)","v":""},{"$f":"IFERROR(INDEX($N$15:$N$5014,MATCH(ROW()-ROW($O$14),$O$15:$O$5014,0)),\"\")","v":""}]
[null,null,null,null,null,null,null,null,null,null,null,null,null,0,{"$f":"IF(N17=0,\"\",MAX(O$15:O16)+1)","v":""},""]
[null,"(a) Do you want to calculate your sample size in order to be able to disaggregate your results by male and female?","Yes",null,null,null,null,null,null,null,null,null,null,0,{"$f":"IF(N18=0,\"\",MAX(O$15:O17)+1)","v":""},""]
[null,null,null,null,null,null,null,null,null,null,null,null,null,0,{"$f":"IF(N19=0,\"\",MAX(O$15:O18)+1)","v":""},""]
[null,"(b) Do you know the population size of each eligible clusters?","No",null,null,null,null,null,null,null,null,null,null,0,{"$f":"IF(N20=0,\"\",MAX(O$15:O19)+1)","v":""},""]
[null,null,null,null,null,null,null,null,null,null,null,null,null,0,{"$f":"IF(N21=0,\"\",MAX(O$15:O20)+1)","v":""},""]
["Assumptions in your sampling strategy",null,null,null,null,null,null,null,null,null,null,null,null,0,{"$f":"IF(N22=0,\"\",MAX(O$15:O21)+1)","v":""},""]
[null,null,null,null,null,null,null,null,null,null,null,null,null,0,{"$f":"IF(N23=0,\"\",MAX(O$15:O22)+1)","v":""},""]
[null,"Power",0.8,null,null,null,null,null,null,null,null,null,null,0,{"$f":"IF(N24=0,\"\",MAX(O$15:O23)+1)","v":""},""]
[null,null,null,null,null,null,null,null,null,null,null,null,null,0,{"$f":"IF(N25=0,\"\",MAX(O$15:O24)+1)","v":""},""]
[null,"Significance Level",0.05,null,null,null,null,null,null,null,null,null,null,0,{"$f":"IF(N26=0,\"\",MAX(O$15:O25)+1)","v":""},""]
[null,null,null,null,null,null,null,null,null,null,null,null,null,0,{"$f":"IF(N27=0,\"\",MAX(O$15:O26)+1)","v":""},""]
[null,"Mean population per cluster",18000,null,null,null,null,null,null,null,null,null,null,0,{"$f":"IF(N28=0,\"\",MAX(O$15:O27)+1)","v":""},""]
[null,null,null,null,null,null,null,null,null,null,null,null,null,0,{"$f":"IF(N29=0,\"\",MAX(O$15:O28)+1)","v":""},""]
[null,"Crude Death Rate (CDR) per 1,000",6.5,"Expected annual mean number of deaths per cluster based on national CDR",null,{"$f":"cluster_pop*CDR/1000","v":117},null,null,null,null,null,null,null,0,{"$f":"IF(N30=0,\"\",MAX(O$15:O29)+1)","v":""},""]
[null,null,null,null,null,null,null,null,null,null,null,null,null,0,{"$f":"IF(N31=0,\"\",MAX(O$15:O30)+1)","v":""},""]
[null,"Expected annual mean number of deaths per cluster",{"$f":"IF(C20=\"Yes\",IFERROR(HARMEAN(HarmonicMeanRange),0),F30)","v":117},null,null,null,null,null,null,null,null,null,null,0,{"$f":"IF(N32=0,\"\",MAX(O$15:O31)+1)","v":""},""]
[null,null,null,null,null,null,null,null,null,null,null,null,null,0,{"$f":"IF(N33=0,\"\",MAX(O$15:O32)+1)","v":""},""]
[null,"k",0.25,null,null,null,null,null,null,null,null,null,null,0,{"$f":"IF(N34=0,\"\",MAX(O$15:O33)+1)","v":""},""]
[null,null,null,null,null,null,null,null,null,null,null,null,null,0,{"$f":"IF(N35=0,\"\",MAX(O$15:O34)+1)","v":""},""]
[null,"MIS",{"$f":"IF(C20=\"Yes\", 1,1.5)","v":1.5},null,null,null,null,null,null,null,null,null,null,0,{"$f":"IF(N36=0,\"\",MAX(O$15:O35)+1)","v":""},""]
[null,null,null,null,null,null,null,null,null,null,null,null,null,0,{"$f":"IF(N37=0,\"\",MAX(O$15:O36)+1)","v":""},""]
[null,"Number of years to aggregate for trend (Years of follow up)",1,null,null,null,null,null,null,null,null,null,null,0,{"$f":"IF(N38=0,\"\",MAX(O$15:O37)+1)","v":""},""]
[null,null,null,null,null,null,null,null,null,null,null,null,null,0,{"$f":"IF(N39=0,\"\",MAX(O$15:O38)+1)","v":""},""]
[null,"Percentage of all deaths with a MCCD or occuring within health facilities",0.3,null,null,null,null,null,null,null,null,null,null,0,{"$f":"IF(N40=0,\"\",MAX(O$15:O39)+1)","v":""},""]
[null,null,null,null,null,null,null,null,null,null,null,null,null,0,{"$f":"IF(N41=0,\"\",MAX(O$15:O40)+1)","v":""},""]
[null,"Under-notification and non-response (%)",0.1,null,null,null,null,null,null,null,null,null,null,0,{"$f":"IF(N42=0,\"\",MAX(O$15:O41)+1)","v":""},""]
[null,null,null,null,null,null,null,null,null,null,null,null,null,0,{"$f":"IF(N43=0,\"\",MAX(O$15:O42)+1)","v":""},""]
[null,null,null,null,null,null,null,null,null,null,null,null,null,0,{"$f":"IF(N44=0,\"\",MAX(O$15:O43)+1)","v":""},""]
["Results",null,null,null,null,null,null,null,null,null,null,null,null,0,{"$f":"IF(N45=0,\"\",MAX(O$15:O44)+1)","v":""},""]
[null,null,null,null,null,"CSMF UNCERTAINTY RANGES",null,null,null,null,null,null,null,0,{"$f":"IF(N46=0,\"\",MAX(O$15:O45)+1)","v":""},""]
[null,null,null,null,"CSMF level","Uncertainty\n(% of CSMF)","Lower bound","Upper bound",null,null,null,null,null,0,{"$f":"IF(N47=0,\"\",MAX(O$15:O46)+1)","v":""},""]
[null,null,null,null,{"$f":"HavePREC_prop_matched_hayes!G5","v":0.25},{"$f":"IF(Lists!$E$2=\"HavePREC\",HavePREC_prop_matched_hayes!H5,HaveCLUSTER_prop_matched_hayes!H5)","v":0.15850284258882597},{"$f":"IF((E48-E48*F48)<0,0,E48-E48*F48)","v":0.21037428935279351},{"$f":"E48+E48*F48","v":0.28962571064720649},null,null,null,null,null,0,{"$f":"IF(N48=0,\"\",MAX(O$15:O47)+1)","v":""},""]
[null,null,null,null,{"$f":"HavePREC_prop_matched_hayes!G6","v":0.2},{"$f":"IF(Lists!$E$2=\"HavePREC\",HavePREC_prop_matched_hayes!H6,HaveCLUSTER_prop_matched_hayes!H6)","v":0.16834934098783116},{"$f":"IF((E49-E49*F49)<0,0,E49-E49*F49)","v":0.16633013180243378},{"$f":"E49+E49*F49","v":0.23366986819756624},null,null,null,null,null,0,{"$f":"IF(N49=0,\"\",MAX(O$15:O48)+1)","v":""},""]
[null,"Number of clusters required",{"$f":"INT(IF(Lists!E2=\"HavePREC\",HavePREC_prop_matched_hayes!O4,HaveCLUSTER_prop_matched_hayes!O4))","v":178},null,{"$f":"HavePREC_prop_matched_hayes!G7","v":0.15},{"$f":"IF(Lists!$E$2=\"HavePREC\",HavePREC_prop_matched_hayes!H7,HaveCLUSTER_prop_matched_hayes!H7)","v":0.18345939577826931},0.1224810906332596,0.17751890936674039,null,null,null,null,null,0,{"$f":"IF(N50=0,\"\",MAX(O$15:O49)+1)","v":""},""]
[null,null,null,null,{"$f":"HavePREC_prop_matched_hayes!G8","v":0.125},{"$f":"IF(Lists!$E$2=\"HavePREC\",HavePREC_prop_matched_hayes!H8,HaveCLUSTER_prop_matched_hayes!H8)","v":0.19460003434900941},0.10067499570637382,0.14932500429362616,null,null,null,null,null,0,{"$f":"IF(N51=0,\"\",MAX(O$15:O50)+1)","v":""},""]
[null,"Estimated total population in the sample",{"$f":"cluster_pop*Mask1!C50","v":3204000},null,{"$f":"HavePREC_prop_matched_hayes!G9","v":0.1},{"$f":"IF(Lists!$E$2=\"HavePREC\",HavePREC_prop_matched_hayes!H9,HaveCLUSTER_prop_matched_hayes!H9)","v":0.21005517181976285},7.8994482818023723E-2,0.12100551718197629,null,null,null,null,null,0,{"$f":"IF(N52=0,\"\",MAX(O$15:O51)+1)","v":""},""]
[null,null,null,null,{"$f":"HavePREC_prop_matched_hayes!G10","v":7.4999999999999997E-2},{"$f":"IF(Lists!$E$2=\"HavePREC\",HavePREC_prop_matched_hayes!H10,HaveCLUSTER_prop_matched_hayes!H10)","v":0.23321548619441557},5.7508838535418827E-2,9.2491161464581167E-2,null,null,null,null,null,0,{"$f":"IF(N53=0,\"\",MAX(O$15:O52)+1)","v":""},""]
[null,"Estimated number of deaths in the sample per year",{"$f":"ROUNDUP(Expected_deaths*C50,0)","v":20826},null,{"$f":"HavePREC_prop_matched_hayes!G11","v":0.05},{"$f":"IF(Lists!$E$2=\"HavePREC\",HavePREC_prop_matched_hayes!H11,HaveCLUSTER_prop_matched_hayes!H11)","v":0.27276455714176684},3.6361772142911662E-2,6.363822785708835E-2,null,null,null,null,null,0,{"$f":"IF(N54=0,\"\",MAX(O$15:O53)+1)","v":""},""]
[null,null,null,null,{"$f":"HavePREC_prop_matched_hayes!G12","v":0.03},{"$f":"IF(Lists!$E$2=\"HavePREC\",HavePREC_prop_matched_hayes!H12,HaveCLUSTER_prop_matched_hayes!H12)","v":0.33569400798981008},1.9929179760305699E-2,4.0070820239694299E-2,null,null,null,null,null,0,{"$f":"IF(N55=0,\"\",MAX(O$15:O54)+1)","v":""},""]
[null,"Estimated number of VAs needed per year",{"$f":"ROUNDUP(C54*(1-PriorMCCD)*(1-NonResponse),0)","v":13121},null,{"$f":"HavePREC_prop_matched_hayes!G13","v":0.02},{"$f":"IF(Lists!$E$2=\"HavePREC\",HavePREC_prop_matched_hayes!H13,HaveCLUSTER_prop_matched_hayes!H13)","v":0.39743062933824491},1.2051387413235103E-2,2.7948612586764898E-2,null,null,null,null,null,0,{"$f":"IF(N56=0,\"\",MAX(O$15:O55)+1)","v":""},""]
[null,null,null,null,{"$f":"HavePREC_prop_matched_hayes!G14","v":0.01},{"$f":"IF(Lists!$E$2=\"HavePREC\",HavePREC_prop_matched_hayes!H14,HaveCLUSTER_prop_matched_hayes!H14)","v":0.53023700930836848},4.6976299069163155E-3,1.5302370093083686E-2,null,null,null,null,null,0,{"$f":"IF(N57=0,\"\",MAX(O$15:O56)+1)","v":""},""]
[null,null,null,null,null,null,null,null,null,null,null,null,null,0,{"$f":"IF(N58=0,\"\",MAX(O$15:O57)+1)","v":""},""]
[null,null,null,null,null,null,null,null,null,null,null,null,null,0,{"$f":"IF(N59=0,\"\",MAX(O$15:O58)+1)","v":""},""]
[null,"This tool has been developed by SwissTPH in collaboration with WHO, CDC, LSHTM, Vital Strategies and the University of Melbourne",null,null,null,null,null,null,null,null,null,null,null,0,{"$f":"IF(N60=0,\"\",MAX(O$15:O59)+1)","v":""},""]
[null,"For more information contact daniel.cobos@swisstph.ch",null,null,null,null,null,null,null,null,null,null,null,0,{"$f":"IF(N61=0,\"\",MAX(O$15:O60)+1)","v":""},""]
[null,null,null,null,null,null,null,null,null,null,null,null,null,0,{"$f":"IF(N62=0,\"\",MAX(O$15:O61)+1)","v":""},""]
[null,null,null,null,null,null,null,null,null,null,null,null,null,0,{"$f":"IF(N63=0,\"\",MAX(O$15:O62)+1)","v":""},""]
[null,null,null,null,null,null,null,null,null,null,null,null,null,0,{"$f":"IF(N64=0,\"\",MAX(O$15:O63)+1)","v":""},""]
[null,null,null,null,null,null,null,null,null,null,null,null,null,0,{"$f":"IF(N65=0,\"\",MAX(O$15:O64)+1)","v":""},""]
[null,null,null,null,null,null,null,null,null,null,null,null,null,0,{"$f":"IF(N66=0,\"\",MAX(O$15:O65)+1)","v":""},""]
[null,null,null,null,null,null,null,null,null,null,null,null,null,0,{"$f":"IF(N67=0,\"\",MAX(O$15:O66)+1)","v":""},""]
[null,null,null,null,null,null,null,null,null,null,null,null,null,0,{"$f":"IF(N68=0,\"\",MAX(O$15:O67)+1)","v":""},""]
[null,null,null,null,null,null,null,null,null,null,null,null,null,0,{"$f":"IF(N69=0,\"\",MAX(O$15:O68)+1)","v":""},""]
[null,null,null,null,null,null,null,null,null,null,null,null,null,0,{"$f":"IF(N70=0,\"\",MAX(O$15:O69)+1)","v":""},""]
[null,null,null,null,null,null,null,null,null,null,null,null,null,0,{"$f":"IF(N71=0,\"\",MAX(O$15:O70)+1)","v":""},""]
[null,null,null,null,null,null,null,null,null,null,null,null,null,0,{"$f":"IF(N72=0,\"\",MAX(O$15:O71)+1)","v":""},""]
[null,null,null,null,null,null,null,null,null,null,null,null,null,0,{"$f":"IF(N73=0,\"\",MAX(O$15:O72)+1)","v":""},""]
[null,null,null,null,null,null,null,null,null,null,null,null,null,0,{"$f":"IF(N74=0,\"\",MAX(O$15:O73)+1)","v":""},""]
[null,null,null,null,null,null,null,null,null,null,null,null,null,0,{"$f":"IF(N75=0,\"\",MAX(O$15:O74)+1)","v":""},""]
[null,null,null,null,null,null,null,null,null,null,null,null,null,0,{"$f":"IF(N76=0,\"\",MAX(O$15:O75)+1)","v":""},""]
[null,null,null,null,null,null,null,null,null,null,null,null,null,0,{"$f":"IF(N77=0,\"\",MAX(O$15:O76)+1)","v":""},""]
[null,null,null,null,null,null,null,null,null,null,null,null,null,{"$f":"IFERROR(M78*L78/1000,\"\")","v":0},{"$f":"IF(N78=0,\"\",MAX(O$15:O77)+1)","v":""},""]
[null,null,null,null,null,null,null,null,null,null,null,null,null,0,{"$f":"IF(N79=0,\"\",MAX(O$15:O78)+1)","v":""},""]
[null,null,null,null,null,null,null,null,null,null,null,null,null,0,{"$f":"IF(N80=0,\"\",MAX(O$15:O79)+1)","v":""},{"$f":"IFERROR(INDEX($N$15:$N$5014,MATCH(ROW()-ROW($O$14),$O$15:$O$5014,0)),\"\")","v":""}]
[null,null,null,null,null,null,null,null,null,null,null,null,null,0,{"$f":"IF(N81=0,\"\",MAX(O$15:O80)+1)","v":""},""]
[null,null,null,null,null,null,null,null,null,null,null,null,null,0,{"$f":"IF(N82=0,\"\",MAX(O$15:O81)+1)","v":""},""]
[null,null,null,null,null,null,null,null,null,null,null,null,null,0,{"$f":"IF(N83=0,\"\",MAX(O$15:O82)+1)","v":""},""]
[null,null,null,null,null,null,null,null,null,null,null,null,null,0,{"$f":"IF(N84=0,\"\",MAX(O$15:O83)+1)","v":""},""]
[null,null,null,null,null,null,null,null,null,null,null,null,null,0,{"$f":"IF(N85=0,\"\",MAX(O$15:O84)+1)","v":""},""]
[null,null,null,null,null,null,null,null,null,null,null,null,null,0,{"$f":"IF(N86=0,\"\",MAX(O$15:O85)+1)","v":""},""]
[null,null,null,null,null,null,null,null,null,null,null,null,null,0,{"$f":"IF(N87=0,\"\",MAX(O$15:O86)+1)","v":""},""]
[null,null,null,null,null,null,null,null,null,null,null,null,null,0,{"$f":"IF(N88=0,\"\",MAX(O$15:O87)+1)","v":""},""]
[null,null,null,null,null,null,null,null,null,null,null,null,null,0,{"$f":"IF(N89=0,\"\",MAX(O$15:O88)+1)","v":""},""]
[null,null,null,null,null,null,null,null,null,null,null,null,null,0,{"$f":"IF(N90=0,\"\",MAX(O$15:O89)+1)","v":""},""]
[null,null,null,null,null,null,null,null,null,null,null,null,null,0,{"$f":"IF(N91=0,\"\",MAX(O$15:O90)+1)","v":""},""]
[null,null,null,null,null,null,null,null,null,null,null,null,null,0,{"$f":"IF(N92=0,\"\",MAX(O$15:O91)+1)","v":""},""]
[null,null,null,null,null,null,null,null,null,null,null,null,null,0,{"$f":"IF(N93=0,\"\",MAX(O$15:O92)+1)","v":""},""]
[null,null,null,null,null,null,null,null,null,null,null,null,null,0,{"$f":"IF(N94=0,\"\",MAX(O$15:O93)+1)","v":""},""]
[null,null,null,null,null,null,null,null,null,null,null,null,null,0,{"$f":"IF(N95=0,\"\",MAX(O$15:O94)+1)","v":""},""]
[null,null,null,null,null,null,null,null,null,null,null,null,null,0,{"$f":"IF(N96=0,\"\",MAX(O$15:O95)+1)","v":""},""]
[null,null,null,null,null,null,null,null,null,null,null,null,null,0,{"$f":"IF(N97=0,\"\",MAX(O$15:O96)+1)","v":""},""]
[null,null,null,null,null,null,null,null,null,null,null,null,null,0,{"$f":"IF(N98=0,\"\",MAX(O$15:O97)+1)","v":""},""]
[null,null,null,null,null,null,null,null,null,null,null,null,null,0,{"$f":"IF(N99=0,\"\",MAX(O$15:O98)+1)","v":""},""]
[null,null,null,null,null,null,null,null,null,null,null,null,null,0,{"$f":"IF(N100=0,\"\",MAX(O$15:O99)+1)","v":""},""]
[null,null,null,null,null,null,null,null,null,null,null,null,null,0,{"$f":"IF(N101=0,\"\",MAX(O$15:O100)+1)","v":""},""]
[null,null,null,null,null,null,null,null,null,null,null,null,null,0,{"$f":"IF(N102=0,\"\",MAX(O$15:O101)+1)","v":""},""]
[null,null,null,null,null,null,null,null,null,null,null,null,null,0,{"$f":"IF(N103=0,\"\",MAX(O$15:O102)+1)","v":""},""]
[null,null,null,null,null,null,null,null,null,null,null,null,null,0,{"$f":"IF(N104=0,\"\",MAX(O$15:O103)+1)","v":""},""]
[null,null,null,null,null,null,null,null,null,null,null,null,null,0,{"$f":"IF(N105=0,\"\",MAX(O$15:O104)+1)","v":""},""]
[null,null,null,null,null,null,null,null,null,null,null,null,null,0,{"$f":"IF(N106=0,\"\",MAX(O$15:O105)+1)","v":""},""]
[null,null,null,null,null,null,null,null,null,null,null,null,null,0,{"$f":"IF(N107=0,\"\",MAX(O$15:O106)+1)","v":""},""]
[null,null,null,null,null,null,null,null,null,null,null,null,null,0,{"$f":"IF(N108=0,\"\",MAX(O$15:O107)+1)","v":""},""]
[null,null,null,null,null,null,null,null,null,null,null,null,null,0,{"$f":"IF(N109=0,\"\",MAX(O$15:O108)+1)","v":""},""]
[null,null,null,null,null,null,null,null,null,null,null,null,null,0,{"$f":"IF(N110=0,\"\",MAX(O$15:O109)+1)","v":""},""]
[null,null,null,null,null,null,null,null,null,null,null,null,null,0,{"$f":"IF(N111=0,\"\",MAX(O$15:O110)+1)","v":""},""]
[null,null,null,null,null,null,null,null,null,null,null,null,null,0,{"$f":"IF(N112=0,\"\",MAX(O$15:O111)+1)","v":""},""]
[null,null,null,null,null,null,null,null,null,null,null,null,null,0,{"$f":"IF(N113=0,\"\",MAX(O$15:O112)+1)","v":""},""]
[null,null,null,null,null,null,null,null,null,null,null,null,null,0,{"$f":"IF(N114=0,\"\",MAX(O$15:O113)+1)","v":""},""]
[null,null,null,null,null,null,null,null,null,null,null,null,null,0,{"$f":"IF(N115=0,\"\",MAX(O$15:O114)+1)","v":""},""]
[null,null,null,null,null,null,null,null,null,null,null,null,null,0,{"$f":"IF(N116=0,\"\",MAX(O$15:O115)+1)","v":""},""]
[null,null,null,null,null,null,null,null,null,null,null,null,null,0,{"$f":"IF(N117=0,\"\",MAX(O$15:O116)+1)","v":""},""]
[null,null,null,null,null,null,null,null,null,null,null,null,null,0,{"$f":"IF(N118=0,\"\",MAX(O$15:O117)+1)","v":""},""]
[null,null,null,null,null,null,null,null,null,null,null,null,null,0,{"$f":"IF(N119=0,\"\",MAX(O$15:O118)+1)","v":""},""]
[null,null,null,null,null,null,null,null,null,null,null,null,null,0,{"$f":"IF(N120=0,\"\",MAX(O$15:O119)+1)","v":""},""]
[null,null,null,null,null,null,null,null,null,null,null,null,null,0,{"$f":"IF(N121=0,\"\",MAX(O$15:O120)+1)","v":""},""]
[null,null,null,null,null,null,null,null,null,null,null,null,null,0,{"$f":"IF(N122=0,\"\",MAX(O$15:O121)+1)","v":""},""]
[null,null,null,null,null,null,null,null,null,null,null,null,null,0,{"$f":"IF(N123=0,\"\",MAX(O$15:O122)+1)","v":""},""]
[null,null,null,null,null,null,null,null,null,null,null,null,null,0,{"$f":"IF(N124=0,\"\",MAX(O$15:O123)+1)","v":""},""]
[null,null,null,null,null,null,null,null,null,null,null,null,null,0,{"$f":"IF(N125=0,\"\",MAX(O$15:O124)+1)","v":""},""]
[null,null,null,null,null,null,null,null,null,null,null,null,null,0,{"$f":"IF(N126=0,\"\",MAX(O$15:O125)+1)","v":""},""]
[null,null,null,null,null,null,null,null,null,null,null,null,null,0,{"$f":"IF(N127=0,\"\",MAX(O$15:O126)+1)","v":""},""]
[null,null,null,null,null,null,null,null,null,null,null,null,null,0,{"$f":"IF(N128=0,\"\",MAX(O$15:O127)+1)","v":""},""]
[null,null,null,null,null,null,null,null,null,null,null,null,null,0,{"$f":"IF(N129=0,\"\",MAX(O$15:O128)+1)","v":""},""]
[null,null,null,null,null,null,null,null,null,null,null,null,null,0,{"$f":"IF(N130=0,\"\",MAX(O$15:O129)+1)","v":""},""]
[null,null,null,null,null,null,null,null,null,null,null,null,null,0,{"$f":"IF(N131=0,\"\",MAX(O$15:O130)+1)","v":""},""]
[null,null,null,null,null,null,null,null,null,null,null,null,null,0,{"$f":"IF(N132=0,\"\",MAX(O$15:O131)+1)","v":""},""]
[null,null,null,null,null,null,null,null,null,null,null,null,null,0,{"$f":"IF(N133=0,\"\",MAX(O$15:O132)+1)","v":""},""]
[null,null,null,null,null,null,null,null,null,null,null,null,null,0,{"$f":"IF(N134=0,\"\",MAX(O$15:O133)+1)","v":""},""]
[null,null,null,null,null,null,null,null,null,null,null,null,null,0,{"$f":"IF(N135=0,\"\",MAX(O$15:O134)+1)","v":""},""]
[null,null,null,null,null,null,null,null,null,null,null,null,null,0,{"$f":"IF(N136=0,\"\",MAX(O$15:O135)+1)","v":""},""]
[null,null,null,null,null,null,null,null,null,null,null,null,null,0,{"$f":"IF(N137=0,\"\",MAX(O$15:O136)+1)","v":""},""]
[null,null,null,null,null,null,null,null,null,null,null,null,null,0,{"$f":"IF(N138=0,\"\",MAX(O$15:O137)+1)","v":""},""]
[null,null,null,null,null,null,null,null,null,null,null,null,null,0,{"$f":"IF(N139=0,\"\",MAX(O$15:O138)+1)","v":""},""]
[null,null,null,null,null,null,null,null,null,null,null,null,null,0,{"$f":"IF(N140=0,\"\",MAX(O$15:O139)+1)","v":""},""]
[null,null,null,null,null,null,null,null,null,null,null,null,null,0,{"$f":"IF(N141=0,\"\",MAX(O$15:O140)+1)","v":""},""]
[null,null,null,null,null,null,null,null,null,null,null,null,null,{"$f":"IFERROR(M142*L142/1000,\"\")","v":0},{"$f":"IF(N142=0,\"\",MAX(O$15:O141)+1)","v":""},""]
[null,null,null,null,null,null,null,null,null,null,null,null,null,0,{"$f":"IF(N143=0,\"\",MAX(O$15:O142)+1)","v":""},""]
[null,null,null,null,null,null,null,null,null,null,null,null,null,0,{"$f":"IF(N144=0,\"\",MAX(O$15:O143)+1)","v":""},{"$f":"IFERROR(INDEX($N$15:$N$5014,MATCH(ROW()-ROW($O$14),$O$15:$O$5014,0)),\"\")","v":""}]
[null,null,null,null,null,null,null,null,null,null,null,null,null,0,{"$f":"IF(N145=0,\"\",MAX(O$15:O144)+1)","v":""},""]
[null,null,null,null,null,null,null,null,null,null,null,null,null,0,{"$f":"IF(N146=0,\"\",MAX(O$15:O145)+1)","v":""},""]
[null,null,null,null,null,null,null,null,null,null,null,null,null,0,{"$f":"IF(N147=0,\"\",MAX(O$15:O146)+1)","v":""},""]
[null,null,null,null,null,null,null,null,null,null,null,null,null,0,{"$f":"IF(N148=0,\"\",MAX(O$15:O147)+1)","v":""},""]
[null,null,null,null,null,null,null,null,null,null,null,null,null,0,{"$f":"IF(N149=0,\"\",MAX(O$15:O148)+1)","v":""},""]
[null,null,null,null,null,null,null,null,null,null,null,null,null,0,{"$f":"IF(N150=0,\"\",MAX(O$15:O149)+1)","v":""},""]
[null,null,null,null,null,null,null,null,null,null,null,null,null,0,{"$f":"IF(N151=0,\"\",MAX(O$15:O150)+1)","v":""},""]
[null,null,null,null,null,null,null,null,null,null,null,null,null,0,{"$f":"IF(N152=0,\"\",MAX(O$15:O151)+1)","v":""},""]
[null,null,null,null,null,null,null,null,null,null,null,null,null,0,{"$f":"IF(N153=0,\"\",MAX(O$15:O152)+1)","v":""},""]
[null,null,null,null,null,null,null,null,null,null,null,null,null,0,{"$f":"IF(N154=0,\"\",MAX(O$15:O153)+1)","v":""},""]
[null,null,null,null,null,null,null,null,null,null,null,null,null,0,{"$f":"IF(N155=0,\"\",MAX(O$15:O154)+1)","v":""},""]
[null,null,null,null,null,null,null,null,null,null,null,null,null,0,{"$f":"IF(N156=0,\"\",MAX(O$15:O155)+1)","v":""},""]
[null,null,null,null,null,null,null,null,null,null,null,null,null,0,{"$f":"IF(N157=0,\"\",MAX(O$15:O156)+1)","v":""},""]
[null,null,null,null,null,null,null,null,null,null,null,null,null,0,{"$f":"IF(N158=0,\"\",MAX(O$15:O157)+1)","v":""},""]
[null,null,null,null,null,null,null,null,null,null,null,null,null,0,{"$f":"IF(N159=0,\"\",MAX(O$15:O158)+1)","v":""},""]
[null,null,null,null,null,null,null,null,null,null,null,null,null,0,{"$f":"IF(N160=0,\"\",MAX(O$15:O159)+1)","v":""},""]
[null,null,null,null,null,null,null,null,null,null,null,null,null,0,{"$f":"IF(N161=0,\"\",MAX(O$15:O160)+1)","v":""},""]
[null,null,null,null,null,null,null,null,null,null,null,null,null,0,{"$f":"IF(N162=0,\"\",MAX(O$15:O161)+1)","v":""},""]
[null,null,null,null,null,null,null,null,null,null,null,null,null,0,{"$f":"IF(N163=0,\"\",MAX(O$15:O162)+1)","v":""},""]
[null,null,null,null,null,null,null,null,null,null,null,null,null,0,{"$f":"IF(N164=0,\"\",MAX(O$15:O163)+1)","v":""},""]
[null,null,null,null,null,null,null,null,null,null,null,null,null,0,{"$f":"IF(N165=0,\"\",MAX(O$15:O164)+1)","v":""},""]
[null,null,null,null,null,null,null,null,null,null,null,null,null,0,{"$f":"IF(N166=0,\"\",MAX(O$15:O165)+1)","v":""},""]
[null,null,null,null,null,null,null,null,null,null,null,null,null,0,{"$f":"IF(N167=0,\"\",MAX(O$15:O166)+1)","v":""},""]
[null,null,null,null,null,null,null,null,null,null,null,null,null,0,{"$f":"IF(N168=0,\"\",MAX(O$15:O167)+1)","v":""},""]
[null,null,null,null,null,null,null,null,null,null,null,null,null,0,{"$f":"IF(N169=0,\"\",MAX(O$15:O168)+1)","v":""},""]
[null,null,null,null,null,null,null,null,null,null,null,null,null,0,{"$f":"IF(N170=0,\"\",MAX(O$15:O169)+1)","v":""},""]
[null,null,null,null,null,null,null,null,null,null,null,null,null,0,{"$f":"IF(N171=0,\"\",MAX(O$15:O170)+1)","v":""},""]
[null,null,null,null,null,null,null,null,null,null,null,null,null,0,{"$f":"IF(N172=0,\"\",MAX(O$15:O171)+1)","v":""},""]
[null,null,null,null,null,null,null,null,null,null,null,null,null,0,{"$f":"IF(N173=0,\"\",MAX(O$15:O172)+1)","v":""},""]
[null,null,null,null,null,null,null,null,null,null,null,null,null,0,{"$f":"IF(N174=0,\"\",MAX(O$15:O173)+1)","v":""},""]
[null,null,null,null,null,null,null,null,null,null,null,null,null,0,{"$f":"IF(N175=0,\"\",MAX(O$15:O174)+1)","v":""},""]
[null,null,null,null,null,null,null,null,null,null,null,null,null,0,{"$f":"IF(N176=0,\"\",MAX(O$15:O175)+1)","v":""},""]
[null,null,null,null,null,null,null,null,null,null,null,null,null,0,{"$f":"IF(N177=0,\"\",MAX(O$15:O176)+1)","v":""},""]
[null,null,null,null,null,null,null,null,null,null,null,null,null,0,{"$f":"IF(N178=0,\"\",MAX(O$15:O177)+1)","v":""},""]
[null,null,null,null,null,null,null,null,null,null,null,null,null,0,{"$f":"IF(N179=0,\"\",MAX(O$15:O178)+1)","v":""},""]
[null,null,null,null,null,null,null,null,null,null,null,null,null,0,{"$f":"IF(N180=0,\"\",MAX(O$15:O179)+1)","v":""},""]
[null,null,null,null,null,null,null,null,null,null,null,null,null,0,{"$f":"IF(N181=0,\"\",MAX(O$15:O180)+1)","v":""},""]
[null,null,null,null,null,null,null,null,null,null,null,null,null,0,{"$f":"IF(N182=0,\"\",MAX(O$15:O181)+1)","v":""},""]
[null,null,null,null,null,null,null,null,null,null,null,null,null,0,{"$f":"IF(N183=0,\"\",MAX(O$15:O182)+1)","v":""},""]
[null,null,null,null,null,null,null,null,null,null,null,null,null,0,{"$f":"IF(N184=0,\"\",MAX(O$15:O183)+1)","v":""},""]
[null,null,null,null,null,null,null,null,null,null,null,null,null,0,{"$f":"IF(N185=0,\"\",MAX(O$15:O184)+1)","v":""},""]
[null,null,null,null,null,null,null,null,null,null,null,null,null,0,{"$f":"IF(N186=0,\"\",MAX(O$15:O185)+1)","v":""},""]
[null,null,null,null,null,null,null,null,null,null,null,null,null,0,{"$f":"IF(N187=0,\"\",MAX(O$15:O186)+1)","v":""},""]
[null,null,null,null,null,null,null,null,null,null,null,null,null,0,{"$f":"IF(N188=0,\"\",MAX(O$15:O187)+1)","v":""},""]
[null,null,null,null,null,null,null,null,null,null,null,null,null,0,{"$f":"IF(N189=0,\"\",MAX(O$15:O188)+1)","v":""},""]
[null,null,null,null,null,null,null,null,null,null,null,null,null,0,{"$f":"IF(N190=0,\"\",MAX(O$15:O189)+1)","v":""},""]
[null,null,null,null,null,null,null,null,null,null,null,null,null,0,{"$f":"IF(N191=0,\"\",MAX(O$15:O190)+1)","v":""},""]
[null,null,null,null,null,null,null,null,null,null,null,null,null,0,{"$f":"IF(N192=0,\"\",MAX(O$15:O191)+1)","v":""},""]
[null,null,null,null,null,null,null,null,null,null,null,null,null,0,{"$f":"IF(N193=0,\"\",MAX(O$15:O192)+1)","v":""},""]
[null,null,null,null,null,null,null,null,null,null,null,null,null,0,{"$f":"IF(N194=0,\"\",MAX(O$15:O193)+1)","v":""},""]
[null,null,null,null,null,null,null,null,null,null,null,null,null,0,{"$f":"IF(N195=0,\"\",MAX(O$15:O194)+1)","v":""},""]
[null,null,null,null,null,null,null,null,null,null,null,null,null,0,{"$f":"IF(N196=0,\"\",MAX(O$15:O195)+1)","v":""},""]
[null,null,null,null,null,null,null,null,null,null,null,null,null,0,{"$f":"IF(N197=0,\"\",MAX(O$15:O196)+1)","v":""},""]
[null,null,null,null,null,null,null,null,null,null,null,null,null,0,{"$f":"IF(N198=0,\"\",MAX(O$15:O197)+1)","v":""},""]
[null,null,null,null,null,null,null,null,null,null,null,null,null,0,{"$f":"IF(N199=0,\"\",MAX(O$15:O198)+1)","v":""},""]
[null,null,null,null,null,null,null,null,null,null,null,null,null,0,{"$f":"IF(N200=0,\"\",MAX(O$15:O199)+1)","v":""},""]
[null,null,null,null,null,null,null,null,null,null,null,null,null,0,{"$f":"IF(N201=0,\"\",MAX(O$15:O200)+1)","v":""},""]
[null,null,null,null,null,null,null,null,null,null,null,null,null,0,{"$f":"IF(N202=0,\"\",MAX(O$15:O201)+1)","v":""},""]
[null,null,null,null,null,null,null,null,null,null,null,null,null,0,{"$f":"IF(N203=0,\"\",MAX(O$15:O202)+1)","v":""},""]
[null,null,null,null,null,null,null,null,null,null,null,null,null,0,{"$f":"IF(N204=0,\"\",MAX(O$15:O203)+1)","v":""},""]
[null,null,null,null,null,null,null,null,null,null,null,null,null,0,{"$f":"IF(N205=0,\"\",MAX(O$15:O204)+1)","v":""},""]
[null,null,null,null,null,null,null,null,null,null,null,null,null,{"$f":"IFERROR(M206*L206/1000,\"\")","v":0},{"$f":"IF(N206=0,\"\",MAX(O$15:O205)+1)","v":""},""]
[null,null,null,null,null,null,null,null,null,null,null,null,null,0,{"$f":"IF(N207=0,\"\",MAX(O$15:O206)+1)","v":""},""]
[null,null,null,null,null,null,null,null,null,null,null,null,null,0,{"$f":"IF(N208=0,\"\",MAX(O$15:O207)+1)","v":""},{"$f":"IFERROR(INDEX($N$15:$N$5014,MATCH(ROW()-ROW($O$14),$O$15:$O$5014,0)),\"\")","v":""}]
[null,null,null,null,null,null,null,null,null,null,null,null,null,0,{"$f":"IF(N209=0,\"\",MAX(O$15:O208)+1)","v":""},""]
[null,null,null,null,null,null,null,null,null,null,null,null,null,0,{"$f":"IF(N210=0,\"\",MAX(O$15:O209)+1)","v":""},""]
[null,null,null,null,null,null,null,null,null,null,null,null,null,0,{"$f":"IF(N211=0,\"\",MAX(O$15:O210)+1)","v":""},""]
[null,null,null,null,null,null,null,null,null,null,null,null,null,0,{"$f":"IF(N212=0,\"\",MAX(O$15:O211)+1)","v":""},""]
[null,null,null,null,null,null,null,null,null,null,null,null,null,0,{"$f":"IF(N213=0,\"\",MAX(O$15:O212)+1)","v":""},""]
[null,null,null,null,null,null,null,null,null,null,null,null,null,0,{"$f":"IF(N214=0,\"\",MAX(O$15:O213)+1)","v":""},""]
[null,null,null,null,null,null,null,null,null,null,null,null,null,0,{"$f":"IF(N215=0,\"\",MAX(O$15:O214)+1)","v":""},""]
[null,null,null,null,null,null,null,null,null,null,null,null,null,0,{"$f":"IF(N216=0,\"\",MAX(O$15:O215)+1)","v":""},""]
[null,null,null,null,null,null,null,null,null,null,null,null,null,0,{"$f":"IF(N217=0,\"\",MAX(O$15:O216)+1)","v":""},""]
[null,null,null,null,null,null,null,null,null,null,null,null,null,0,{"$f":"IF(N218=0,\"\",MAX(O$15:O217)+1)","v":""},""]
[null,null,null,null,null,null,null,null,null,null,null,null,null,0,{"$f":"IF(N219=0,\"\",MAX(O$15:O218)+1)","v":""},""]
[null,null,null,null,null,null,null,null,null,null,null,null,null,0,{"$f":"IF(N220=0,\"\",MAX(O$15:O219)+1)","v":""},""]
[null,null,null,null,null,null,null,null,null,null,null,null,null,0,{"$f":"IF(N221=0,\"\",MAX(O$15:O220)+1)","v":""},""]
[null,null,null,null,null,null,null,null,null,null,null,null,null,0,{"$f":"IF(N222=0,\"\",MAX(O$15:O221)+1)","v":""},""]
[null,null,null,null,null,null,null,null,null,null,null,null,null,0,{"$f":"IF(N223=0,\"\",MAX(O$15:O222)+1)","v":""},""]
[null,null,null,null,null,null,null,null,null,null,null,null,null,0,{"$f":"IF(N224=0,\"\",MAX(O$15:O223)+1)","v":""},""]
[null,null,null,null,null,null,null,null,null,null,null,null,null,0,{"$f":"IF(N225=0,\"\",MAX(O$15:O224)+1)","v":""},""]
[null,null,null,null,null,null,null,null,null,null,null,null,null,0,{"$f":"IF(N226=0,\"\",MAX(O$15:O225)+1)","v":""},""]
[null,null,null,null,null,null,null,null,null,null,null,null,null,0,{"$f":"IF(N227=0,\"\",MAX(O$15:O226)+1)","v":""},""]
[null,null,null,null,null,null,null,null,null,null,null,null,null,0,{"$f":"IF(N228=0,\"\",MAX(O$15:O227)+1)","v":""},""]
[null,null,null,null,null,null,null,null,null,null,null,null,null,0,{"$f":"IF(N229=0,\"\",MAX(O$15:O228)+1)","v":""},""]
[null,null,null,null,null,null,null,null,null,null,null,null,null,0,{"$f":"IF(N230=0,\"\",MAX(O$15:O229)+1)","v":""},""]
[null,null,null,null,null,null,null,null,null,null,null,null,null,0,{"$f":"IF(N231=0,\"\",MAX(O$15:O230)+1)","v":""},""]
[null,null,null,null,null,null,null,null,null,null,null,null,null,0,{"$f":"IF(N232=0,\"\",MAX(O$15:O231)+1)","v":""},""]
[null,null,null,null,null,null,null,null,null,null,null,null,null,0,{"$f":"IF(N233=0,\"\",MAX(O$15:O232)+1)","v":""},""]
[null,null,null,null,null,null,null,null,null,null,null,null,null,0,{"$f":"IF(N234=0,\"\",MAX(O$15:O233)+1)","v":""},""]
[null,null,null,null,null,null,null,null,null,null,null,null,null,0,{"$f":"IF(N235=0,\"\",MAX(O$15:O234)+1)","v":""},""]
[null,null,null,null,null,null,null,null,null,null,null,null,null,0,{"$f":"IF(N236=0,\"\",MAX(O$15:O235)+1)","v":""},""]
[null,null,null,null,null,null,null,null,null,null,null,null,null,0,{"$f":"IF(N237=0,\"\",MAX(O$15:O236)+1)","v":""},""]
[null,null,null,null,null,null,null,null,null,null,null,null,null,0,{"$f":"IF(N238=0,\"\",MAX(O$15:O237)+1)","v":""},""]
[null,null,null,null,null,null,null,null,null,null,null,null,null,0,{"$f":"IF(N239=0,\"\",MAX(O$15:O238)+1)","v":""},""]
[null,null,null,null,null,null,null,null,null,null,null,null,null,0,{"$f":"IF(N240=0,\"\",MAX(O$15:O239)+1)","v":""},""]
[null,null,null,null,null,null,null,null,null,null,null,null,null,0,{"$f":"IF(N241=0,\"\",MAX(O$15:O240)+1)","v":""},""]
[null,null,null,null,null,null,null,null,null,null,null,null,null,0,{"$f":"IF(N242=0,\"\",MAX(O$15:O241)+1)","v":""},""]
[null,null,null,null,null,null,null,null,null,null,null,null,null,0,{"$f":"IF(N243=0,\"\",MAX(O$15:O242)+1)","v":""},""]
[null,null,null,null,null,null,null,null,null,null,null,null,null,0,{"$f":"IF(N244=0,\"\",MAX(O$15:O243)+1)","v":""},""]
[null,null,null,null,null,null,null,null,null,null,null,null,null,0,{"$f":"IF(N245=0,\"\",MAX(O$15:O244)+1)","v":""},""]
[null,null,null,null,null,null,null,null,null,null,null,null,null,0,{"$f":"IF(N246=0,\"\",MAX(O$15:O245)+1)","v":""},""]
[null,null,null,null,null,null,null,null,null,null,null,null,null,0,{"$f":"IF(N247=0,\"\",MAX(O$15:O246)+1)","v":""},""]
[null,null,null,null,null,null,null,null,null,null,null,null,null,0,{"$f":"IF(N248=0,\"\",MAX(O$15:O247)+1)","v":""},""]
[null,null,null,null,null,null,null,null,null,null,null,null,null,0,{"$f":"IF(N249=0,\"\",MAX(O$15:O248)+1)","v":""},""]
[null,null,null,null,null,null,null,null,null,null,null,null,null,0,{"$f":"IF(N250=0,\"\",MAX(O$15:O249)+1)","v":""},""]
[null,null,null,null,null,null,null,null,null,null,null,null,null,0,{"$f":"IF(N251=0,\"\",MAX(O$15:O250)+1)","v":""},""]
[null,null,null,null,null,null,null,null,null,null,null,null,null,0,{"$f":"IF(N252=0,\"\",MAX(O$15:O251)+1)","v":""},""]
[null,null,null,null,null,null,null,null,null,null,null,null,null,0,{"$f":"IF(N253=0,\"\",MAX(O$15:O252)+1)","v":""},""]
[null,null,null,null,null,null,null,null,null,null,null,null,null,0,{"$f":"IF(N254=0,\"\",MAX(O$15:O253)+1)","v":""},""]
[null,null,null,null,null,null,null,null,null,null,null,null,null,0,{"$f":"IF(N255=0,\"\",MAX(O$15:O254)+1)","v":""},""]
[null,null,null,null,null,null,null,null,null,null,null,null,null,0,{"$f":"IF(N256=0,\"\",MAX(O$15:O255)+1)","v":""},""]
[null,null,null,null,null,null,null,null,null,null,null,null,null,0,{"$f":"IF(N257=0,\"\",MAX(O$15:O256)+1)","v":""},""]
[null,null,null,null,null,null,null,null,null,null,null,null,null,0,{"$f":"IF(N258=0,\"\",MAX(O$15:O257)+1)","v":""},""]
[null,null,null,null,null,null,null,null,null,null,null,null,null,0,{"$f":"IF(N259=0,\"\",MAX(O$15:O258)+1)","v":""},""]
[null,null,null,null,null,null,null,null,null,null,null,null,null,0,{"$f":"IF(N260=0,\"\",MAX(O$15:O259)+1)","v":""},""]
[null,null,null,null,null,null,null,null,null,null,null,null,null,0,{"$f":"IF(N261=0,\"\",MAX(O$15:O260)+1)","v":""},""]
[null,null,null,null,null,null,null,null,null,null,null,null,null,0,{"$f":"IF(N262=0,\"\",MAX(O$15:O261)+1)","v":""},""]
[null,null,null,null,null,null,null,null,null,null,null,null,null,0,{"$f":"IF(N263=0,\"\",MAX(O$15:O262)+1)","v":""},""]
[null,null,null,null,null,null,null,null,null,null,null,null,null,0,{"$f":"IF(N264=0,\"\",MAX(O$15:O263)+1)","v":""},""]
[null,null,null,null,null,null,null,null,null,null,null,null,null,0,{"$f":"IF(N265=0,\"\",MAX(O$15:O264)+1)","v":""},""]
[null,null,null,null,null,null,null,null,null,null,null,null,null,0,{"$f":"IF(N266=0,\"\",MAX(O$15:O265)+1)","v":""},""]
[null,null,null,null,null,null,null,null,null,null,null,null,null,0,{"$f":"IF(N267=0,\"\",MAX(O$15:O266)+1)","v":""},""]
[null,null,null,null,null,null,null,null,null,null,null,null,null,0,{"$f":"IF(N268=0,\"\",MAX(O$15:O267)+1)","v":""},""]
[null,null,null,null,null,null,null,null,null,null,null,null,null,0,{"$f":"IF(N269=0,\"\",MAX(O$15:O268)+1)","v":""},""]
[null,null,null,null,null,null,null,null,null,null,null,null,null,{"$f":"IFERROR(M270*L270/1000,\"\")","v":0},{"$f":"IF(N270=0,\"\",MAX(O$15:O269)+1)","v":""},""]
[null,null,null,null,null,null,null,null,null,null,null,null,null,0,{"$f":"IF(N271=0,\"\",MAX(O$15:O270)+1)","v":""},""]
[null,null,null,null,null,null,null,null,null,null,null,null,null,0,{"$f":"IF(N272=0,\"\",MAX(O$15:O271)+1)","v":""},{"$f":"IFERROR(INDEX($N$15:$N$5014,MATCH(ROW()-ROW($O$14),$O$15:$O$5014,0)),\"\")","v":""}]
[null,null,null,null,null,null,null,null,null,null,null,null,null,0,{"$f":"IF(N273=0,\"\",MAX(O$15:O272)+1)","v":""},""]
[null,null,null,null,null,null,null,null,null,null,null,null,null,0,{"$f":"IF(N274=0,\"\",MAX(O$15:O273)+1)","v":""},""]
[null,null,null,null,null,null,null,null,null,null,null,null,null,0,{"$f":"IF(N275=0,\"\",MAX(O$15:O274)+1)","v":""},""]
[null,null,null,null,null,null,null,null,null,null,null,null,null,0,{"$f":"IF(N276=0,\"\",MAX(O$15:O275)+1)","v":""},""]
[null,null,null,null,null,null,null,null,null,null,null,null,null,0,{"$f":"IF(N277=0,\"\",MAX(O$15:O276)+1)","v":""},""]
[null,null,null,null,null,null,null,null,null,null,null,null,null,0,{"$f":"IF(N278=0,\"\",MAX(O$15:O277)+1)","v":""},""]
[null,null,null,null,null,null,null,null,null,null,null,null,null,0,{"$f":"IF(N279=0,\"\",MAX(O$15:O278)+1)","v":""},""]
[null,null,null,null,null,null,null,null,null,null,null,null,null,0,{"$f":"IF(N280=0,\"\",MAX(O$15:O279)+1)","v":""},""]
[null,null,null,null,null,null,null,null,null,null,null,null,null,0,{"$f":"IF(N281=0,\"\",MAX(O$15:O280)+1)","v":""},""]
[null,null,null,null,null,null,null,null,null,null,null,null,null,0,{"$f":"IF(N282=0,\"\",MAX(O$15:O281)+1)","v":""},""]
[null,null,null,null,null,null,null,null,null,null,null,null,null,0,{"$f":"IF(N283=0,\"\",MAX(O$15:O282)+1)","v":""},""]
[null,null,null,null,null,null,null,null,null,null,null,null,null,0,{"$f":"IF(N284=0,\"\",MAX(O$15:O283)+1)","v":""},""]
[null,null,null,null,null,null,null,null,null,null,null,null,null,0,{"$f":"IF(N285=0,\"\",MAX(O$15:O284)+1)","v":""},""]
[null,null,null,null,null,null,null,null,null,null,null,null,null,0,{"$f":"IF(N286=0,\"\",MAX(O$15:O285)+1)","v":""},""]
[null,null,null,null,null,null,null,null,null,null,null,null,null,0,{"$f":"IF(N287=0,\"\",MAX(O$15:O286)+1)","v":""},""]
[null,null,null,null,null,null,null,null,null,null,null,null,null,0,{"$f":"IF(N288=0,\"\",MAX(O$15:O287)+1)","v":""},""]
[null,null,null,null,null,null,null,null,null,null,null,null,null,0,{"$f":"IF(N289=0,\"\",MAX(O$15:O288)+1)","v":""},""]
[null,null,null,null,null,null,null,null,null,null,null,null,null,0,{"$f":"IF(N290=0,\"\",MAX(O$15:O289)+1)","v":""},""]
[null,null,null,null,null,null,null,null,null,null,null,null,null,0,{"$f":"IF(N291=0,\"\",MAX(O$15:O290)+1)","v":""},""]
[null,null,null,null,null,null,null,null,null,null,null,null,null,0,{"$f":"IF(N292=0,\"\",MAX(O$15:O291)+1)","v":""},""]
[null,null,null,null,null,null,null,null,null,null,null,null,null,0,{"$f":"IF(N293=0,\"\",MAX(O$15:O292)+1)","v":""},""]
[null,null,null,null,null,null,null,null,null,null,null,null,null,0,{"$f":"IF(N294=0,\"\",MAX(O$15:O293)+1)","v":""},""]
[null,null,null,null,null,null,null,null,null,null,null,null,null,0,{"$f":"IF(N295=0,\"\",MAX(O$15:O294)+1)","v":""},""]
[null,null,null,null,null,null,null,null,null,null,null,null,null,0,{"$f":"IF(N296=0,\"\",MAX(O$15:O295)+1)","v":""},""]
[null,null,null,null,null,null,null,null,null,null,null,null,null,0,{"$f":"IF(N297=0,\"\",MAX(O$15:O296)+1)","v":""},""]
[null,null,null,null,null,null,null,null,null,null,null,null,null,0,{"$f":"IF(N298=0,\"\",MAX(O$15:O297)+1)","v":""},""]
[null,null,null,null,null,null,null,null,null,null,null,null,null,0,{"$f":"IF(N299=0,\"\",MAX(O$15:O298)+1)","v":""},""]
[null,null,null,null,null,null,null,null,null,null,null,null,null,0,{"$f":"IF(N300=0,\"\",MAX(O$15:O299)+1)","v":""},""]
[null,null,null,null,null,null,null,null,null,null,null,null,null,0,{"$f":"IF(N301=0,\"\",MAX(O$15:O300)+1)","v":""},""]
[null,null,null,null,null,null,null,null,null,null,null,null,null,0,{"$f":"IF(N302=0,\"\",MAX(O$15:O301)+1)","v":""},""]
[null,null,null,null,null,null,null,null,null,null,null,null,null,0,{"$f":"IF(N303=0,\"\",MAX(O$15:O302)+1)","v":""},""]
[null,null,null,null,null,null,null,null,null,null,null,null,null,0,{"$f":"IF(N304=0,\"\",MAX(O$15:O303)+1)","v":""},""]
[null,null,null,null,null,null,null,null,null,null,null,null,null,0,{"$f":"IF(N305=0,\"\",MAX(O$15:O304)+1)","v":""},""]
[null,null,null,null,null,null,null,null,null,null,null,null,null,0,{"$f":"IF(N306=0,\"\",MAX(O$15:O305)+1)","v":""},""]
[null,null,null,null,null,null,null,null,null,null,null,null,null,0,{"$f":"IF(N307=0,\"\",MAX(O$15:O306)+1)","v":""},""]
[null,null,null,null,null,null,null,null,null,null,null,null,null,0,{"$f":"IF(N308=0,\"\",MAX(O$15:O307)+1)","v":""},""]
[null,null,null,null,null,null,null,null,null,null,null,null,null,0,{"$f":"IF(N309=0,\"\",MAX(O$15:O308)+1)","v":""},""]
[null,null,null,null,null,null,null,null,null,null,null,null,null,0,{"$f":"IF(N310=0,\"\",MAX(O$15:O309)+1)","v":""},""]
[null,null,null,null,null,null,null,null,null,null,null,null,null,0,{"$f":"IF(N311=0,\"\",MAX(O$15:O310)+1)","v":""},""]
[null,null,null,null,null,null,null,null,null,null,null,null,null,0,{"$f":"IF(N312=0,\"\",MAX(O$15:O311)+1)","v":""},""]
[null,null,null,null,null,null,null,null,null,null,null,null,null,{"$f":"IFERROR(M313*L313/1000,\"\")","v":0},{"$f":"IF(N313=0,\"\",MAX(O$15:O312)+1)","v":""},""]
[null,null,null,null,null,null,null,null,null,null,null,null,null,{"$f":"IFERROR(M314*L314/1000,\"\")","v":0},{"$f":"IF(N314=0,\"\",MAX(O$15:O313)+1)","v":""},""]
[null,null,null,null,null,null,null,null,null,null,null,null,null,0,{"$f":"IF(N315=0,\"\",MAX(O$15:O314)+1)","v":""},""]
[null,null,null,null,null,null,null,null,null,null,null,null,null,0,{"$f":"IF(N316=0,\"\",MAX(O$15:O315)+1)","v":""},""]
[null,null,null,null,null,null,null,null,null,null,null,null,null,0,{"$f":"IF(N317=0,\"\",MAX(O$15:O316)+1)","v":""},""]
[null,null,null,null,null,null,null,null,null,null,null,null,null,0,{"$f":"IF(N318=0,\"\",MAX(O$15:O317)+1)","v":""},""]
[null,null,null,null,null,null,null,null,null,null,null,null,null,0,{"$f":"IF(N319=0,\"\",MAX(O$15:O318)+1)","v":""},""]
[null,null,null,null,null,null,null,null,null,null,null,null,null,0,{"$f":"IF(N320=0,\"\",MAX(O$15:O319)+1)","v":""},""]
[null,null,null,null,null,null,null,null,null,null,null,null,null,0,{"$f":"IF(N321=0,\"\",MAX(O$15:O320)+1)","v":""},""]
[null,null,null,null,null,null,null,null,null,null,null,null,null,0,{"$f":"IF(N322=0,\"\",MAX(O$15:O321)+1)","v":""},""]
[null,null,null,null,null,null,null,null,null,null,null,null,null,0,{"$f":"IF(N323=0,\"\",MAX(O$15:O322)+1)","v":""},""]
[null,null,null,null,null,null,null,null,null,null,null,null,null,0,{"$f":"IF(N324=0,\"\",MAX(O$15:O323)+1)","v":""},""]
[null,null,null,null,null,null,null,null,null,null,null,null,null,0,{"$f":"IF(N325=0,\"\",MAX(O$15:O324)+1)","v":""},""]
[null,null,null,null,null,null,null,null,null,null,null,null,null,0,{"$f":"IF(N326=0,\"\",MAX(O$15:O325)+1)","v":""},""]
[null,null,null,null,null,null,null,null,null,null,null,null,null,0,{"$f":"IF(N327=0,\"\",MAX(O$15:O326)+1)","v":""},""]
[null,null,null,null,null,null,null,null,null,null,null,null,null,0,{"$f":"IF(N328=0,\"\",MAX(O$15:O327)+1)","v":""},""]
[null,null,null,null,null,null,null,null,null,null,null,null,null,0,{"$f":"IF(N329=0,\"\",MAX(O$15:O328)+1)","v":""},""]
[null,null,null,null,null,null,null,null,null,null,null,null,null,0,{"$f":"IF(N330=0,\"\",MAX(O$15:O329)+1)","v":""},""]
[null,null,null,null,null,null,null,null,null,null,null,null,null,0,{"$f":"IF(N331=0,\"\",MAX(O$15:O330)+1)","v":""},""]
[null,null,null,null,null,null,null,null,null,null,null,null,null,0,{"$f":"IF(N332=0,\"\",MAX(O$15:O331)+1)","v":""},""]
[null,null,null,null,null,null,null,null,null,null,null,null,null,0,{"$f":"IF(N333=0,\"\",MAX(O$15:O332)+1)","v":""},""]
[null,null,null,null,null,null,null,null,null,null,null,null,null,0,{"$f":"IF(N334=0,\"\",MAX(O$15:O333)+1)","v":""},""]
[null,null,null,null,null,null,null,null,null,null,null,null,null,0,{"$f":"IF(N335=0,\"\",MAX(O$15:O334)+1)","v":""},""]
[null,null,null,null,null,null,null,null,null,null,null,null,null,0,{"$f":"IF(N336=0,\"\",MAX(O$15:O335)+1)","v":""},{"$f":"IFERROR(INDEX($N$15:$N$5014,MATCH(ROW()-ROW($O$14),$O$15:$O$5014,0)),\"\")","v":""}]
[null,null,null,null,null,null,null,null,null,null,null,null,null,0,{"$f":"IF(N337=0,\"\",MAX(O$15:O336)+1)","v":""},""]
[null,null,null,null,null,null,null,null,null,null,null,null,null,0,{"$f":"IF(N338=0,\"\",MAX(O$15:O337)+1)","v":""},""]
[null,null,null,null,null,null,null,null,null,null,null,null,null,0,{"$f":"IF(N339=0,\"\",MAX(O$15:O338)+1)","v":""},""]
[null,null,null,null,null,null,null,null,null,null,null,null,null,0,{"$f":"IF(N340=0,\"\",MAX(O$15:O339)+1)","v":""},""]
[null,null,null,null,null,null,null,null,null,null,null,null,null,0,{"$f":"IF(N341=0,\"\",MAX(O$15:O340)+1)","v":""},""]
[null,null,null,null,null,null,null,null,null,null,null,null,null,0,{"$f":"IF(N342=0,\"\",MAX(O$15:O341)+1)","v":""},""]
[null,null,null,null,null,null,null,null,null,null,null,null,null,0,{"$f":"IF(N343=0,\"\",MAX(O$15:O342)+1)","v":""},""]
[null,null,null,null,null,null,null,null,null,null,null,null,null,0,{"$f":"IF(N344=0,\"\",MAX(O$15:O343)+1)","v":""},""]
[null,null,null,null,null,null,null,null,null,null,null,null,null,0,{"$f":"IF(N345=0,\"\",MAX(O$15:O344)+1)","v":""},""]
[null,null,null,null,null,null,null,null,null,null,null,null,null,0,{"$f":"IF(N346=0,\"\",MAX(O$15:O345)+1)","v":""},""]
[null,null,null,null,null,null,null,null,null,null,null,null,null,0,{"$f":"IF(N347=0,\"\",MAX(O$15:O346)+1)","v":""},""]
[null,null,null,null,null,null,null,null,null,null,null,null,null,0,{"$f":"IF(N348=0,\"\",MAX(O$15:O347)+1)","v":""},""]
[null,null,null,null,null,null,null,null,null,null,null,null,null,0,{"$f":"IF(N349=0,\"\",MAX(O$15:O348)+1)","v":""},""]
[null,null,null,null,null,null,null,null,null,null,null,null,null,0,{"$f":"IF(N350=0,\"\",MAX(O$15:O349)+1)","v":""},""]
[null,null,null,null,null,null,null,null,null,null,null,null,null,0,{"$f":"IF(N351=0,\"\",MAX(O$15:O350)+1)","v":""},""]
[null,null,null,null,null,null,null,null,null,null,null,null,null,0,{"$f":"IF(N352=0,\"\",MAX(O$15:O351)+1)","v":""},""]
[null,null,null,null,null,null,null,null,null,null,null,null,null,0,{"$f":"IF(N353=0,\"\",MAX(O$15:O352)+1)","v":""},""]
[null,null,null,null,null,null,null,null,null,null,null,null,null,0,{"$f":"IF(N354=0,\"\",MAX(O$15:O353)+1)","v":""},""]
[null,null,null,null,null,null,null,null,null,null,null,null,null,0,{"$f":"IF(N355=0,\"\",MAX(O$15:O354)+1)","v":""},""]
[null,null,null,null,null,null,null,null,null,null,null,null,null,0,{"$f":"IF(N356=0,\"\",MAX(O$15:O355)+1)","v":""},""]
[null,null,null,null,null,null,null,null,null,null,null,null,null,0,{"$f":"IF(N357=0,\"\",MAX(O$15:O356)+1)","v":""},""]
[null,null,null,null,null,null,null,null,null,null,null,null,null,0,{"$f":"IF(N358=0,\"\",MAX(O$15:O357)+1)","v":""},""]
[null,null,null,null,null,null,null,null,null,null,null,null,null,0,{"$f":"IF(N359=0,\"\",MAX(O$15:O358)+1)","v":""},""]
[null,null,null,null,null,null,null,null,null,null,null,null,null,0,{"$f":"IF(N360=0,\"\",MAX(O$15:O359)+1)","v":""},""]
[null,null,null,null,null,null,null,null,null,null,null,null,null,0,{"$f":"IF(N361=0,\"\",MAX(O$15:O360)+1)","v":""},""]
[null,null,null,null,null,null,null,null,null,null,null,null,null,0,{"$f":"IF(N362=0,\"\",MAX(O$15:O361)+1)","v":""},""]
[null,null,null,null,null,null,null,null,null,null,null,null,null,0,{"$f":"IF(N363=0,\"\",MAX(O$15:O362)+1)","v":""},""]
[null,null,null,null,null,null,null,null,null,null,null,null,null,0,{"$f":"IF(N364=0,\"\",MAX(O$15:O363)+1)","v":""},""]
[null,null,null,null,null,null,null,null,null,null,null,null,null,0,{"$f":"IF(N365=0,\"\",MAX(O$15:O364)+1)","v":""},""]
[null,null,null,null,null,null,null,null,null,null,null,null,null,0,{"$f":"IF(N366=0,\"\",MAX(O$15:O365)+1)","v":""},""]
[null,null,null,null,null,null,null,null,null,null,null,null,null,0,{"$f":"IF(N367=0,\"\",MAX(O$15:O366)+1)","v":""},""]
[null,null,null,null,null,null,null,null,null,null,null,null,null,0,{"$f":"IF(N368=0,\"\",MAX(O$15:O367)+1)","v":""},""]
[null,null,null,null,null,null,null,null,null,null,null,null,null,0,{"$f":"IF(N369=0,\"\",MAX(O$15:O368)+1)","v":""},""]
[null,null,null,null,null,null,null,null,null,null,null,null,null,0,{"$f":"IF(N370=0,\"\",MAX(O$15:O369)+1)","v":""},""]
[null,null,null,null,null,null,null,null,null,null,null,null,null,0,{"$f":"IF(N371=0,\"\",MAX(O$15:O370)+1)","v":""},""]
[null,null,null,null,null,null,null,null,null,null,null,null,null,0,{"$f":"IF(N372=0,\"\",MAX(O$15:O371)+1)","v":""},""]
[null,null,null,null,null,null,null,null,null,null,null,null,null,0,{"$f":"IF(N373=0,\"\",MAX(O$15:O372)+1)","v":""},""]
[null,null,null,null,null,null,null,null,null,null,null,null,null,0,{"$f":"IF(N374=0,\"\",MAX(O$15:O373)+1)","v":""},""]
[null,null,null,null,null,null,null,null,null,null,null,null,null,0,{"$f":"IF(N375=0,\"\",MAX(O$15:O374)+1)","v":""},""]
[null,null,null,null,null,null,null,null,null,null,null,null,null,0,{"$f":"IF(N376=0,\"\",MAX(O$15:O375)+1)","v":""},""]
[null,null,null,null,null,null,null,null,null,null,null,null,null,0,{"$f":"IF(N377=0,\"\",MAX(O$15:O376)+1)","v":""},""]
[null,null,null,null,null,null,null,null,null,null,null,null,null,{"$f":"IFERROR(M378*L378/1000,\"\")","v":0},{"$f":"IF(N378=0,\"\",MAX(O$15:O377)+1)","v":""},""]
[null,null,null,null,null,null,null,null,null,null,null,null,null,0,{"$f":"IF(N379=0,\"\",MAX(O$15:O378)+1)","v":""},""]
[null,null,null,null,null,null,null,null,null,null,null,null,null,0,{"$f":"IF(N380=0,\"\",MAX(O$15:O379)+1)","v":""},""]
[null,null,null,null,null,null,null,null,null,null,null,null,null,0,{"$f":"IF(N381=0,\"\",MAX(O$15:O380)+1)","v":""},""]
[null,null,null,null,null,null,null,null,null,null,null,null,null,0,{"$f":"IF(N382=0,\"\",MAX(O$15:O381)+1)","v":""},""]
[null,null,null,null,null,null,null,null,null,null,null,null,null,0,{"$f":"IF(N383=0,\"\",MAX(O$15:O382)+1)","v":""},""]
[null,null,null,null,null,null,null,null,null,null,null,null,null,0,{"$f":"IF(N384=0,\"\",MAX(O$15:O383)+1)","v":""},""]
[null,null,null,null,null,null,null,null,null,null,null,null,null,0,{"$f":"IF(N385=0,\"\",MAX(O$15:O384)+1)","v":""},""]
[null,null,null,null,null,null,null,null,null,null,null,null,null,0,{"$f":"IF(N386=0,\"\",MAX(O$15:O385)+1)","v":""},""]
[null,null,null,null,null,null,null,null,null,null,null,null,null,0,{"$f":"IF(N387=0,\"\",MAX(O$15:O386)+1)","v":""},""]
[null,null,null,null,null,null,null,null,null,null,null,null,null,0,{"$f":"IF(N388=0,\"\",MAX(O$15:O387)+1)","v":""},""]
[null,null,null,null,null,null,null,null,null,null,null,null,null,0,{"$f":"IF(N389=0,\"\",MAX(O$15:O388)+1)","v":""},""]
[null,null,null,null,null,null,null,null,null,null,null,null,null,0,{"$f":"IF(N390=0,\"\",MAX(O$15:O389)+1)","v":""},""]
[null,null,null,null,null,null,null,null,null,null,null,null,null,0,{"$f":"IF(N391=0,\"\",MAX(O$15:O390)+1)","v":""},""]
[null,null,null,null,null,null,null,null,null,null,null,null,null,0,{"$f":"IF(N392=0,\"\",MAX(O$15:O391)+1)","v":""},""]
[null,null,null,null,null,null,null,null,null,null,null,null,null,0,{"$f":"IF(N393=0,\"\",MAX(O$15:O392)+1)","v":""},""]
[null,null,null,null,null,null,null,null,null,null,null,null,null,0,{"$f":"IF(N394=0,\"\",MAX(O$15:O393)+1)","v":""},""]
[null,null,null,null,null,null,null,null,null,null,null,null,null,0,{"$f":"IF(N395=0,\"\",MAX(O$15:O394)+1)","v":""},""]
[null,null,null,null,null,null,null,null,null,null,null,null,null,0,{"$f":"IF(N396=0,\"\",MAX(O$15:O395)+1)","v":""},""]
[null,null,null,null,null,null,null,null,null,null,null,null,null,0,{"$f":"IF(N397=0,\"\",MAX(O$15:O396)+1)","v":""},""]
[null,null,null,null,null,null,null,null,null,null,null,null,null,0,{"$f":"IF(N398=0,\"\",MAX(O$15:O397)+1)","v":""},""]
[null,null,null,null,null,null,null,null,null,null,null,null,null,0,{"$f":"IF(N399=0,\"\",MAX(O$15:O398)+1)","v":""},""]
[null,null,null,null,null,null,null,null,null,null,null,null,null,0,{"$f":"IF(N400=0,\"\",MAX(O$15:O399)+1)","v":""},{"$f":"IFERROR(INDEX($N$15:$N$5014,MATCH(ROW()-ROW($O$14),$O$15:$O$5014,0)),\"\")","v":""}]
[null,null,null,null,null,null,null,null,null,null,null,null,null,0,{"$f":"IF(N401=0,\"\",MAX(O$15:O400)+1)","v":""},""]
[null,null,null,null,null,null,null,null,null,null,null,null,null,0,{"$f":"IF(N402=0,\"\",MAX(O$15:O401)+1)","v":""},""]
[null,null,null,null,null,null,null,null,null,null,null,null,null,0,{"$f":"IF(N403=0,\"\",MAX(O$15:O402)+1)","v":""},""]
[null,null,null,null,null,null,null,null,null,null,null,null,null,0,{"$f":"IF(N404=0,\"\",MAX(O$15:O403)+1)","v":""},""]
[null,null,null,null,null,null,null,null,null,null,null,null,null,0,{"$f":"IF(N405=0,\"\",MAX(O$15:O404)+1)","v":""},""]
[null,null,null,null,null,null,null,null,null,null,null,null,null,0,{"$f":"IF(N406=0,\"\",MAX(O$15:O405)+1)","v":""},""]
[null,null,null,null,null,null,null,null,null,null,null,null,null,0,{"$f":"IF(N407=0,\"\",MAX(O$15:O406)+1)","v":""},""]
[null,null,null,null,null,null,null,null,null,null,null,null,null,0,{"$f":"IF(N408=0,\"\",MAX(O$15:O407)+1)","v":""},""]
[null,null,null,null,null,null,null,null,null,null,null,null,null,0,{"$f":"IF(N409=0,\"\",MAX(O$15:O408)+1)","v":""},""]
[null,null,null,null,null,null,null,null,null,null,null,null,null,0,{"$f":"IF(N410=0,\"\",MAX(O$15:O409)+1)","v":""},""]
[null,null,null,null,null,null,null,null,null,null,null,null,null,0,{"$f":"IF(N411=0,\"\",MAX(O$15:O410)+1)","v":""},""]
[null,null,null,null,null,null,null,null,null,null,null,null,null,0,{"$f":"IF(N412=0,\"\",MAX(O$15:O411)+1)","v":""},""]
[null,null,null,null,null,null,null,null,null,null,null,null,null,0,{"$f":"IF(N413=0,\"\",MAX(O$15:O412)+1)","v":""},""]
[null,null,null,null,null,null,null,null,null,null,null,null,null,0,{"$f":"IF(N414=0,\"\",MAX(O$15:O413)+1)","v":""},""]
[null,null,null,null,null,null,null,null,null,null,null,null,null,0,{"$f":"IF(N415=0,\"\",MAX(O$15:O414)+1)","v":""},""]
[null,null,null,null,null,null,null,null,null,null,null,null,null,0,{"$f":"IF(N416=0,\"\",MAX(O$15:O415)+1)","v":""},""]
[null,null,null,null,null,null,null,null,null,null,null,null,null,0,{"$f":"IF(N417=0,\"\",MAX(O$15:O416)+1)","v":""},""]
[null,null,null,null,null,null,null,null,null,null,null,null,null,0,{"$f":"IF(N418=0,\"\",MAX(O$15:O417)+1)","v":""},""]
[null,null,null,null,null,null,null,null,null,null,null,null,null,0,{"$f":"IF(N419=0,\"\",MAX(O$15:O418)+1)","v":""},""]
[null,null,null,null,null,null,null,null,null,null,null,null,null,0,{"$f":"IF(N420=0,\"\",MAX(O$15:O419)+1)","v":""},""]
[null,null,null,null,null,null,null,null,null,null,null,null,null,0,{"$f":"IF(N421=0,\"\",MAX(O$15:O420)+1)","v":""},""]
[null,null,null,null,null,null,null,null,null,null,null,null,null,0,{"$f":"IF(N422=0,\"\",MAX(O$15:O421)+1)","v":""},""]
[null,null,null,null,null,null,null,null,null,null,null,null,null,0,{"$f":"IF(N423=0,\"\",MAX(O$15:O422)+1)","v":""},""]
[null,null,null,null,null,null,null,null,null,null,null,null,null,0,{"$f":"IF(N424=0,\"\",MAX(O$15:O423)+1)","v":""},""]
[null,null,null,null,null,null,null,null,null,null,null,null,null,0,{"$f":"IF(N425=0,\"\",MAX(O$15:O424)+1)","v":""},""]
[null,null,null,null,null,null,null,null,null,null,null,null,null,0,{"$f":"IF(N426=0,\"\",MAX(O$15:O425)+1)","v":""},""]
[null,null,null,null,null,null,null,null,null,null,null,null,null,0,{"$f":"IF(N427=0,\"\",MAX(O$15:O426)+1)","v":""},""]
[null,null,null,null,null,null,null,null,null,null,null,null,null,0,{"$f":"IF(N428=0,\"\",MAX(O$15:O427)+1)","v":""},""]
[null,null,null,null,null,null,null,null,null,null,null,null,null,0,{"$f":"IF(N429=0,\"\",MAX(O$15:O428)+1)","v":""},""]
[null,null,null,null,null,null,null,null,null,null,null,null,null,0,{"$f":"IF(N430=0,\"\",MAX(O$15:O429)+1)","v":""},""]
[null,null,null,null,null,null,null,null,null,null,null,null,null,0,{"$f":"IF(N431=0,\"\",MAX(O$15:O430)+1)","v":""},""]
[null,null,null,null,null,null,null,null,null,null,null,null,null,0,{"$f":"IF(N432=0,\"\",MAX(O$15:O431)+1)","v":""},""]
[null,null,null,null,null,null,null,null,null,null,null,null,null,0,{"$f":"IF(N433=0,\"\",MAX(O$15:O432)+1)","v":""},""]
[null,null,null,null,null,null,null,null,null,null,null,null,null,0,{"$f":"IF(N434=0,\"\",MAX(O$15:O433)+1)","v":""},""]
[null,null,null,null,null,null,null,null,null,null,null,null,null,0,{"$f":"IF(N435=0,\"\",MAX(O$15:O434)+1)","v":""},""]
[null,null,null,null,null,null,null,null,null,null,null,null,null,0,{"$f":"IF(N436=0,\"\",MAX(O$15:O435)+1)","v":""},""]
[null,null,null,null,null,null,null,null,null,null,null,null,null,0,{"$f":"IF(N437=0,\"\",MAX(O$15:O436)+1)","v":""},""]
[null,null,null,null,null,null,null,null,null,null,null,null,null,0,{"$f":"IF(N438=0,\"\",MAX(O$15:O437)+1)","v":""},""]
[null,null,null,null,null,null,null,null,null,null,null,null,null,0,{"$f":"IF(N439=0,\"\",MAX(O$15:O438)+1)","v":""},""]
[null,null,null,null,null,null,null,null,null,null,null,null,null,0,{"$f":"IF(N440=0,\"\",MAX(O$15:O439)+1)","v":""},""]
[null,null,null,null,null,null,null,null,null,null,null,null,null,0,{"$f":"IF(N441=0,\"\",MAX(O$15:O440)+1)","v":""},""]
[null,null,null,null,null,null,null,null,null,null,null,null,null,{"$f":"IFERROR(M442*L442/1000,\"\")","v":0},{"$f":"IF(N442=0,\"\",MAX(O$15:O441)+1)","v":""},""]
[null,null,null,null,null,null,null,null,null,null,null,null,null,0,{"$f":"IF(N443=0,\"\",MAX(O$15:O442)+1)","v":""},""]
[null,null,null,null,null,null,null,null,null,null,null,null,null,0,{"$f":"IF(N444=0,\"\",MAX(O$15:O443)+1)","v":""},""]
[null,null,null,null,null,null,null,null,null,null,null,null,null,0,{"$f":"IF(N445=0,\"\",MAX(O$15:O444)+1)","v":""},""]
[null,null,null,null,null,null,null,null,null,null,null,null,null,0,{"$f":"IF(N446=0,\"\",MAX(O$15:O445)+1)","v":""},""]
[null,null,null,null,null,null,null,null,null,null,null,null,null,0,{"$f":"IF(N447=0,\"\",MAX(O$15:O446)+1)","v":""},""]
[null,null,null,null,null,null,null,null,null,null,null,null,null,0,{"$f":"IF(N448=0,\"\",MAX(O$15:O447)+1)","v":""},""]
[null,null,null,null,null,null,null,null,null,null,null,null,null,0,{"$f":"IF(N449=0,\"\",MAX(O$15:O448)+1)","v":""},""]
[null,null,null,null,null,null,null,null,null,null,null,null,null,0,{"$f":"IF(N450=0,\"\",MAX(O$15:O449)+1)","v":""},""]
[null,null,null,null,null,null,null,null,null,null,null,null,null,0,{"$f":"IF(N451=0,\"\",MAX(O$15:O450)+1)","v":""},""]
[null,null,null,null,null,null,null,null,null,null,null,null,null,0,{"$f":"IF(N452=0,\"\",MAX(O$15:O451)+1)","v":""},""]
[null,null,null,null,null,null,null,null,null,null,null,null,null,0,{"$f":"IF(N453=0,\"\",MAX(O$15:O452)+1)","v":""},""]
[null,null,null,null,null,null,null,null,null,null,null,null,null,0,{"$f":"IF(N454=0,\"\",MAX(O$15:O453)+1)","v":""},""]
[null,null,null,null,null,null,null,null,null,null,null,null,null,0,{"$f":"IF(N455=0,\"\",MAX(O$15:O454)+1)","v":""},""]
[null,null,null,null,null,null,null,null,null,null,null,null,null,0,{"$f":"IF(N456=0,\"\",MAX(O$15:O455)+1)","v":""},""]
[null,null,null,null,null,null,null,null,null,null,null,null,null,0,{"$f":"IF(N457=0,\"\",MAX(O$15:O456)+1)","v":""},""]
[null,null,null,null,null,null,null,null,null,null,null,null,null,0,{"$f":"IF(N458=0,\"\",MAX(O$15:O457)+1)","v":""},""]
[null,null,null,null,null,null,null,null,null,null,null,null,null,0,{"$f":"IF(N459=0,\"\",MAX(O$15:O458)+1)","v":""},""]
[null,null,null,null,null,null,null,null,null,null,null,null,null,0,{"$f":"IF(N460=0,\"\",MAX(O$15:O459)+1)","v":""},""]
[null,null,null,null,null,null,null,null,null,null,null,null,null,0,{"$f":"IF(N461=0,\"\",MAX(O$15:O460)+1)","v":""},""]
[null,null,null,null,null,null,null,null,null,null,null,null,null,0,{"$f":"IF(N462=0,\"\",MAX(O$15:O461)+1)","v":""},""]
[null,null,null,null,null,null,null,null,null,null,null,null,null,0,{"$f":"IF(N463=0,\"\",MAX(O$15:O462)+1)","v":""},""]
[null,null,null,null,null,null,null,null,null,null,null,null,null,0,{"$f":"IF(N464=0,\"\",MAX(O$15:O463)+1)","v":""},{"$f":"IFERROR(INDEX($N$15:$N$5014,MATCH(ROW()-ROW($O$14),$O$15:$O$5014,0)),\"\")","v":""}]
[null,null,null,null,null,null,null,null,null,null,null,null,null,0,{"$f":"IF(N465=0,\"\",MAX(O$15:O464)+1)","v":""},""]
[null,null,null,null,null,null,null,null,null,null,null,null,null,0,{"$f":"IF(N466=0,\"\",MAX(O$15:O465)+1)","v":""},""]
[null,null,null,null,null,null,null,null,null,null,null,null,null,0,{"$f":"IF(N467=0,\"\",MAX(O$15:O466)+1)","v":""},""]
[null,null,null,null,null,null,null,null,null,null,null,null,null,0,{"$f":"IF(N468=0,\"\",MAX(O$15:O467)+1)","v":""},""]
[null,null,null,null,null,null,null,null,null,null,null,null,null,0,{"$f":"IF(N469=0,\"\",MAX(O$15:O468)+1)","v":""},""]
[null,null,null,null,null,null,null,null,null,null,null,null,null,0,{"$f":"IF(N470=0,\"\",MAX(O$15:O469)+1)","v":""},""]
[null,null,null,null,null,null,null,null,null,null,null,null,null,0,{"$f":"IF(N471=0,\"\",MAX(O$15:O470)+1)","v":""},""]
[null,null,null,null,null,null,null,null,null,null,null,null,null,0,{"$f":"IF(N472=0,\"\",MAX(O$15:O471)+1)","v":""},""]
[null,null,null,null,null,null,null,null,null,null,null,null,null,0,{"$f":"IF(N473=0,\"\",MAX(O$15:O472)+1)","v":""},""]
[null,null,null,null,null,null,null,null,null,null,null,null,null,0,{"$f":"IF(N474=0,\"\",MAX(O$15:O473)+1)","v":""},""]
[null,null,null,null,null,null,null,null,null,null,null,null,null,0,{"$f":"IF(N475=0,\"\",MAX(O$15:O474)+1)","v":""},""]
[null,null,null,null,null,null,null,null,null,null,null,null,null,0,{"$f":"IF(N476=0,\"\",MAX(O$15:O475)+1)","v":""},""]
[null,null,null,null,null,null,null,null,null,null,null,null,null,0,{"$f":"IF(N477=0,\"\",MAX(O$15:O476)+1)","v":""},""]
[null,null,null,null,null,null,null,null,null,null,null,null,null,0,{"$f":"IF(N478=0,\"\",MAX(O$15:O477)+1)","v":""},""]
[null,null,null,null,null,null,null,null,null,null,null,null,null,0,{"$f":"IF(N479=0,\"\",MAX(O$15:O478)+1)","v":""},""]
[null,null,null,null,null,null,null,null,null,null,null,null,null,0,{"$f":"IF(N480=0,\"\",MAX(O$15:O479)+1)","v":""},""]
[null,null,null,null,null,null,null,null,null,null,null,null,null,0,{"$f":"IF(N481=0,\"\",MAX(O$15:O480)+1)","v":""},""]
[null,null,null,null,null,null,null,null,null,null,null,null,null,0,{"$f":"IF(N482=0,\"\",MAX(O$15:O481)+1)","v":""},""]
[null,null,null,null,null,null,null,null,null,null,null,null,null,0,{"$f":"IF(N483=0,\"\",MAX(O$15:O482)+1)","v":""},""]
[null,null,null,null,null,null,null,null,null,null,null,null,null,0,{"$f":"IF(N484=0,\"\",MAX(O$15:O483)+1)","v":""},""]
[null,null,null,null,null,null,null,null,null,null,null,null,null,0,{"$f":"IF(N485=0,\"\",MAX(O$15:O484)+1)","v":""},""]
[null,null,null,null,null,null,null,null,null,null,null,null,null,0,{"$f":"IF(N486=0,\"\",MAX(O$15:O485)+1)","v":""},""]
[null,null,null,null,null,null,null,null,null,null,null,null,null,0,{"$f":"IF(N487=0,\"\",MAX(O$15:O486)+1)","v":""},""]
[null,null,null,null,null,null,null,null,null,null,null,null,null,0,{"$f":"IF(N488=0,\"\",MAX(O$15:O487)+1)","v":""},""]
[null,null,null,null,null,null,null,null,null,null,null,null,null,0,{"$f":"IF(N489=0,\"\",MAX(O$15:O488)+1)","v":""},""]
[null,null,null,null,null,null,null,null,null,null,null,null,null,0,{"$f":"IF(N490=0,\"\",MAX(O$15:O489)+1)","v":""},""]
[null,null,null,null,null,null,null,null,null,null,null,null,null,0,{"$f":"IF(N491=0,\"\",MAX(O$15:O490)+1)","v":""},""]
[null,null,null,null,null,null,null,null,null,null,null,null,null,0,{"$f":"IF(N492=0,\"\",MAX(O$15:O491)+1)","v":""},""]
[null,null,null,null,null,null,null,null,null,null,null,null,null,0,{"$f":"IF(N493=0,\"\",MAX(O$15:O492)+1)","v":""},""]
[null,null,null,null,null,null,null,null,null,null,null,null,null,0,{"$f":"IF(N494=0,\"\",MAX(O$15:O493)+1)","v":""},""]
[null,null,null,null,null,null,null,null,null,null,null,null,null,0,{"$f":"IF(N495=0,\"\",MAX(O$15:O494)+1)","v":""},""]
[null,null,null,null,null,null,null,null,null,null,null,null,null,0,{"$f":"IF(N496=0,\"\",MAX(O$15:O495)+1)","v":""},""]
[null,null,null,null,null,null,null,null,null,null,null,null,null,0,{"$f":"IF(N497=0,\"\",MAX(O$15:O496)+1)","v":""},""]
[null,null,null,null,null,null,null,null,null,null,null,null,null,0,{"$f":"IF(N498=0,\"\",MAX(O$15:O497)+1)","v":""},""]
[null,null,null,null,null,null,null,null,null,null,null,null,null,0,{"$f":"IF(N499=0,\"\",MAX(O$15:O498)+1)","v":""},""]
[null,null,null,null,null,null,null,null,null,null,null,null,null,0,{"$f":"IF(N500=0,\"\",MAX(O$15:O499)+1)","v":""},""]
[null,null,null,null,null,null,null,null,null,null,null,null,null,0,{"$f":"IF(N501=0,\"\",MAX(O$15:O500)+1)","v":""},""]
[null,null,null,null,null,null,null,null,null,null,null,null,null,0,{"$f":"IF(N502=0,\"\",MAX(O$15:O501)+1)","v":""},""]
[null,null,null,null,null,null,null,null,null,null,null,null,null,0,{"$f":"IF(N503=0,\"\",MAX(O$15:O502)+1)","v":""},""]
[null,null,null,null,null,null,null,null,null,null,null,null,null,0,{"$f":"IF(N504=0,\"\",MAX(O$15:O503)+1)","v":""},""]
[null,null,null,null,null,null,null,null,null,null,null,null,null,0,{"$f":"IF(N505=0,\"\",MAX(O$15:O504)+1)","v":""},""]
[null,null,null,null,null,null,null,null,null,null,null,null,null,{"$f":"IFERROR(M506*L506/1000,\"\")","v":0},{"$f":"IF(N506=0,\"\",MAX(O$15:O505)+1)","v":""},""]
[null,null,null,null,null,null,null,null,null,null,null,null,null,0,{"$f":"IF(N507=0,\"\",MAX(O$15:O506)+1)","v":""},""]
[null,null,null,null,null,null,null,null,null,null,null,null,null,0,{"$f":"IF(N508=0,\"\",MAX(O$15:O507)+1)","v":""},""]
[null,null,null,null,null,null,null,null,null,null,null,null,null,0,{"$f":"IF(N509=0,\"\",MAX(O$15:O508)+1)","v":""},""]
[null,null,null,null,null,null,null,null,null,null,null,null,null,0,{"$f":"IF(N510=0,\"\",MAX(O$15:O509)+1)","v":""},""]
[null,null,null,null,null,null,null,null,null,null,null,null,null,0,{"$f":"IF(N511=0,\"\",MAX(O$15:O510)+1)","v":""},""]
[null,null,null,null,null,null,null,null,null,null,null,null,null,0,{"$f":"IF(N512=0,\"\",MAX(O$15:O511)+1)","v":""},""]
[null,null,null,null,null,null,null,null,null,null,null,null,null,0,{"$f":"IF(N513=0,\"\",MAX(O$15:O512)+1)","v":""},""]
[null,null,null,null,null,null,null,null,null,null,null,null,null,0,{"$f":"IF(N514=0,\"\",MAX(O$15:O513)+1)","v":""},""]
[null,null,null,null,null,null,null,null,null,null,null,null,null,0,{"$f":"IF(N515=0,\"\",MAX(O$15:O514)+1)","v":""},""]
[null,null,null,null,null,null,null,null,null,null,null,null,null,0,{"$f":"IF(N516=0,\"\",MAX(O$15:O515)+1)","v":""},""]
[null,null,null,null,null,null,null,null,null,null,null,null,null,0,{"$f":"IF(N517=0,\"\",MAX(O$15:O516)+1)","v":""},""]
[null,null,null,null,null,null,null,null,null,null,null,null,null,0,{"$f":"IF(N518=0,\"\",MAX(O$15:O517)+1)","v":""},""]
[null,null,null,null,null,null,null,null,null,null,null,null,null,0,{"$f":"IF(N519=0,\"\",MAX(O$15:O518)+1)","v":""},""]
[null,null,null,null,null,null,null,null,null,null,null,null,null,0,{"$f":"IF(N520=0,\"\",MAX(O$15:O519)+1)","v":""},""]
[null,null,null,null,null,null,null,null,null,null,null,null,null,0,{"$f":"IF(N521=0,\"\",MAX(O$15:O520)+1)","v":""},""]
[null,null,null,null,null,null,null,null,null,null,null,null,null,0,{"$f":"IF(N522=0,\"\",MAX(O$15:O521)+1)","v":""},""]
[null,null,null,null,null,null,null,null,null,null,null,null,null,0,{"$f":"IF(N523=0,\"\",MAX(O$15:O522)+1)","v":""},""]
[null,null,null,null,null,null,null,null,null,null,null,null,null,0,{"$f":"IF(N524=0,\"\",MAX(O$15:O523)+1)","v":""},""]
[null,null,null,null,null,null,null,null,null,null,null,null,null,0,{"$f":"IF(N525=0,\"\",MAX(O$15:O524)+1)","v":""},""]
[null,null,null,null,null,null,null,null,null,null,null,null,null,0,{"$f":"IF(N526=0,\"\",MAX(O$15:O525)+1)","v":""},""]
[null,null,null,null,null,null,null,null,null,null,null,null,null,0,{"$f":"IF(N527=0,\"\",MAX(O$15:O526)+1)","v":""},""]
[null,null,null,null,null,null,null,null,null,null,null,null,null,0,{"$f":"IF(N528=0,\"\",MAX(O$15:O527)+1)","v":""},{"$f":"IFERROR(INDEX($N$15:$N$5014,MATCH(ROW()-ROW($O$14),$O$15:$O$5014,0)),\"\")","v":""}]
[null,null,null,null,null,null,null,null,null,null,null,null,null,0,{"$f":"IF(N529=0,\"\",MAX(O$15:O528)+1)","v":""},""]
[null,null,null,null,null,null,null,null,null,null,null,null,null,0,{"$f":"IF(N530=0,\"\",MAX(O$15:O529)+1)","v":""},""]
[null,null,null,null,null,null,null,null,null,null,null,null,null,0,{"$f":"IF(N531=0,\"\",MAX(O$15:O530)+1)","v":""},""]
[null,null,null,null,null,null,null,null,null,null,null,null,null,0,{"$f":"IF(N532=0,\"\",MAX(O$15:O531)+1)","v":""},""]
[null,null,null,null,null,null,null,null,null,null,null,null,null,0,{"$f":"IF(N533=0,\"\",MAX(O$15:O532)+1)","v":""},""]
[null,null,null,null,null,null,null,null,null,null,null,null,null,0,{"$f":"IF(N534=0,\"\",MAX(O$15:O533)+1)","v":""},""]
[null,null,null,null,null,null,null,null,null,null,null,null,null,0,{"$f":"IF(N535=0,\"\",MAX(O$15:O534)+1)","v":""},""]
[null,null,null,null,null,null,null,null,null,null,null,null,null,0,{"$f":"IF(N536=0,\"\",MAX(O$15:O535)+1)","v":""},""]
[null,null,null,null,null,null,null,null,null,null,null,null,null,0,{"$f":"IF(N537=0,\"\",MAX(O$15:O536)+1)","v":""},""]
[null,null,null,null,null,null,null,null,null,null,null,null,null,0,{"$f":"IF(N538=0,\"\",MAX(O$15:O537)+1)","v":""},""]
[null,null,null,null,null,null,null,null,null,null,null,null,null,0,{"$f":"IF(N539=0,\"\",MAX(O$15:O538)+1)","v":""},""]
[null,null,null,null,null,null,null,null,null,null,null,null,null,0,{"$f":"IF(N540=0,\"\",MAX(O$15:O539)+1)","v":""},""]
[null,null,null,null,null,null,null,null,null,null,null,null,null,0,{"$f":"IF(N541=0,\"\",MAX(O$15:O540)+1)","v":""},""]
[null,null,null,null,null,null,null,null,null,null,null,null,null,0,{"$f":"IF(N542=0,\"\",MAX(O$15:O541)+1)","v":""},""]
[null,null,null,null,null,null,null,null,null,null,null,null,null,0,{"$f":"IF(N543=0,\"\",MAX(O$15:O542)+1)","v":""},""]
[null,null,null,null,null,null,null,null,null,null,null,null,null,0,{"$f":"IF(N544=0,\"\",MAX(O$15:O543)+1)","v":""},""]
[null,null,null,null,null,null,null,null,null,null,null,null,null,0,{"$f":"IF(N545=0,\"\",MAX(O$15:O544)+1)","v":""},""]
[null,null,null,null,null,null,null,null,null,null,null,null,null,0,{"$f":"IF(N546=0,\"\",MAX(O$15:O545)+1)","v":""},""]
[null,null,null,null,null,null,null,null,null,null,null,null,null,0,{"$f":"IF(N547=0,\"\",MAX(O$15:O546)+1)","v":""},""]
[null,null,null,null,null,null,null,null,null,null,null,null,null,0,{"$f":"IF(N548=0,\"\",MAX(O$15:O547)+1)","v":""},""]
[null,null,null,null,null,null,null,null,null,null,null,null,null,0,{"$f":"IF(N549=0,\"\",MAX(O$15:O548)+1)","v":""},""]
[null,null,null,null,null,null,null,null,null,null,null,null,null,0,{"$f":"IF(N550=0,\"\",MAX(O$15:O549)+1)","v":""},""]
[null,null,null,null,null,null,null,null,null,null,null,null,null,0,{"$f":"IF(N551=0,\"\",MAX(O$15:O550)+1)","v":""},""]
[null,null,null,null,null,null,null,null,null,null,null,null,null,0,{"$f":"IF(N552=0,\"\",MAX(O$15:O551)+1)","v":""},""]
[null,null,null,null,null,null,null,null,null,null,null,null,null,0,{"$f":"IF(N553=0,\"\",MAX(O$15:O552)+1)","v":""},""]
[null,null,null,null,null,null,null,null,null,null,null,null,null,0,{"$f":"IF(N554=0,\"\",MAX(O$15:O553)+1)","v":""},""]
[null,null,null,null,null,null,null,null,null,null,null,null,null,0,{"$f":"IF(N555=0,\"\",MAX(O$15:O554)+1)","v":""},""]
[null,null,null,null,null,null,null,null,null,null,null,null,null,0,{"$f":"IF(N556=0,\"\",MAX(O$15:O555)+1)","v":""},""]
[null,null,null,null,null,null,null,null,null,null,null,null,null,0,{"$f":"IF(N557=0,\"\",MAX(O$15:O556)+1)","v":""},""]
[null,null,null,null,null,null,null,null,null,null,null,null,null,0,{"$f":"IF(N558=0,\"\",MAX(O$15:O557)+1)","v":""},""]
[null,null,null,null,null,null,null,null,null,null,null,null,null,0,{"$f":"IF(N559=0,\"\",MAX(O$15:O558)+1)","v":""},""]
[null,null,null,null,null,null,null,null,null,null,null,null,null,0,{"$f":"IF(N560=0,\"\",MAX(O$15:O559)+1)","v":""},""]
[null,null,null,null,null,null,null,null,null,null,null,null,null,0,{"$f":"IF(N561=0,\"\",MAX(O$15:O560)+1)","v":""},""]
[null,null,null,null,null,null,null,null,null,null,null,null,null,0,{"$f":"IF(N562=0,\"\",MAX(O$15:O561)+1)","v":""},""]
[null,null,null,null,null,null,null,null,null,null,null,null,null,0,{"$f":"IF(N563=0,\"\",MAX(O$15:O562)+1)","v":""},""]
[null,null,null,null,null,null,null,null,null,null,null,null,null,0,{"$f":"IF(N564=0,\"\",MAX(O$15:O563)+1)","v":""},""]
[null,null,null,null,null,null,null,null,null,null,null,null,null,0,{"$f":"IF(N565=0,\"\",MAX(O$15:O564)+1)","v":""},""]
[null,null,null,null,null,null,null,null,null,null,null,null,null,0,{"$f":"IF(N566=0,\"\",MAX(O$15:O565)+1)","v":""},""]
[null,null,null,null,null,null,null,null,null,null,null,null,null,0,{"$f":"IF(N567=0,\"\",MAX(O$15:O566)+1)","v":""},""]
[null,null,null,null,null,null,null,null,null,null,null,null,null,0,{"$f":"IF(N568=0,\"\",MAX(O$15:O567)+1)","v":""},""]
[null,null,null,null,null,null,null,null,null,null,null,null,null,0,{"$f":"IF(N569=0,\"\",MAX(O$15:O568)+1)","v":""},""]
[null,null,null,null,null,null,null,null,null,null,null,null,null,{"$f":"IFERROR(M570*L570/1000,\"\")","v":0},{"$f":"IF(N570=0,\"\",MAX(O$15:O569)+1)","v":""},""]
[null,null,null,null,null,null,null,null,null,null,null,null,null,0,{"$f":"IF(N571=0,\"\",MAX(O$15:O570)+1)","v":""},""]
[null,null,null,null,null,null,null,null,null,null,null,null,null,0,{"$f":"IF(N572=0,\"\",MAX(O$15:O571)+1)","v":""},""]
[null,null,null,null,null,null,null,null,null,null,null,null,null,0,{"$f":"IF(N573=0,\"\",MAX(O$15:O572)+1)","v":""},""]
[null,null,null,null,null,null,null,null,null,null,null,null,null,0,{"$f":"IF(N574=0,\"\",MAX(O$15:O573)+1)","v":""},""]
[null,null,null,null,null,null,null,null,null,null,null,null,null,0,{"$f":"IF(N575=0,\"\",MAX(O$15:O574)+1)","v":""},""]
[null,null,null,null,null,null,null,null,null,null,null,null,null,0,{"$f":"IF(N576=0,\"\",MAX(O$15:O575)+1)","v":""},""]
[null,null,null,null,null,null,null,null,null,null,null,null,null,0,{"$f":"IF(N577=0,\"\",MAX(O$15:O576)+1)","v":""},""]
[null,null,null,null,null,null,null,null,null,null,null,null,null,0,{"$f":"IF(N578=0,\"\",MAX(O$15:O577)+1)","v":""},""]
[null,null,null,null,null,null,null,null,null,null,null,null,null,0,{"$f":"IF(N579=0,\"\",MAX(O$15:O578)+1)","v":""},""]
[null,null,null,null,null,null,null,null,null,null,null,null,null,0,{"$f":"IF(N580=0,\"\",MAX(O$15:O579)+1)","v":""},""]
[null,null,null,null,null,null,null,null,null,null,null,null,null,0,{"$f":"IF(N581=0,\"\",MAX(O$15:O580)+1)","v":""},""]
[null,null,null,null,null,null,null,null,null,null,null,null,null,0,{"$f":"IF(N582=0,\"\",MAX(O$15:O581)+1)","v":""},""]
[null,null,null,null,null,null,null,null,null,null,null,null,null,0,{"$f":"IF(N583=0,\"\",MAX(O$15:O582)+1)","v":""},""]
[null,null,null,null,null,null,null,null,null,null,null,null,null,0,{"$f":"IF(N584=0,\"\",MAX(O$15:O583)+1)","v":""},""]
[null,null,null,null,null,null,null,null,null,null,null,null,null,0,{"$f":"IF(N585=0,\"\",MAX(O$15:O584)+1)","v":""},""]
[null,null,null,null,null,null,null,null,null,null,null,null,null,0,{"$f":"IF(N586=0,\"\",MAX(O$15:O585)+1)","v":""},""]
[null,null,null,null,null,null,null,null,null,null,null,null,null,0,{"$f":"IF(N587=0,\"\",MAX(O$15:O586)+1)","v":""},""]
[null,null,null,null,null,null,null,null,null,null,null,null,null,0,{"$f":"IF(N588=0,\"\",MAX(O$15:O587)+1)","v":""},""]
[null,null,null,null,null,null,null,null,null,null,null,null,null,0,{"$f":"IF(N589=0,\"\",MAX(O$15:O588)+1)","v":""},""]
[null,null,null,null,null,null,null,null,null,null,null,null,null,0,{"$f":"IF(N590=0,\"\",MAX(O$15:O589)+1)","v":""},""]
[null,null,null,null,null,null,null,null,null,null,null,null,null,0,{"$f":"IF(N591=0,\"\",MAX(O$15:O590)+1)","v":""},""]
[null,null,null,null,null,null,null,null,null,null,null,null,null,0,{"$f":"IF(N592=0,\"\",MAX(O$15:O591)+1)","v":""},{"$f":"IFERROR(INDEX($N$15:$N$5014,MATCH(ROW()-ROW($O$14),$O$15:$O$5014,0)),\"\")","v":""}]
[null,null,null,null,null,null,null,null,null,null,null,null,null,0,{"$f":"IF(N593=0,\"\",MAX(O$15:O592)+1)","v":""},""]
[null,null,null,null,null,null,null,null,null,null,null,null,null,0,{"$f":"IF(N594=0,\"\",MAX(O$15:O593)+1)","v":""},""]
[null,null,null,null,null,null,null,null,null,null,null,null,null,0,{"$f":"IF(N595=0,\"\",MAX(O$15:O594)+1)","v":""},""]
[null,null,null,null,null,null,null,null,null,null,null,null,null,0,{"$f":"IF(N596=0,\"\",MAX(O$15:O595)+1)","v":""},""]
[null,null,null,null,null,null,null,null,null,null,null,null,null,0,{"$f":"IF(N597=0,\"\",MAX(O$15:O596)+1)","v":""},""]
[null,null,null,null,null,null,null,null,null,null,null,null,null,0,{"$f":"IF(N598=0,\"\",MAX(O$15:O597)+1)","v":""},""]
[null,null,null,null,null,null,null,null,null,null,null,null,null,0,{"$f":"IF(N599=0,\"\",MAX(O$15:O598)+1)","v":""},""]
[null,null,null,null,null,null,null,null,null,null,null,null,null,0,{"$f":"IF(N600=0,\"\",MAX(O$15:O599)+1)","v":""},""]
[null,null,null,null,null,null,null,null,null,null,null,null,null,0,{"$f":"IF(N601=0,\"\",MAX(O$15:O600)+1)","v":""},""]
[null,null,null,null,null,null,null,null,null,null,null,null,null,0,{"$f":"IF(N602=0,\"\",MAX(O$15:O601)+1)","v":""},""]
[null,null,null,null,null,null,null,null,null,null,null,null,null,0,{"$f":"IF(N603=0,\"\",MAX(O$15:O602)+1)","v":""},""]
[null,null,null,null,null,null,null,null,null,null,null,null,null,0,{"$f":"IF(N604=0,\"\",MAX(O$15:O603)+1)","v":""},""]
[null,null,null,null,null,null,null,null,null,null,null,null,null,0,{"$f":"IF(N605=0,\"\",MAX(O$15:O604)+1)","v":""},""]
[null,null,null,null,null,null,null,null,null,null,null,null,null,0,{"$f":"IF(N606=0,\"\",MAX(O$15:O605)+1)","v":""},""]
[null,null,null,null,null,null,null,null,null,null,null,null,null,0,{"$f":"IF(N607=0,\"\",MAX(O$15:O606)+1)","v":""},""]
[null,null,null,null,null,null,null,null,null,null,null,null,null,0,{"$f":"IF(N608=0,\"\",MAX(O$15:O607)+1)","v":""},""]
[null,null,null,null,null,null,null,null,null,null,null,null,null,0,{"$f":"IF(N609=0,\"\",MAX(O$15:O608)+1)","v":""},""]
[null,null,null,null,null,null,null,null,null,null,null,null,null,0,{"$f":"IF(N610=0,\"\",MAX(O$15:O609)+1)","v":""},""]
[null,null,null,null,null,null,null,null,null,null,null,null,null,0,{"$f":"IF(N611=0,\"\",MAX(O$15:O610)+1)","v":""},""]
[null,null,null,null,null,null,null,null,null,null,null,null,null,0,{"$f":"IF(N612=0,\"\",MAX(O$15:O611)+1)","v":""},""]
[null,null,null,null,null,null,null,null,null,null,null,null,null,0,{"$f":"IF(N613=0,\"\",MAX(O$15:O612)+1)","v":""},""]
[null,null,null,null,null,null,null,null,null,null,null,null,null,0,{"$f":"IF(N614=0,\"\",MAX(O$15:O613)+1)","v":""},""]
[null,null,null,null,null,null,null,null,null,null,null,null,null,0,{"$f":"IF(N615=0,\"\",MAX(O$15:O614)+1)","v":""},""]
[null,null,null,null,null,null,null,null,null,null,null,null,null,0,{"$f":"IF(N616=0,\"\",MAX(O$15:O615)+1)","v":""},""]
[null,null,null,null,null,null,null,null,null,null,null,null,null,0,{"$f":"IF(N617=0,\"\",MAX(O$15:O616)+1)","v":""},""]
[null,null,null,null,null,null,null,null,null,null,null,null,null,0,{"$f":"IF(N618=0,\"\",MAX(O$15:O617)+1)","v":""},""]
[null,null,null,null,null,null,null,null,null,null,null,null,null,0,{"$f":"IF(N619=0,\"\",MAX(O$15:O618)+1)","v":""},""]
[null,null,null,null,null,null,null,null,null,null,null,null,null,0,{"$f":"IF(N620=0,\"\",MAX(O$15:O619)+1)","v":""},""]
[null,null,null,null,null,null,null,null,null,null,null,null,null,0,{"$f":"IF(N621=0,\"\",MAX(O$15:O620)+1)","v":""},""]
[null,null,null,null,null,null,null,null,null,null,null,null,null,0,{"$f":"IF(N622=0,\"\",MAX(O$15:O621)+1)","v":""},""]
[null,null,null,null,null,null,null,null,null,null,null,null,null,0,{"$f":"IF(N623=0,\"\",MAX(O$15:O622)+1)","v":""},""]
[null,null,null,null,null,null,null,null,null,null,null,null,null,0,{"$f":"IF(N624=0,\"\",MAX(O$15:O623)+1)","v":""},""]
[null,null,null,null,null,null,null,null,null,null,null,null,null,0,{"$f":"IF(N625=0,\"\",MAX(O$15:O624)+1)","v":""},""]
[null,null,null,null,null,null,null,null,null,null,null,null,null,0,{"$f":"IF(N626=0,\"\",MAX(O$15:O625)+1)","v":""},""]
[null,null,null,null,null,null,null,null,null,null,null,null,null,0,{"$f":"IF(N627=0,\"\",MAX(O$15:O626)+1)","v":""},""]
[null,null,null,null,null,null,null,null,null,null,null,null,null,0,{"$f":"IF(N628=0,\"\",MAX(O$15:O627)+1)","v":""},""]
[null,null,null,null,null,null,null,null,null,null,null,null,null,0,{"$f":"IF(N629=0,\"\",MAX(O$15:O628)+1)","v":""},""]
[null,null,null,null,null,null,null,null,null,null,null,null,null,0,{"$f":"IF(N630=0,\"\",MAX(O$15:O629)+1)","v":""},""]
[null,null,null,null,null,null,null,null,null,null,null,null,null,0,{"$f":"IF(N631=0,\"\",MAX(O$15:O630)+1)","v":""},""]
[null,null,null,null,null,null,null,null,null,null,null,null,null,0,{"$f":"IF(N632=0,\"\",MAX(O$15:O631)+1)","v":""},""]
[null,null,null,null,null,null,null,null,null,null,null,null,null,0,{"$f":"IF(N633=0,\"\",MAX(O$15:O632)+1)","v":""},""]
[null,null,null,null,null,null,null,null,null,null,null,null,null,{"$f":"IFERROR(M634*L634/1000,\"\")","v":0},{"$f":"IF(N634=0,\"\",MAX(O$15:O633)+1)","v":""},""]
[null,null,null,null,null,null,null,null,null,null,null,null,null,0,{"$f":"IF(N635=0,\"\",MAX(O$15:O634)+1)","v":""},""]
[null,null,null,null,null,null,null,null,null,null,null,null,null,0,{"$f":"IF(N636=0,\"\",MAX(O$15:O635)+1)","v":""},""]
[null,null,null,null,null,null,null,null,null,null,null,null,null,0,{"$f":"IF(N637=0,\"\",MAX(O$15:O636)+1)","v":""},""]
[null,null,null,null,null,null,null,null,null,null,null,null,null,0,{"$f":"IF(N638=0,\"\",MAX(O$15:O637)+1)","v":""},""]
[null,null,null,null,null,null,null,null,null,null,null,null,null,0,{"$f":"IF(N639=0,\"\",MAX(O$15:O638)+1)","v":""},""]
[null,null,null,null,null,null,null,null,null,null,null,null,null,0,{"$f":"IF(N640=0,\"\",MAX(O$15:O639)+1)","v":""},""]
[null,null,null,null,null,null,null,null,null,null,null,null,null,0,{"$f":"IF(N641=0,\"\",MAX(O$15:O640)+1)","v":""},""]
[null,null,null,null,null,null,null,null,null,null,null,null,null,0,{"$f":"IF(N642=0,\"\",MAX(O$15:O641)+1)","v":""},""]
[null,null,null,null,null,null,null,null,null,null,null,null,null,0,{"$f":"IF(N643=0,\"\",MAX(O$15:O642)+1)","v":""},""]
[null,null,null,null,null,null,null,null,null,null,null,null,null,0,{"$f":"IF(N644=0,\"\",MAX(O$15:O643)+1)","v":""},""]
[null,null,null,null,null,null,null,null,null,null,null,null,null,0,{"$f":"IF(N645=0,\"\",MAX(O$15:O644)+1)","v":""},""]
[null,null,null,null,null,null,null,null,null,null,null,null,null,0,{"$f":"IF(N646=0,\"\",MAX(O$15:O645)+1)","v":""},""]
[null,null,null,null,null,null,null,null,null,null,null,null,null,0,{"$f":"IF(N647=0,\"\",MAX(O$15:O646)+1)","v":""},""]
[null,null,null,null,null,null,null,null,null,null,null,null,null,0,{"$f":"IF(N648=0,\"\",MAX(O$15:O647)+1)","v":""},""]
[null,null,null,null,null,null,null,null,null,null,null,null,null,0,{"$f":"IF(N649=0,\"\",MAX(O$15:O648)+1)","v":""},""]
[null,null,null,null,null,null,null,null,null,null,null,null,null,0,{"$f":"IF(N650=0,\"\",MAX(O$15:O649)+1)","v":""},""]
[null,null,null,null,null,null,null,null,null,null,null,null,null,0,{"$f":"IF(N651=0,\"\",MAX(O$15:O650)+1)","v":""},""]
[null,null,null,null,null,null,null,null,null,null,null,null,null,0,{"$f":"IF(N652=0,\"\",MAX(O$15:O651)+1)","v":""},""]
[null,null,null,null,null,null,null,null,null,null,null,null,null,0,{"$f":"IF(N653=0,\"\",MAX(O$15:O652)+1)","v":""},""]
[null,null,null,null,null,null,null,null,null,null,null,null,null,0,{"$f":"IF(N654=0,\"\",MAX(O$15:O653)+1)","v":""},""]
[null,null,null,null,null,null,null,null,null,null,null,null,null,0,{"$f":"IF(N655=0,\"\",MAX(O$15:O654)+1)","v":""},""]
[null,null,null,null,null,null,null,null,null,null,null,null,null,0,{"$f":"IF(N656=0,\"\",MAX(O$15:O655)+1)","v":""},{"$f":"IFERROR(INDEX($N$15:$N$5014,MATCH(ROW()-ROW($O$14),$O$15:$O$5014,0)),\"\")","v":""}]
[null,null,null,null,null,null,null,null,null,null,null,null,null,0,{"$f":"IF(N657=0,\"\",MAX(O$15:O656)+1)","v":""},""]
[null,null,null,null,null,null,null,null,null,null,null,null,null,0,{"$f":"IF(N658=0,\"\",MAX(O$15:O657)+1)","v":""},""]
[null,null,null,null,null,null,null,null,null,null,null,null,null,0,{"$f":"IF(N659=0,\"\",MAX(O$15:O658)+1)","v":""},""]
[null,null,null,null,null,null,null,null,null,null,null,null,null,0,{"$f":"IF(N660=0,\"\",MAX(O$15:O659)+1)","v":""},""]
[null,null,null,null,null,null,null,null,null,null,null,null,null,0,{"$f":"IF(N661=0,\"\",MAX(O$15:O660)+1)","v":""},""]
[null,null,null,null,null,null,null,null,null,null,null,null,null,0,{"$f":"IF(N662=0,\"\",MAX(O$15:O661)+1)","v":""},""]
[null,null,null,null,null,null,null,null,null,null,null,null,null,0,{"$f":"IF(N663=0,\"\",MAX(O$15:O662)+1)","v":""},""]
[null,null,null,null,null,null,null,null,null,null,null,null,null,0,{"$f":"IF(N664=0,\"\",MAX(O$15:O663)+1)","v":""},""]
[null,null,null,null,null,null,null,null,null,null,null,null,null,0,{"$f":"IF(N665=0,\"\",MAX(O$15:O664)+1)","v":""},""]
[null,null,null,null,null,null,null,null,null,null,null,null,null,0,{"$f":"IF(N666=0,\"\",MAX(O$15:O665)+1)","v":""},""]
[null,null,null,null,null,null,null,null,null,null,null,null,null,0,{"$f":"IF(N667=0,\"\",MAX(O$15:O666)+1)","v":""},""]
[null,null,null,null,null,null,null,null,null,null,null,null,null,0,{"$f":"IF(N668=0,\"\",MAX(O$15:O667)+1)","v":""},""]
[null,null,null,null,null,null,null,null,null,null,null,null,null,0,{"$f":"IF(N669=0,\"\",MAX(O$15:O668)+1)","v":""},""]
[null,null,null,null,null,null,null,null,null,null,null,null,null,0,{"$f":"IF(N670=0,\"\",MAX(O$15:O669)+1)","v":""},""]
[null,null,null,null,null,null,null,null,null,null,null,null,null,0,{"$f":"IF(N671=0,\"\",MAX(O$15:O670)+1)","v":""},""]
[null,null,null,null,null,null,null,null,null,null,null,null,null,0,{"$f":"IF(N672=0,\"\",MAX(O$15:O671)+1)","v":""},""]
[null,null,null,null,null,null,null,null,null,null,null,null,null,0,{"$f":"IF(N673=0,\"\",MAX(O$15:O672)+1)","v":""},""]
[null,null,null,null,null,null,null,null,null,null,null,null,null,0,{"$f":"IF(N674=0,\"\",MAX(O$15:O673)+1)","v":""},""]
[null,null,null,null,null,null,null,null,null,null,null,null,null,0,{"$f":"IF(N675=0,\"\",MAX(O$15:O674)+1)","v":""},""]
[null,null,null,null,null,null,null,null,null,null,null,null,null,0,{"$f":"IF(N676=0,\"\",MAX(O$15:O675)+1)","v":""},""]
[null,null,null,null,null,null,null,null,null,null,null,null,null,0,{"$f":"IF(N677=0,\"\",MAX(O$15:O676)+1)","v":""},""]
[null,null,null,null,null,null,null,null,null,null,null,null,null,0,{"$f":"IF(N678=0,\"\",MAX(O$15:O677)+1)","v":""},""]
[null,null,null,null,null,null,null,null,null,null,null,null,null,0,{"$f":"IF(N679=0,\"\",MAX(O$15:O678)+1)","v":""},""]
[null,null,null,null,null,null,null,null,null,null,null,null,null,0,{"$f":"IF(N680=0,\"\",MAX(O$15:O679)+1)","v":""},""]
[null,null,null,null,null,null,null,null,null,null,null,null,null,0,{"$f":"IF(N681=0,\"\",MAX(O$15:O680)+1)","v":""},""]
[null,null,null,null,null,null,null,null,null,null,null,null,null,0,{"$f":"IF(N682=0,\"\",MAX(O$15:O681)+1)","v":""},""]
[null,null,null,null,null,null,null,null,null,null,null,null,null,0,{"$f":"IF(N683=0,\"\",MAX(O$15:O682)+1)","v":""},""]
[null,null,null,null,null,null,null,null,null,null,null,null,null,0,{"$f":"IF(N684=0,\"\",MAX(O$15:O683)+1)","v":""},""]
[null,null,null,null,null,null,null,null,null,null,null,null,null,0,{"$f":"IF(N685=0,\"\",MAX(O$15:O684)+1)","v":""},""]
[null,null,null,null,null,null,null,null,null,null,null,null,null,0,{"$f":"IF(N686=0,\"\",MAX(O$15:O685)+1)","v":""},""]
[null,null,null,null,null,null,null,null,null,null,null,null,null,0,{"$f":"IF(N687=0,\"\",MAX(O$15:O686)+1)","v":""},""]
[null,null,null,null,null,null,null,null,null,null,null,null,null,0,{"$f":"IF(N688=0,\"\",MAX(O$15:O687)+1)","v":""},""]
[null,null,null,null,null,null,null,null,null,null,null,null,null,0,{"$f":"IF(N689=0,\"\",MAX(O$15:O688)+1)","v":""},""]
[null,null,null,null,null,null,null,null,null,null,null,null,null,0,{"$f":"IF(N690=0,\"\",MAX(O$15:O689)+1)","v":""},""]
[null,null,null,null,null,null,null,null,null,null,null,null,null,0,{"$f":"IF(N691=0,\"\",MAX(O$15:O690)+1)","v":""},""]
[null,null,null,null,null,null,null,null,null,null,null,null,null,0,{"$f":"IF(N692=0,\"\",MAX(O$15:O691)+1)","v":""},""]
[null,null,null,null,null,null,null,null,null,null,null,null,null,0,{"$f":"IF(N693=0,\"\",MAX(O$15:O692)+1)","v":""},""]
[null,null,null,null,null,null,null,null,null,null,null,null,null,0,{"$f":"IF(N694=0,\"\",MAX(O$15:O693)+1)","v":""},""]
[null,null,null,null,null,null,null,null,null,null,null,null,null,0,{"$f":"IF(N695=0,\"\",MAX(O$15:O694)+1)","v":""},""]
[null,null,null,null,null,null,null,null,null,null,null,null,null,0,{"$f":"IF(N696=0,\"\",MAX(O$15:O695)+1)","v":""},""]
[null,null,null,null,null,null,null,null,null,null,null,null,null,0,{"$f":"IF(N697=0,\"\",MAX(O$15:O696)+1)","v":""},""]
[null,null,null,null,null,null,null,null,null,null,null,null,null,{"$f":"IFERROR(M698*L698/1000,\"\")","v":0},{"$f":"IF(N698=0,\"\",MAX(O$15:O697)+1)","v":""},""]
[null,null,null,null,null,null,null,null,null,null,null,null,null,0,{"$f":"IF(N699=0,\"\",MAX(O$15:O698)+1)","v":""},""]
[null,null,null,null,null,null,null,null,null,null,null,null,null,0,{"$f":"IF(N700=0,\"\",MAX(O$15:O699)+1)","v":""},""]
[null,null,null,null,null,null,null,null,null,null,null,null,null,0,{"$f":"IF(N701=0,\"\",MAX(O$15:O700)+1)","v":""},""]
[null,null,null,null,null,null,null,null,null,null,null,null,null,0,{"$f":"IF(N702=0,\"\",MAX(O$15:O701)+1)","v":""},""]
[null,null,null,null,null,null,null,null,null,null,null,null,null,0,{"$f":"IF(N703=0,\"\",MAX(O$15:O702)+1)","v":""},""]
[null,null,null,null,null,null,null,null,null,null,null,null,null,0,{"$f":"IF(N704=0,\"\",MAX(O$15:O703)+1)","v":""},""]
[null,null,null,null,null,null,null,null,null,null,null,null,null,0,{"$f":"IF(N705=0,\"\",MAX(O$15:O704)+1)","v":""},""]
[null,null,null,null,null,null,null,null,null,null,null,null,null,0,{"$f":"IF(N706=0,\"\",MAX(O$15:O705)+1)","v":""},""]
[null,null,null,null,null,null,null,null,null,null,null,null,null,0,{"$f":"IF(N707=0,\"\",MAX(O$15:O706)+1)","v":""},""]
[null,null,null,null,null,null,null,null,null,null,null,null,null,0,{"$f":"IF(N708=0,\"\",MAX(O$15:O707)+1)","v":""},""]
[null,null,null,null,null,null,null,null,null,null,null,null,null,0,{"$f":"IF(N709=0,\"\",MAX(O$15:O708)+1)","v":""},""]
[null,null,null,null,null,null,null,null,null,null,null,null,null,0,{"$f":"IF(N710=0,\"\",MAX(O$15:O709)+1)","v":""},""]
[null,null,null,null,null,null,null,null,null,null,null,null,null,0,{"$f":"IF(N711=0,\"\",MAX(O$15:O710)+1)","v":""},""]
[null,null,null,null,null,null,null,null,null,null,null,null,null,0,{"$f":"IF(N712=0,\"\",MAX(O$15:O711)+1)","v":""},""]
[null,null,null,null,null,null,null,null,null,null,null,null,null,0,{"$f":"IF(N713=0,\"\",MAX(O$15:O712)+1)","v":""},""]
[null,null,null,null,null,null,null,null,null,null,null,null,null,0,{"$f":"IF(N714=0,\"\",MAX(O$15:O713)+1)","v":""},""]
[null,null,null,null,null,null,null,null,null,null,null,null,null,0,{"$f":"IF(N715=0,\"\",MAX(O$15:O714)+1)","v":""},""]
[null,null,null,null,null,null,null,null,null,null,null,null,null,0,{"$f":"IF(N716=0,\"\",MAX(O$15:O715)+1)","v":""},""]
[null,null,null,null,null,null,null,null,null,null,null,null,null,0,{"$f":"IF(N717=0,\"\",MAX(O$15:O716)+1)","v":""},""]
[null,null,null,null,null,null,null,null,null,null,null,null,null,0,{"$f":"IF(N718=0,\"\",MAX(O$15:O717)+1)","v":""},""]
[null,null,null,null,null,null,null,null,null,null,null,null,null,0,{"$f":"IF(N719=0,\"\",MAX(O$15:O718)+1)","v":""},""]
[null,null,null,null,null,null,null,null,null,null,null,null,null,0,{"$f":"IF(N720=0,\"\",MAX(O$15:O719)+1)","v":""},{"$f":"IFERROR(INDEX($N$15:$N$5014,MATCH(ROW()-ROW($O$14),$O$15:$O$5014,0)),\"\")","v":""}]
[null,null,null,null,null,null,null,null,null,null,null,null,null,0,{"$f":"IF(N721=0,\"\",MAX(O$15:O720)+1)","v":""},""]
[null,null,null,null,null,null,null,null,null,null,null,null,null,0,{"$f":"IF(N722=0,\"\",MAX(O$15:O721)+1)","v":""},""]
[null,null,null,null,null,null,null,null,null,null,null,null,null,0,{"$f":"IF(N723=0,\"\",MAX(O$15:O722)+1)","v":""},""]
[null,null,null,null,null,null,null,null,null,null,null,null,null,0,{"$f":"IF(N724=0,\"\",MAX(O$15:O723)+1)","v":""},""]
[null,null,null,null,null,null,null,null,null,null,null,null,null,0,{"$f":"IF(N725=0,\"\",MAX(O$15:O724)+1)","v":""},""]
[null,null,null,null,null,null,null,null,null,null,null,null,null,0,{"$f":"IF(N726=0,\"\",MAX(O$15:O725)+1)","v":""},""]
[null,null,null,null,null,null,null,null,null,null,null,null,null,0,{"$f":"IF(N727=0,\"\",MAX(O$15:O726)+1)","v":""},""]
[null,null,null,null,null,null,null,null,null,null,null,null,null,0,{"$f":"IF(N728=0,\"\",MAX(O$15:O727)+1)","v":""},""]
[null,null,null,null,null,null,null,null,null,null,null,null,null,0,{"$f":"IF(N729=0,\"\",MAX(O$15:O728)+1)","v":""},""]
[null,null,null,null,null,null,null,null,null,null,null,null,null,0,{"$f":"IF(N730=0,\"\",MAX(O$15:O729)+1)","v":""},""]
[null,null,null,null,null,null,null,null,null,null,null,null,null,0,{"$f":"IF(N731=0,\"\",MAX(O$15:O730)+1)","v":""},""]
[null,null,null,null,null,null,null,null,null,null,null,null,null,0,{"$f":"IF(N732=0,\"\",MAX(O$15:O731)+1)","v":""},""]
[null,null,null,null,null,null,null,null,null,null,null,null,null,0,{"$f":"IF(N733=0,\"\",MAX(O$15:O732)+1)","v":""},""]
[null,null,null,null,null,null,null,null,null,null,null,null,null,0,{"$f":"IF(N734=0,\"\",MAX(O$15:O733)+1)","v":""},""]
[null,null,null,null,null,null,null,null,null,null,null,null,null,0,{"$f":"IF(N735=0,\"\",MAX(O$15:O734)+1)","v":""},""]
[null,null,null,null,null,null,null,null,null,null,null,null,null,0,{"$f":"IF(N736=0,\"\",MAX(O$15:O735)+1)","v":""},""]
[null,null,null,null,null,null,null,null,null,null,null,null,null,0,{"$f":"IF(N737=0,\"\",MAX(O$15:O736)+1)","v":""},""]
[null,null,null,null,null,null,null,null,null,null,null,null,null,0,{"$f":"IF(N738=0,\"\",MAX(O$15:O737)+1)","v":""},""]
[null,null,null,null,null,null,null,null,null,null,null,null,null,0,{"$f":"IF(N739=0,\"\",MAX(O$15:O738)+1)","v":""},""]
[null,null,null,null,null,null,null,null,null,null,null,null,null,0,{"$f":"IF(N740=0,\"\",MAX(O$15:O739)+1)","v":""},""]
[null,null,null,null,null,null,null,null,null,null,null,null,null,0,{"$f":"IF(N741=0,\"\",MAX(O$15:O740)+1)","v":""},""]
[null,null,null,null,null,null,null,null,null,null,null,null,null,0,{"$f":"IF(N742=0,\"\",MAX(O$15:O741)+1)","v":""},""]
[null,null,null,null,null,null,null,null,null,null,null,null,null,0,{"$f":"IF(N743=0,\"\",MAX(O$15:O742)+1)","v":""},""]
[null,null,null,null,null,null,null,null,null,null,null,null,null,0,{"$f":"IF(N744=0,\"\",MAX(O$15:O743)+1)","v":""},""]
[null,null,null,null,null,null,null,null,null,null,null,null,null,0,{"$f":"IF(N745=0,\"\",MAX(O$15:O744)+1)","v":""},""]
[null,null,null,null,null,null,null,null,null,null,null,null,null,0,{"$f":"IF(N746=0,\"\",MAX(O$15:O745)+1)","v":""},""]
[null,null,null,null,null,null,null,null,null,null,null,null,null,0,{"$f":"IF(N747=0,\"\",MAX(O$15:O746)+1)","v":""},""]
[null,null,null,null,null,null,null,null,null,null,null,null,null,0,{"$f":"IF(N748=0,\"\",MAX(O$15:O747)+1)","v":""},""]
[null,null,null,null,null,null,null,null,null,null,null,null,null,0,{"$f":"IF(N749=0,\"\",MAX(O$15:O748)+1)","v":""},""]
[null,null,null,null,null,null,null,null,null,null,null,null,null,0,{"$f":"IF(N750=0,\"\",MAX(O$15:O749)+1)","v":""},""]
[null,null,null,null,null,null,null,null,null,null,null,null,null,0,{"$f":"IF(N751=0,\"\",MAX(O$15:O750)+1)","v":""},""]
[null,null,null,null,null,null,null,null,null,null,null,null,null,0,{"$f":"IF(N752=0,\"\",MAX(O$15:O751)+1)","v":""},""]
[null,null,null,null,null,null,null,null,null,null,null,null,null,0,{"$f":"IF(N753=0,\"\",MAX(O$15:O752)+1)","v":""},""]
[null,null,null,null,null,null,null,null,null,null,null,null,null,0,{"$f":"IF(N754=0,\"\",MAX(O$15:O753)+1)","v":""},""]
[null,null,null,null,null,null,null,null,null,null,null,null,null,0,{"$f":"IF(N755=0,\"\",MAX(O$15:O754)+1)","v":""},""]
[null,null,null,null,null,null,null,null,null,null,null,null,null,0,{"$f":"IF(N756=0,\"\",MAX(O$15:O755)+1)","v":""},""]
[null,null,null,null,null,null,null,null,null,null,null,null,null,0,{"$f":"IF(N757=0,\"\",MAX(O$15:O756)+1)","v":""},""]
[null,null,null,null,null,null,null,null,null,null,null,null,null,0,{"$f":"IF(N758=0,\"\",MAX(O$15:O757)+1)","v":""},""]
[null,null,null,null,null,null,null,null,null,null,null,null,null,0,{"$f":"IF(N759=0,\"\",MAX(O$15:O758)+1)","v":""},""]
[null,null,null,null,null,null,null,null,null,null,null,null,null,0,{"$f":"IF(N760=0,\"\",MAX(O$15:O759)+1)","v":""},""]
[null,null,null,null,null,null,null,null,null,null,null,null,null,0,{"$f":"IF(N761=0,\"\",MAX(O$15:O760)+1)","v":""},""]
[null,null,null,null,null,null,null,null,null,null,null,null,null,{"$f":"IFERROR(M762*L762/1000,\"\")","v":0},{"$f":"IF(N762=0,\"\",MAX(O$15:O761)+1)","v":""},""]
[null,null,null,null,null,null,null,null,null,null,null,null,null,0,{"$f":"IF(N763=0,\"\",MAX(O$15:O762)+1)","v":""},""]
[null,null,null,null,null,null,null,null,null,null,null,null,null,0,{"$f":"IF(N764=0,\"\",MAX(O$15:O763)+1)","v":""},""]
[null,null,null,null,null,null,null,null,null,null,null,null,null,0,{"$f":"IF(N765=0,\"\",MAX(O$15:O764)+1)","v":""},""]
[null,null,null,null,null,null,null,null,null,null,null,null,null,0,{"$f":"IF(N766=0,\"\",MAX(O$15:O765)+1)","v":""},""]
[null,null,null,null,null,null,null,null,null,null,null,null,null,0,{"$f":"IF(N767=0,\"\",MAX(O$15:O766)+1)","v":""},""]
[null,null,null,null,null,null,null,null,null,null,null,null,null,0,{"$f":"IF(N768=0,\"\",MAX(O$15:O767)+1)","v":""},""]
[null,null,null,null,null,null,null,null,null,null,null,null,null,0,{"$f":"IF(N769=0,\"\",MAX(O$15:O768)+1)","v":""},""]
[null,null,null,null,null,null,null,null,null,null,null,null,null,0,{"$f":"IF(N770=0,\"\",MAX(O$15:O769)+1)","v":""},""]
[null,null,null,null,null,null,null,null,null,null,null,null,null,0,{"$f":"IF(N771=0,\"\",MAX(O$15:O770)+1)","v":""},""]
[null,null,null,null,null,null,null,null,null,null,null,null,null,0,{"$f":"IF(N772=0,\"\",MAX(O$15:O771)+1)","v":""},""]
[null,null,null,null,null,null,null,null,null,null,null,null,null,0,{"$f":"IF(N773=0,\"\",MAX(O$15:O772)+1)","v":""},""]
[null,null,null,null,null,null,null,null,null,null,null,null,null,0,{"$f":"IF(N774=0,\"\",MAX(O$15:O773)+1)","v":""},""]
[null,null,null,null,null,null,null,null,null,null,null,null,null,0,{"$f":"IF(N775=0,\"\",MAX(O$15:O774)+1)","v":""},""]
[null,null,null,null,null,null,null,null,null,null,null,null,null,0,{"$f":"IF(N776=0,\"\",MAX(O$15:O775)+1)","v":""},""]
[null,null,null,null,null,null,null,null,null,null,null,null,null,0,{"$f":"IF(N777=0,\"\",MAX(O$15:O776)+1)","v":""},""]
[null,null,null,null,null,null,null,null,null,null,null,null,null,0,{"$f":"IF(N778=0,\"\",MAX(O$15:O777)+1)","v":""},""]
[null,null,null,null,null,null,null,null,null,null,null,null,null,0,{"$f":"IF(N779=0,\"\",MAX(O$15:O778)+1)","v":""},""]
[null,null,null,null,null,null,null,null,null,null,null,null,null,0,{"$f":"IF(N780=0,\"\",MAX(O$15:O779)+1)","v":""},""]
[null,null,null,null,null,null,null,null,null,null,null,null,null,0,{"$f":"IF(N781=0,\"\",MAX(O$15:O780)+1)","v":""},""]
[null,null,null,null,null,null,null,null,null,null,null,null,null,0,{"$f":"IF(N782=0,\"\",MAX(O$15:O781)+1)","v":""},""]
[null,null,null,null,null,null,null,null,null,null,null,null,null,0,{"$f":"IF(N783=0,\"\",MAX(O$15:O782)+1)","v":""},""]
[null,null,null,null,null,null,null,null,null,null,null,null,null,0,{"$f":"IF(N784=0,\"\",MAX(O$15:O783)+1)","v":""},{"$f":"IFERROR(INDEX($N$15:$N$5014,MATCH(ROW()-ROW($O$14),$O$15:$O$5014,0)),\"\")","v":""}]
[null,null,null,null,null,null,null,null,null,null,null,null,null,0,{"$f":"IF(N785=0,\"\",MAX(O$15:O784)+1)","v":""},""]
[null,null,null,null,null,null,null,null,null,null,null,null,null,0,{"$f":"IF(N786=0,\"\",MAX(O$15:O785)+1)","v":""},""]
[null,null,null,null,null,null,null,null,null,null,null,null,null,0,{"$f":"IF(N787=0,\"\",MAX(O$15:O786)+1)","v":""},""]
[null,null,null,null,null,null,null,null,null,null,null,null,null,0,{"$f":"IF(N788=0,\"\",MAX(O$15:O787)+1)","v":""},""]
[null,null,null,null,null,null,null,null,null,null,null,null,null,0,{"$f":"IF(N789=0,\"\",MAX(O$15:O788)+1)","v":""},""]
[null,null,null,null,null,null,null,null,null,null,null,null,null,0,{"$f":"IF(N790=0,\"\",MAX(O$15:O789)+1)","v":""},""]
[null,null,null,null,null,null,null,null,null,null,null,null,null,0,{"$f":"IF(N791=0,\"\",MAX(O$15:O790)+1)","v":""},""]
[null,null,null,null,null,null,null,null,null,null,null,null,null,0,{"$f":"IF(N792=0,\"\",MAX(O$15:O791)+1)","v":""},""]
[null,null,null,null,null,null,null,null,null,null,null,null,null,0,{"$f":"IF(N793=0,\"\",MAX(O$15:O792)+1)","v":""},""]
[null,null,null,null,null,null,null,null,null,null,null,null,null,0,{"$f":"IF(N794=0,\"\",MAX(O$15:O793)+1)","v":""},""]
[null,null,null,null,null,null,null,null,null,null,null,null,null,0,{"$f":"IF(N795=0,\"\",MAX(O$15:O794)+1)","v":""},""]
[null,null,null,null,null,null,null,null,null,null,null,null,null,0,{"$f":"IF(N796=0,\"\",MAX(O$15:O795)+1)","v":""},""]
[null,null,null,null,null,null,null,null,null,null,null,null,null,0,{"$f":"IF(N797=0,\"\",MAX(O$15:O796)+1)","v":""},""]
[null,null,null,null,null,null,null,null,null,null,null,null,null,0,{"$f":"IF(N798=0,\"\",MAX(O$15:O797)+1)","v":""},""]
[null,null,null,null,null,null,null,null,null,null,null,null,null,0,{"$f":"IF(N799=0,\"\",MAX(O$15:O798)+1)","v":""},""]
[null,null,null,null,null,null,null,null,null,null,null,null,null,0,{"$f":"IF(N800=0,\"\",MAX(O$15:O799)+1)","v":""},""]
[null,null,null,null,null,null,null,null,null,null,null,null,null,0,{"$f":"IF(N801=0,\"\",MAX(O$15:O800)+1)","v":""},""]
[null,null,null,null,null,null,null,null,null,null,null,null,null,0,{"$f":"IF(N802=0,\"\",MAX(O$15:O801)+1)","v":""},""]
[null,null,null,null,null,null,null,null,null,null,null,null,null,0,{"$f":"IF(N803=0,\"\",MAX(O$15:O802)+1)","v":""},""]
[null,null,null,null,null,null,null,null,null,null,null,null,null,0,{"$f":"IF(N804=0,\"\",MAX(O$15:O803)+1)","v":""},""]
[null,null,null,null,null,null,null,null,null,null,null,null,null,0,{"$f":"IF(N805=0,\"\",MAX(O$15:O804)+1)","v":""},""]
[null,null,null,null,null,null,null,null,null,null,null,null,null,0,{"$f":"IF(N806=0,\"\",MAX(O$15:O805)+1)","v":""},""]
[null,null,null,null,null,null,null,null,null,null,null,null,null,0,{"$f":"IF(N807=0,\"\",MAX(O$15:O806)+1)","v":""},""]
[null,null,null,null,null,null,null,null,null,null,null,null,null,0,{"$f":"IF(N808=0,\"\",MAX(O$15:O807)+1)","v":""},""]
[null,null,null,null,null,null,null,null,null,null,null,null,null,0,{"$f":"IF(N809=0,\"\",MAX(O$15:O808)+1)","v":""},""]
[null,null,null,null,null,null,null,null,null,null,null,null,null,0,{"$f":"IF(N810=0,\"\",MAX(O$15:O809)+1)","v":""},""]
[null,null,null,null,null,null,null,null,null,null,null,null,null,0,{"$f":"IF(N811=0,\"\",MAX(O$15:O810)+1)","v":""},""]
[null,null,null,null,null,null,null,null,null,null,null,null,null,0,{"$f":"IF(N812=0,\"\",MAX(O$15:O811)+1)","v":""},""]
[null,null,null,null,null,null,null,null,null,null,null,null,null,0,{"$f":"IF(N813=0,\"\",MAX(O$15:O812)+1)","v":""},""]
[null,null,null,null,null,null,null,null,null,null,null,null,null,0,{"$f":"IF(N814=0,\"\",MAX(O$15:O813)+1)","v":""},""]
[null,null,null,null,null,null,null,null,null,null,null,null,null,0,{"$f":"IF(N815=0,\"\",MAX(O$15:O814)+1)","v":""},""]
[null,null,null,null,null,null,null,null,null,null,null,null,null,0,{"$f":"IF(N816=0,\"\",MAX(O$15:O815)+1)","v":""},""]
[null,null,null,null,null,null,null,null,null,null,null,null,null,0,{"$f":"IF(N817=0,\"\",MAX(O$15:O816)+1)","v":""},""]
[null,null,null,null,null,null,null,null,null,null,null,null,null,0,{"$f":"IF(N818=0,\"\",MAX(O$15:O817)+1)","v":""},""]
[null,null,null,null,null,null,null,null,null,null,null,null,null,0,{"$f":"IF(N819=0,\"\",MAX(O$15:O818)+1)","v":""},""]
[null,null,null,null,null,null,null,null,null,null,null,null,null,0,{"$f":"IF(N820=0,\"\",MAX(O$15:O819)+1)","v":""},""]
[null,null,null,null,null,null,null,null,null,null,null,null,null,0,{"$f":"IF(N821=0,\"\",MAX(O$15:O820)+1)","v":""},""]
[null,null,null,null,null,null,null,null,null,null,null,null,null,0,{"$f":"IF(N822=0,\"\",MAX(O$15:O821)+1)","v":""},""]
[null,null,null,null,null,null,null,null,null,null,null,null,null,0,{"$f":"IF(N823=0,\"\",MAX(O$15:O822)+1)","v":""},""]
[null,null,null,null,null,null,null,null,null,null,null,null,null,0,{"$f":"IF(N824=0,\"\",MAX(O$15:O823)+1)","v":""},""]
[null,null,null,null,null,null,null,null,null,null,null,null,null,0,{"$f":"IF(N825=0,\"\",MAX(O$15:O824)+1)","v":""},""]
[null,null,null,null,null,null,null,null,null,null,null,null,null,{"$f":"IFERROR(M826*L826/1000,\"\")","v":0},{"$f":"IF(N826=0,\"\",MAX(O$15:O825)+1)","v":""},""]
[null,null,null,null,null,null,null,null,null,null,null,null,null,0,{"$f":"IF(N827=0,\"\",MAX(O$15:O826)+1)","v":""},""]
[null,null,null,null,null,null,null,null,null,null,null,null,null,0,{"$f":"IF(N828=0,\"\",MAX(O$15:O827)+1)","v":""},""]
[null,null,null,null,null,null,null,null,null,null,null,null,null,0,{"$f":"IF(N829=0,\"\",MAX(O$15:O828)+1)","v":""},""]
[null,null,null,null,null,null,null,null,null,null,null,null,null,0,{"$f":"IF(N830=0,\"\",MAX(O$15:O829)+1)","v":""},""]
[null,null,null,null,null,null,null,null,null,null,null,null,null,0,{"$f":"IF(N831=0,\"\",MAX(O$15:O830)+1)","v":""},""]
[null,null,null,null,null,null,null,null,null,null,null,null,null,0,{"$f":"IF(N832=0,\"\",MAX(O$15:O831)+1)","v":""},""]
[null,null,null,null,null,null,null,null,null,null,null,null,null,0,{"$f":"IF(N833=0,\"\",MAX(O$15:O832)+1)","v":""},""]
[null,null,null,null,null,null,null,null,null,null,null,null,null,0,{"$f":"IF(N834=0,\"\",MAX(O$15:O833)+1)","v":""},""]
[null,null,null,null,null,null,null,null,null,null,null,null,null,0,{"$f":"IF(N835=0,\"\",MAX(O$15:O834)+1)","v":""},""]
[null,null,null,null,null,null,null,null,null,null,null,null,null,0,{"$f":"IF(N836=0,\"\",MAX(O$15:O835)+1)","v":""},""]
[null,null,null,null,null,null,null,null,null,null,null,null,null,0,{"$f":"IF(N837=0,\"\",MAX(O$15:O836)+1)","v":""},""]
[null,null,null,null,null,null,null,null,null,null,null,null,null,0,{"$f":"IF(N838=0,\"\",MAX(O$15:O837)+1)","v":""},""]
[null,null,null,null,null,null,null,null,null,null,null,null,null,0,{"$f":"IF(N839=0,\"\",MAX(O$15:O838)+1)","v":""},""]
[null,null,null,null,null,null,null,null,null,null,null,null,null,0,{"$f":"IF(N840=0,\"\",MAX(O$15:O839)+1)","v":""},""]
[null,null,null,null,null,null,null,null,null,null,null,null,null,0,{"$f":"IF(N841=0,\"\",MAX(O$15:O840)+1)","v":""},""]
[null,null,null,null,null,null,null,null,null,null,null,null,null,0,{"$f":"IF(N842=0,\"\",MAX(O$15:O841)+1)","v":""},""]
[null,null,null,null,null,null,null,null,null,null,null,null,null,0,{"$f":"IF(N843=0,\"\",MAX(O$15:O842)+1)","v":""},""]
[null,null,null,null,null,null,null,null,null,null,null,null,null,0,{"$f":"IF(N844=0,\"\",MAX(O$15:O843)+1)","v":""},""]
[null,null,null,null,null,null,null,null,null,null,null,null,null,0,{"$f":"IF(N845=0,\"\",MAX(O$15:O844)+1)","v":""},""]
[null,null,null,null,null,null,null,null,null,null,null,null,null,0,{"$f":"IF(N846=0,\"\",MAX(O$15:O845)+1)","v":""},""]
[null,null,null,null,null,null,null,null,null,null,null,null,null,0,{"$f":"IF(N847=0,\"\",MAX(O$15:O846)+1)","v":""},""]
[null,null,null,null,null,null,null,null,null,null,null,null,null,0,{"$f":"IF(N848=0,\"\",MAX(O$15:O847)+1)","v":""},{"$f":"IFERROR(INDEX($N$15:$N$5014,MATCH(ROW()-ROW($O$14),$O$15:$O$5014,0)),\"\")","v":""}]
[null,null,null,null,null,null,null,null,null,null,null,null,null,0,{"$f":"IF(N849=0,\"\",MAX(O$15:O848)+1)","v":""},""]
[null,null,null,null,null,null,null,null,null,null,null,null,null,0,{"$f":"IF(N850=0,\"\",MAX(O$15:O849)+1)","v":""},""]
[null,null,null,null,null,null,null,null,null,null,null,null,null,0,{"$f":"IF(N851=0,\"\",MAX(O$15:O850)+1)","v":""},""]
[null,null,null,null,null,null,null,null,null,null,null,null,null,0,{"$f":"IF(N852=0,\"\",MAX(O$15:O851)+1)","v":""},""]
[null,null,null,null,null,null,null,null,null,null,null,null,null,0,{"$f":"IF(N853=0,\"\",MAX(O$15:O852)+1)","v":""},""]
[null,null,null,null,null,null,null,null,null,null,null,null,null,0,{"$f":"IF(N854=0,\"\",MAX(O$15:O853)+1)","v":""},""]
[null,null,null,null,null,null,null,null,null,null,null,null,null,0,{"$f":"IF(N855=0,\"\",MAX(O$15:O854)+1)","v":""},""]
[null,null,null,null,null,null,null,null,null,null,null,null,null,0,{"$f":"IF(N856=0,\"\",MAX(O$15:O855)+1)","v":""},""]
[null,null,null,null,null,null,null,null,null,null,null,null,null,0,{"$f":"IF(N857=0,\"\",MAX(O$15:O856)+1)","v":""},""]
[null,null,null,null,null,null,null,null,null,null,null,null,null,0,{"$f":"IF(N858=0,\"\",MAX(O$15:O857)+1)","v":""},""]
[null,null,null,null,null,null,null,null,null,null,null,null,null,0,{"$f":"IF(N859=0,\"\",MAX(O$15:O858)+1)","v":""},""]
[null,null,null,null,null,null,null,null,null,null,null,null,null,0,{"$f":"IF(N860=0,\"\",MAX(O$15:O859)+1)","v":""},""]
[null,null,null,null,null,null,null,null,null,null,null,null,null,0,{"$f":"IF(N861=0,\"\",MAX(O$15:O860)+1)","v":""},""]
[null,null,null,null,null,null,null,null,null,null,null,null,null,0,{"$f":"IF(N862=0,\"\",MAX(O$15:O861)+1)","v":""},""]
[null,null,null,null,null,null,null,null,null,null,null,null,null,0,{"$f":"IF(N863=0,\"\",MAX(O$15:O862)+1)","v":""},""]
[null,null,null,null,null,null,null,null,null,null,null,null,null,0,{"$f":"IF(N864=0,\"\",MAX(O$15:O863)+1)","v":""},""]
[null,null,null,null,null,null,null,null,null,null,null,null,null,0,{"$f":"IF(N865=0,\"\",MAX(O$15:O864)+1)","v":""},""]
[null,null,null,null,null,null,null,null,null,null,null,null,null,0,{"$f":"IF(N866=0,\"\",MAX(O$15:O865)+1)","v":""},""]
[null,null,null,null,null,null,null,null,null,null,null,null,null,0,{"$f":"IF(N867=0,\"\",MAX(O$15:O866)+1)","v":""},""]
[null,null,null,null,null,null,null,null,null,null,null,null,null,0,{"$f":"IF(N868=0,\"\",MAX(O$15:O867)+1)","v":""},""]
[null,null,null,null,null,null,null,null,null,null,null,null,null,0,{"$f":"IF(N869=0,\"\",MAX(O$15:O868)+1)","v":""},""]
[null,null,null,null,null,null,null,null,null,null,null,null,null,0,{"$f":"IF(N870=0,\"\",MAX(O$15:O869)+1)","v":""},""]
[null,null,null,null,null,null,null,null,null,null,null,null,null,0,{"$f":"IF(N871=0,\"\",MAX(O$15:O870)+1)","v":""},""]
[null,null,null,null,null,null,null,null,null,null,null,null,null,0,{"$f":"IF(N872=0,\"\",MAX(O$15:O871)+1)","v":""},""]
[null,null,null,null,null,null,null,null,null,null,null,null,null,0,{"$f":"IF(N873=0,\"\",MAX(O$15:O872)+1)","v":""},""]
[null,null,null,null,null,null,null,null,null,null,null,null,null,0,{"$f":"IF(N874=0,\"\",MAX(O$15:O873)+1)","v":""},""]
[null,null,null,null,null,null,null,null,null,null,null,null,null,0,{"$f":"IF(N875=0,\"\",MAX(O$15:O874)+1)","v":""},""]
[null,null,null,null,null,null,null,null,null,null,null,null,null,0,{"$f":"IF(N876=0,\"\",MAX(O$15:O875)+1)","v":""},""]
[null,null,null,null,null,null,null,null,null,null,null,null,null,0,{"$f":"IF(N877=0,\"\",MAX(O$15:O876)+1)","v":""},""]
[null,null,null,null,null,null,null,null,null,null,null,null,null,0,{"$f":"IF(N878=0,\"\",MAX(O$15:O877)+1)","v":""},""]
[null,null,null,null,null,null,null,null,null,null,null,null,null,0,{"$f":"IF(N879=0,\"\",MAX(O$15:O878)+1)","v":""},""]
[null,null,null,null,null,null,null,null,null,null,null,null,null,0,{"$f":"IF(N880=0,\"\",MAX(O$15:O879)+1)","v":""},""]
[null,null,null,null,null,null,null,null,null,null,null,null,null,0,{"$f":"IF(N881=0,\"\",MAX(O$15:O880)+1)","v":""},""]
[null,null,null,null,null,null,null,null,null,null,null,null,null,0,{"$f":"IF(N882=0,\"\",MAX(O$15:O881)+1)","v":""},""]
[null,null,null,null,null,null,null,null,null,null,null,null,null,0,{"$f":"IF(N883=0,\"\",MAX(O$15:O882)+1)","v":""},""]
[null,null,null,null,null,null,null,null,null,null,null,null,null,0,{"$f":"IF(N884=0,\"\",MAX(O$15:O883)+1)","v":""},""]
[null,null,null,null,null,null,null,null,null,null,null,null,null,0,{"$f":"IF(N885=0,\"\",MAX(O$15:O884)+1)","v":""},""]
[null,null,null,null,null,null,null,null,null,null,null,null,null,0,{"$f":"IF(N886=0,\"\",MAX(O$15:O885)+1)","v":""},""]
[null,null,null,null,null,null,null,null,null,null,null,null,null,0,{"$f":"IF(N887=0,\"\",MAX(O$15:O886)+1)","v":""},""]
[null,null,null,null,null,null,null,null,null,null,null,null,null,0,{"$f":"IF(N888=0,\"\",MAX(O$15:O887)+1)","v":""},""]
[null,null,null,null,null,null,null,null,null,null,null,null,null,0,{"$f":"IF(N889=0,\"\",MAX(O$15:O888)+1)","v":""},""]
[null,null,null,null,null,null,null,null,null,null,null,null,null,{"$f":"IFERROR(M890*L890/1000,\"\")","v":0},{"$f":"IF(N890=0,\"\",MAX(O$15:O889)+1)","v":""},""]
[null,null,null,null,null,null,null,null,null,null,null,null,null,0,{"$f":"IF(N891=0,\"\",MAX(O$15:O890)+1)","v":""},""]
[null,null,null,null,null,null,null,null,null,null,null,null,null,0,{"$f":"IF(N892=0,\"\",MAX(O$15:O891)+1)","v":""},""]
[null,null,null,null,null,null,null,null,null,null,null,null,null,0,{"$f":"IF(N893=0,\"\",MAX(O$15:O892)+1)","v":""},""]
[null,null,null,null,null,null,null,null,null,null,null,null,null,0,{"$f":"IF(N894=0,\"\",MAX(O$15:O893)+1)","v":""},""]
[null,null,null,null,null,null,null,null,null,null,null,null,null,0,{"$f":"IF(N895=0,\"\",MAX(O$15:O894)+1)","v":""},""]
[null,null,null,null,null,null,null,null,null,null,null,null,null,0,{"$f":"IF(N896=0,\"\",MAX(O$15:O895)+1)","v":""},""]
[null,null,null,null,null,null,null,null,null,null,null,null,null,0,{"$f":"IF(N897=0,\"\",MAX(O$15:O896)+1)","v":""},""]
[null,null,null,null,null,null,null,null,null,null,null,null,null,0,{"$f":"IF(N898=0,\"\",MAX(O$15:O897)+1)","v":""},""]
[null,null,null,null,null,null,null,null,null,null,null,null,null,0,{"$f":"IF(N899=0,\"\",MAX(O$15:O898)+1)","v":""},""]
[null,null,null,null,null,null,null,null,null,null,null,null,null,0,{"$f":"IF(N900=0,\"\",MAX(O$15:O899)+1)","v":""},""]
[null,null,null,null,null,null,null,null,null,null,null,null,null,0,{"$f":"IF(N901=0,\"\",MAX(O$15:O900)+1)","v":""},""]
[null,null,null,null,null,null,null,null,null,null,null,null,null,0,{"$f":"IF(N902=0,\"\",MAX(O$15:O901)+1)","v":""},""]
[null,null,null,null,null,null,null,null,null,null,null,null,null,0,{"$f":"IF(N903=0,\"\",MAX(O$15:O902)+1)","v":""},""]
[null,null,null,null,null,null,null,null,null,null,null,null,null,0,{"$f":"IF(N904=0,\"\",MAX(O$15:O903)+1)","v":""},""]
[null,null,null,null,null,null,null,null,null,null,null,null,null,0,{"$f":"IF(N905=0,\"\",MAX(O$15:O904)+1)","v":""},""]
[null,null,null,null,null,null,null,null,null,null,null,null,null,0,{"$f":"IF(N906=0,\"\",MAX(O$15:O905)+1)","v":""},""]
[null,null,null,null,null,null,null,null,null,null,null,null,null,0,{"$f":"IF(N907=0,\"\",MAX(O$15:O906)+1)","v":""},""]
[null,null,null,null,null,null,null,null,null,null,null,null,null,0,{"$f":"IF(N908=0,\"\",MAX(O$15:O907)+1)","v":""},""]
[null,null,null,null,null,null,null,null,null,null,null,null,null,0,{"$f":"IF(N909=0,\"\",MAX(O$15:O908)+1)","v":""},""]
[null,null,null,null,null,null,null,null,null,null,null,null,null,0,{"$f":"IF(N910=0,\"\",MAX(O$15:O909)+1)","v":""},""]
[null,null,null,null,null,null,null,null,null,null,null,null,null,0,{"$f":"IF(N911=0,\"\",MAX(O$15:O910)+1)","v":""},""]
[null,null,null,null,null,null,null,null,null,null,null,null,null,0,{"$f":"IF(N912=0,\"\",MAX(O$15:O911)+1)","v":""},{"$f":"IFERROR(INDEX($N$15:$N$5014,MATCH(ROW()-ROW($O$14),$O$15:$O$5014,0)),\"\")","v":""}]
[null,null,null,null,null,null,null,null,null,null,null,null,null,0,{"$f":"IF(N913=0,\"\",MAX(O$15:O912)+1)","v":""},""]
[null,null,null,null,null,null,null,null,null,null,null,null,null,0,{"$f":"IF(N914=0,\"\",MAX(O$15:O913)+1)","v":""},""]
[null,null,null,null,null,null,null,null,null,null,null,null,null,0,{"$f":"IF(N915=0,\"\",MAX(O$15:O914)+1)","v":""},""]
[null,null,null,null,null,null,null,null,null,null,null,null,null,0,{"$f":"IF(N916=0,\"\",MAX(O$15:O915)+1)","v":""},""]
[null,null,null,null,null,null,null,null,null,null,null,null,null,0,{"$f":"IF(N917=0,\"\",MAX(O$15:O916)+1)","v":""},""]
[null,null,null,null,null,null,null,null,null,null,null,null,null,0,{"$f":"IF(N918=0,\"\",MAX(O$15:O917)+1)","v":""},""]
[null,null,null,null,null,null,null,null,null,null,null,null,null,0,{"$f":"IF(N919=0,\"\",MAX(O$15:O918)+1)","v":""},""]
[null,null,null,null,null,null,null,null,null,null,null,null,null,0,{"$f":"IF(N920=0,\"\",MAX(O$15:O919)+1)","v":""},""]
[null,null,null,null,null,null,null,null,null,null,null,null,null,0,{"$f":"IF(N921=0,\"\",MAX(O$15:O920)+1)","v":""},""]
[null,null,null,null,null,null,null,null,null,null,null,null,null,0,{"$f":"IF(N922=0,\"\",MAX(O$15:O921)+1)","v":""},""]
[null,null,null,null,null,null,null,null,null,null,null,null,null,0,{"$f":"IF(N923=0,\"\",MAX(O$15:O922)+1)","v":""},""]
[null,null,null,null,null,null,null,null,null,null,null,null,null,0,{"$f":"IF(N924=0,\"\",MAX(O$15:O923)+1)","v":""},""]
[null,null,null,null,null,null,null,null,null,null,null,null,null,0,{"$f":"IF(N925=0,\"\",MAX(O$15:O924)+1)","v":""},""]
[null,null,null,null,null,null,null,null,null,null,null,null,null,0,{"$f":"IF(N926=0,\"\",MAX(O$15:O925)+1)","v":""},""]
[null,null,null,null,null,null,null,null,null,null,null,null,null,0,{"$f":"IF(N927=0,\"\",MAX(O$15:O926)+1)","v":""},""]
[null,null,null,null,null,null,null,null,null,null,null,null,null,0,{"$f":"IF(N928=0,\"\",MAX(O$15:O927)+1)","v":""},""]
[null,null,null,null,null,null,null,null,null,null,null,null,null,0,{"$f":"IF(N929=0,\"\",MAX(O$15:O928)+1)","v":""},""]
[null,null,null,null,null,null,null,null,null,null,null,null,null,0,{"$f":"IF(N930=0,\"\",MAX(O$15:O929)+1)","v":""},""]
[null,null,null,null,null,null,null,null,null,null,null,null,null,0,{"$f":"IF(N931=0,\"\",MAX(O$15:O930)+1)","v":""},""]
[null,null,null,null,null,null,null,null,null,null,null,null,null,0,{"$f":"IF(N932=0,\"\",MAX(O$15:O931)+1)","v":""},""]
[null,null,null,null,null,null,null,null,null,null,null,null,null,0,{"$f":"IF(N933=0,\"\",MAX(O$15:O932)+1)","v":""},""]
[null,null,null,null,null,null,null,null,null,null,null,null,null,0,{"$f":"IF(N934=0,\"\",MAX(O$15:O933)+1)","v":""},""]
[null,null,null,null,null,null,null,null,null,null,null,null,null,0,{"$f":"IF(N935=0,\"\",MAX(O$15:O934)+1)","v":""},""]
[null,null,null,null,null,null,null,null,null,null,null,null,null,0,{"$f":"IF(N936=0,\"\",MAX(O$15:O935)+1)","v":""},""]
[null,null,null,null,null,null,null,null,null,null,null,null,null,0,{"$f":"IF(N937=0,\"\",MAX(O$15:O936)+1)","v":""},""]
[null,null,null,null,null,null,null,null,null,null,null,null,null,0,{"$f":"IF(N938=0,\"\",MAX(O$15:O937)+1)","v":""},""]
[null,null,null,null,null,null,null,null,null,null,null,null,null,0,{"$f":"IF(N939=0,\"\",MAX(O$15:O938)+1)","v":""},""]
[null,null,null,null,null,null,null,null,null,null,null,null,null,0,{"$f":"IF(N940=0,\"\",MAX(O$15:O939)+1)","v":""},""]
[null,null,null,null,null,null,null,null,null,null,null,null,null,0,{"$f":"IF(N941=0,\"\",MAX(O$15:O940)+1)","v":""},""]
[null,null,null,null,null,null,null,null,null,null,null,null,null,0,{"$f":"IF(N942=0,\"\",MAX(O$15:O941)+1)","v":""},""]
[null,null,null,null,null,null,null,null,null,null,null,null,null,0,{"$f":"IF(N943=0,\"\",MAX(O$15:O942)+1)","v":""},""]
[null,null,null,null,null,null,null,null,null,null,null,null,null,0,{"$f":"IF(N944=0,\"\",MAX(O$15:O943)+1)","v":""},""]
[null,null,null,null,null,null,null,null,null,null,null,null,null,0,{"$f":"IF(N945=0,\"\",MAX(O$15:O944)+1)","v":""},""]
[null,null,null,null,null,null,null,null,null,null,null,null,null,0,{"$f":"IF(N946=0,\"\",MAX(O$15:O945)+1)","v":""},""]
[null,null,null,null,null,null,null,null,null,null,null,null,null,0,{"$f":"IF(N947=0,\"\",MAX(O$15:O946)+1)","v":""},""]
[null,null,null,null,null,null,null,null,null,null,null,null,null,0,{"$f":"IF(N948=0,\"\",MAX(O$15:O947)+1)","v":""},""]
[null,null,null,null,null,null,null,null,null,null,null,null,null,0,{"$f":"IF(N949=0,\"\",MAX(O$15:O948)+1)","v":""},""]
[null,null,null,null,null,null,null,null,null,null,null,null,null,0,{"$f":"IF(N950=0,\"\",MAX(O$15:O949)+1)","v":""},""]
[null,null,null,null,null,null,null,null,null,null,null,null,null,0,{"$f":"IF(N951=0,\"\",MAX(O$15:O950)+1)","v":""},""]
[null,null,null,null,null,null,null,null,null,null,null,null,null,0,{"$f":"IF(N952=0,\"\",MAX(O$15:O951)+1)","v":""},""]
[null,null,null,null,null,null,null,null,null,null,null,null,null,0,{"$f":"IF(N953=0,\"\",MAX(O$15:O952)+1)","v":""},""]
[null,null,null,null,null,null,null,null,null,null,null,null,null,{"$f":"IFERROR(M954*L954/1000,\"\")","v":0},{"$f":"IF(N954=0,\"\",MAX(O$15:O953)+1)","v":""},""]
[null,null,null,null,null,null,null,null,null,null,null,null,null,0,{"$f":"IF(N955=0,\"\",MAX(O$15:O954)+1)","v":""},""]
[null,null,null,null,null,null,null,null,null,null,null,null,null,0,{"$f":"IF(N956=0,\"\",MAX(O$15:O955)+1)","v":""},""]
[null,null,null,null,null,null,null,null,null,null,null,null,null,0,{"$f":"IF(N957=0,\"\",MAX(O$15:O956)+1)","v":""},""]
[null,null,null,null,null,null,null,null,null,null,null,null,null,0,{"$f":"IF(N958=0,\"\",MAX(O$15:O957)+1)","v":""},""]
[null,null,null,null,null,null,null,null,null,null,null,null,null,0,{"$f":"IF(N959=0,\"\",MAX(O$15:O958)+1)","v":""},""]
[null,null,null,null,null,null,null,null,null,null,null,null,null,0,{"$f":"IF(N960=0,\"\",MAX(O$15:O959)+1)","v":""},""]
[null,null,null,null,null,null,null,null,null,null,null,null,null,0,{"$f":"IF(N961=0,\"\",MAX(O$15:O960)+1)","v":""},""]
[null,null,null,null,null,null,null,null,null,null,null,null,null,0,{"$f":"IF(N962=0,\"\",MAX(O$15:O961)+1)","v":""},""]
[null,null,null,null,null,null,null,null,null,null,null,null,null,0,{"$f":"IF(N963=0,\"\",MAX(O$15:O962)+1)","v":""},""]
[null,null,null,null,null,null,null,null,null,null,null,null,null,0,{"$f":"IF(N964=0,\"\",MAX(O$15:O963)+1)","v":""},""]
[null,null,null,null,null,null,null,null,null,null,null,null,null,0,{"$f":"IF(N965=0,\"\",MAX(O$15:O964)+1)","v":""},""]
[null,null,null,null,null,null,null,null,null,null,null,null,null,0,{"$f":"IF(N966=0,\"\",MAX(O$15:O965)+1)","v":""},""]
[null,null,null,null,null,null,null,null,null,null,null,null,null,0,{"$f":"IF(N967=0,\"\",MAX(O$15:O966)+1)","v":""},""]
[null,null,null,null,null,null,null,null,null,null,null,null,null,0,{"$f":"IF(N968=0,\"\",MAX(O$15:O967)+1)","v":""},""]
[null,null,null,null,null,null,null,null,null,null,null,null,null,0,{"$f":"IF(N969=0,\"\",MAX(O$15:O968)+1)","v":""},""]
[null,null,null,null,null,null,null,null,null,null,null,null,null,0,{"$f":"IF(N970=0,\"\",MAX(O$15:O969)+1)","v":""},""]
[null,null,null,null,null,null,null,null,null,null,null,null,null,0,{"$f":"IF(N971=0,\"\",MAX(O$15:O970)+1)","v":""},""]
[null,null,null,null,null,null,null,null,null,null,null,null,null,0,{"$f":"IF(N972=0,\"\",MAX(O$15:O971)+1)","v":""},""]
[null,null,null,null,null,null,null,null,null,null,null,null,null,0,{"$f":"IF(N973=0,\"\",MAX(O$15:O972)+1)","v":""},""]
[null,null,null,null,null,null,null,null,null,null,null,null,null,0,{"$f":"IF(N974=0,\"\",MAX(O$15:O973)+1)","v":""},""]
[null,null,null,null,null,null,null,null,null,null,null,null,null,0,{"$f":"IF(N975=0,\"\",MAX(O$15:O974)+1)","v":""},""]
[null,null,null,null,null,null,null,null,null,null,null,null,null,0,{"$f":"IF(N976=0,\"\",MAX(O$15:O975)+1)","v":""},{"$f":"IFERROR(INDEX($N$15:$N$5014,MATCH(ROW()-ROW($O$14),$O$15:$O$5014,0)),\"\")","v":""}]
[null,null,null,null,null,null,null,null,null,null,null,null,null,0,{"$f":"IF(N977=0,\"\",MAX(O$15:O976)+1)","v":""},""]
[null,null,null,null,null,null,null,null,null,null,null,null,null,0,{"$f":"IF(N978=0,\"\",MAX(O$15:O977)+1)","v":""},""]
[null,null,null,null,null,null,null,null,null,null,null,null,null,0,{"$f":"IF(N979=0,\"\",MAX(O$15:O978)+1)","v":""},""]
[null,null,null,null,null,null,null,null,null,null,null,null,null,0,{"$f":"IF(N980=0,\"\",MAX(O$15:O979)+1)","v":""},""]
[null,null,null,null,null,null,null,null,null,null,null,null,null,0,{"$f":"IF(N981=0,\"\",MAX(O$15:O980)+1)","v":""},""]
[null,null,null,null,null,null,null,null,null,null,null,null,null,0,{"$f":"IF(N982=0,\"\",MAX(O$15:O981)+1)","v":""},""]
[null,null,null,null,null,null,null,null,null,null,null,null,null,0,{"$f":"IF(N983=0,\"\",MAX(O$15:O982)+1)","v":""},""]
[null,null,null,null,null,null,null,null,null,null,null,null,null,0,{"$f":"IF(N984=0,\"\",MAX(O$15:O983)+1)","v":""},""]
[null,null,null,null,null,null,null,null,null,null,null,null,null,0,{"$f":"IF(N985=0,\"\",MAX(O$15:O984)+1)","v":""},""]
[null,null,null,null,null,null,null,null,null,null,null,null,null,0,{"$f":"IF(N986=0,\"\",MAX(O$15:O985)+1)","v":""},""]
[null,null,null,null,null,null,null,null,null,null,null,null,null,0,{"$f":"IF(N987=0,\"\",MAX(O$15:O986)+1)","v":""},""]
[null,null,null,null,null,null,null,null,null,null,null,null,null,0,{"$f":"IF(N988=0,\"\",MAX(O$15:O987)+1)","v":""},""]
[null,null,null,null,null,null,null,null,null,null,null,null,null,0,{"$f":"IF(N989=0,\"\",MAX(O$15:O988)+1)","v":""},""]
[null,null,null,null,null,null,null,null,null,null,null,null,null,0,{"$f":"IF(N990=0,\"\",MAX(O$15:O989)+1)","v":""},""]
[null,null,null,null,null,null,null,null,null,null,null,null,null,0,{"$f":"IF(N991=0,\"\",MAX(O$15:O990)+1)","v":""},""]
[null,null,null,null,null,null,null,null,null,null,null,null,null,0,{"$f":"IF(N992=0,\"\",MAX(O$15:O991)+1)","v":""},""]
[null,null,null,null,null,null,null,null,null,null,null,null,null,0,{"$f":"IF(N993=0,\"\",MAX(O$15:O992)+1)","v":""},""]
[null,null,null,null,null,null,null,null,null,null,null,null,null,0,{"$f":"IF(N994=0,\"\",MAX(O$15:O993)+1)","v":""},""]
[null,null,null,null,null,null,null,null,null,null,null,null,null,0,{"$f":"IF(N995=0,\"\",MAX(O$15:O994)+1)","v":""},""]
[null,null,null,null,null,null,null,null,null,null,null,null,null,0,{"$f":"IF(N996=0,\"\",MAX(O$15:O995)+1)","v":""},""]
[null,null,null,null,null,null,null,null,null,null,null,null,null,0,{"$f":"IF(N997=0,\"\",MAX(O$15:O996)+1)","v":""},""]
[null,null,null,null,null,null,null,null,null,null,null,null,null,0,{"$f":"IF(N998=0,\"\",MAX(O$15:O997)+1)","v":""},""]
[null,null,null,null,null,null,null,null,null,null,null,null,null,0,{"$f":"IF(N999=0,\"\",MAX(O$15:O998)+1)","v":""},""]
[null,null,null,null,null,null,null,null,null,null,null,null,null,0,{"$f":"IF(N1000=0,\"\",MAX(O$15:O999)+1)","v":""},""]
[null,null,null,null,null,null,null,null,null,null,null,null,null,0,{"$f":"IF(N1001=0,\"\",MAX(O$15:O1000)+1)","v":""},""]
[null,null,null,null,null,null,null,null,null,null,null,null,null,0,{"$f":"IF(N1002=0,\"\",MAX(O$15:O1001)+1)","v":""},""]
[null,null,null,null,null,null,null,null,null,null,null,null,null,0,{"$f":"IF(N1003=0,\"\",MAX(O$15:O1002)+1)","v":""},""]
[null,null,null,null,null,null,null,null,null,null,null,null,null,0,{"$f":"IF(N1004=0,\"\",MAX(O$15:O1003)+1)","v":""},""]
[null,null,null,null,null,null,null,null,null,null,null,null,null,0,{"$f":"IF(N1005=0,\"\",MAX(O$15:O1004)+1)","v":""},""]
[null,null,null,null,null,null,null,null,null,null,null,null,null,0,{"$f":"IF(N1006=0,\"\",MAX(O$15:O1005)+1)","v":""},""]
[null,null,null,null,null,null,null,null,null,null,null,null,null,0,{"$f":"IF(N1007=0,\"\",MAX(O$15:O1006)+1)","v":""},""]
[null,null,null,null,null,null,null,null,null,null,null,null,null,0,{"$f":"IF(N1008=0,\"\",MAX(O$15:O1007)+1)","v":""},""]
[null,null,null,null,null,null,null,null,null,null,null,null,null,0,{"$f":"IF(N1009=0,\"\",MAX(O$15:O1008)+1)","v":""},""]
[null,null,null,null,null,null,null,null,null,null,null,null,null,0,{"$f":"IF(N1010=0,\"\",MAX(O$15:O1009)+1)","v":""},""]
[null,null,null,null,null,null,null,null,null,null,null,null,null,0,{"$f":"IF(N1011=0,\"\",MAX(O$15:O1010)+1)","v":""},""]
[null,null,null,null,null,null,null,null,null,null,null,null,null,0,{"$f":"IF(N1012=0,\"\",MAX(O$15:O1011)+1)","v":""},""]
[null,null,null,null,null,null,null,null,null,null,null,null,null,0,{"$f":"IF(N1013=0,\"\",MAX(O$15:O1012)+1)","v":""},""]
[null,null,null,null,null,null,null,null,null,null,null,null,null,0,{"$f":"IF(N1014=0,\"\",MAX(O$15:O1013)+1)","v":""},""]
[null,null,null,null,null,null,null,null,null,null,null,null,null,0,{"$f":"IF(N1015=0,\"\",MAX(O$15:O1014)+1)","v":""},""]
[null,null,null,null,null,null,null,null,null,null,null,null,null,0,{"$f":"IF(N1016=0,\"\",MAX(O$15:O1015)+1)","v":""},""]
[null,null,null,null,null,null,null,null,null,null,null,null,null,0,{"$f":"IF(N1017=0,\"\",MAX(O$15:O1016)+1)","v":""},""]
[null,null,null,null,null,null,null,null,null,null,null,null,null,{"$f":"IFERROR(M1018*L1018/1000,\"\")","v":0},{"$f":"IF(N1018=0,\"\",MAX(O$15:O1017)+1)","v":""},""]
[null,null,null,null,null,null,null,null,null,null,null,null,null,0,{"$f":"IF(N1019=0,\"\",MAX(O$15:O1018)+1)","v":""},""]
[null,null,null,null,null,null,null,null,null,null,null,null,null,0,{"$f":"IF(N1020=0,\"\",MAX(O$15:O1019)+1)","v":""},""]
[null,null,null,null,null,null,null,null,null,null,null,null,null,0,{"$f":"IF(N1021=0,\"\",MAX(O$15:O1020)+1)","v":""},""]
[null,null,null,null,null,null,null,null,null,null,null,null,null,0,{"$f":"IF(N1022=0,\"\",MAX(O$15:O1021)+1)","v":""},""]
[null,null,null,null,null,null,null,null,null,null,null,null,null,0,{"$f":"IF(N1023=0,\"\",MAX(O$15:O1022)+1)","v":""},""]
[null,null,null,null,null,null,null,null,null,null,null,null,null,0,{"$f":"IF(N1024=0,\"\",MAX(O$15:O1023)+1)","v":""},""]
[null,null,null,null,null,null,null,null,null,null,null,null,null,0,{"$f":"IF(N1025=0,\"\",MAX(O$15:O1024)+1)","v":""},""]
[null,null,null,null,null,null,null,null,null,null,null,null,null,0,{"$f":"IF(N1026=0,\"\",MAX(O$15:O1025)+1)","v":""},""]
[null,null,null,null,null,null,null,null,null,null,null,null,null,0,{"$f":"IF(N1027=0,\"\",MAX(O$15:O1026)+1)","v":""},""]
[null,null,null,null,null,null,null,null,null,null,null,null,null,0,{"$f":"IF(N1028=0,\"\",MAX(O$15:O1027)+1)","v":""},""]
[null,null,null,null,null,null,null,null,null,null,null,null,null,0,{"$f":"IF(N1029=0,\"\",MAX(O$15:O1028)+1)","v":""},""]
[null,null,null,null,null,null,null,null,null,null,null,null,null,0,{"$f":"IF(N1030=0,\"\",MAX(O$15:O1029)+1)","v":""},""]
[null,null,null,null,null,null,null,null,null,null,null,null,null,0,{"$f":"IF(N1031=0,\"\",MAX(O$15:O1030)+1)","v":""},""]
[null,null,null,null,null,null,null,null,null,null,null,null,null,0,{"$f":"IF(N1032=0,\"\",MAX(O$15:O1031)+1)","v":""},""]
[null,null,null,null,null,null,null,null,null,null,null,null,null,0,{"$f":"IF(N1033=0,\"\",MAX(O$15:O1032)+1)","v":""},""]
[null,null,null,null,null,null,null,null,null,null,null,null,null,0,{"$f":"IF(N1034=0,\"\",MAX(O$15:O1033)+1)","v":""},""]
[null,null,null,null,null,null,null,null,null,null,null,null,null,0,{"$f":"IF(N1035=0,\"\",MAX(O$15:O1034)+1)","v":""},""]
[null,null,null,null,null,null,null,null,null,null,null,null,null,0,{"$f":"IF(N1036=0,\"\",MAX(O$15:O1035)+1)","v":""},""]
[null,null,null,null,null,null,null,null,null,null,null,null,null,0,{"$f":"IF(N1037=0,\"\",MAX(O$15:O1036)+1)","v":""},""]
[null,null,null,null,null,null,null,null,null,null,null,null,null,0,{"$f":"IF(N1038=0,\"\",MAX(O$15:O1037)+1)","v":""},""]
[null,null,null,null,null,null,null,null,null,null,null,null,null,0,{"$f":"IF(N1039=0,\"\",MAX(O$15:O1038)+1)","v":""},""]
[null,null,null,null,null,null,null,null,null,null,null,null,null,0,{"$f":"IF(N1040=0,\"\",MAX(O$15:O1039)+1)","v":""},{"$f":"IFERROR(INDEX($N$15:$N$5014,MATCH(ROW()-ROW($O$14),$O$15:$O$5014,0)),\"\")","v":""}]
[null,null,null,null,null,null,null,null,null,null,null,null,null,0,{"$f":"IF(N1041=0,\"\",MAX(O$15:O1040)+1)","v":""},""]
[null,null,null,null,null,null,null,null,null,null,null,null,null,0,{"$f":"IF(N1042=0,\"\",MAX(O$15:O1041)+1)","v":""},""]
[null,null,null,null,null,null,null,null,null,null,null,null,null,0,{"$f":"IF(N1043=0,\"\",MAX(O$15:O1042)+1)","v":""},""]
[null,null,null,null,null,null,null,null,null,null,null,null,null,0,{"$f":"IF(N1044=0,\"\",MAX(O$15:O1043)+1)","v":""},""]
[null,null,null,null,null,null,null,null,null,null,null,null,null,0,{"$f":"IF(N1045=0,\"\",MAX(O$15:O1044)+1)","v":""},""]
[null,null,null,null,null,null,null,null,null,null,null,null,null,0,{"$f":"IF(N1046=0,\"\",MAX(O$15:O1045)+1)","v":""},""]
[null,null,null,null,null,null,null,null,null,null,null,null,null,0,{"$f":"IF(N1047=0,\"\",MAX(O$15:O1046)+1)","v":""},""]
[null,null,null,null,null,null,null,null,null,null,null,null,null,0,{"$f":"IF(N1048=0,\"\",MAX(O$15:O1047)+1)","v":""},""]
[null,null,null,null,null,null,null,null,null,null,null,null,null,0,{"$f":"IF(N1049=0,\"\",MAX(O$15:O1048)+1)","v":""},""]
[null,null,null,null,null,null,null,null,null,null,null,null,null,0,{"$f":"IF(N1050=0,\"\",MAX(O$15:O1049)+1)","v":""},""]
[null,null,null,null,null,null,null,null,null,null,null,null,null,0,{"$f":"IF(N1051=0,\"\",MAX(O$15:O1050)+1)","v":""},""]
[null,null,null,null,null,null,null,null,null,null,null,null,null,0,{"$f":"IF(N1052=0,\"\",MAX(O$15:O1051)+1)","v":""},""]
[null,null,null,null,null,null,null,null,null,null,null,null,null,0,{"$f":"IF(N1053=0,\"\",MAX(O$15:O1052)+1)","v":""},""]
[null,null,null,null,null,null,null,null,null,null,null,null,null,0,{"$f":"IF(N1054=0,\"\",MAX(O$15:O1053)+1)","v":""},""]
[null,null,null,null,null,null,null,null,null,null,null,null,null,0,{"$f":"IF(N1055=0,\"\",MAX(O$15:O1054)+1)","v":""},""]
[null,null,null,null,null,null,null,null,null,null,null,null,null,0,{"$f":"IF(N1056=0,\"\",MAX(O$15:O1055)+1)","v":""},""]
[null,null,null,null,null,null,null,null,null,null,null,null,null,0,{"$f":"IF(N1057=0,\"\",MAX(O$15:O1056)+1)","v":""},""]
[null,null,null,null,null,null,null,null,null,null,null,null,null,0,{"$f":"IF(N1058=0,\"\",MAX(O$15:O1057)+1)","v":""},""]
[null,null,null,null,null,null,null,null,null,null,null,null,null,0,{"$f":"IF(N1059=0,\"\",MAX(O$15:O1058)+1)","v":""},""]
[null,null,null,null,null,null,null,null,null,null,null,null,null,0,{"$f":"IF(N1060=0,\"\",MAX(O$15:O1059)+1)","v":""},""]
[null,null,null,null,null,null,null,null,null,null,null,null,null,0,{"$f":"IF(N1061=0,\"\",MAX(O$15:O1060)+1)","v":""},""]
[null,null,null,null,null,null,null,null,null,null,null,null,null,0,{"$f":"IF(N1062=0,\"\",MAX(O$15:O1061)+1)","v":""},""]
[null,null,null,null,null,null,null,null,null,null,null,null,null,0,{"$f":"IF(N1063=0,\"\",MAX(O$15:O1062)+1)","v":""},""]
[null,null,null,null,null,null,null,null,null,null,null,null,null,0,{"$f":"IF(N1064=0,\"\",MAX(O$15:O1063)+1)","v":""},""]
[null,null,null,null,null,null,null,null,null,null,null,null,null,0,{"$f":"IF(N1065=0,\"\",MAX(O$15:O1064)+1)","v":""},""]
[null,null,null,null,null,null,null,null,null,null,null,null,null,0,{"$f":"IF(N1066=0,\"\",MAX(O$15:O1065)+1)","v":""},""]
[null,null,null,null,null,null,null,null,null,null,null,null,null,0,{"$f":"IF(N1067=0,\"\",MAX(O$15:O1066)+1)","v":""},""]
[null,null,null,null,null,null,null,null,null,null,null,null,null,0,{"$f":"IF(N1068=0,\"\",MAX(O$15:O1067)+1)","v":""},""]
[null,null,null,null,null,null,null,null,null,null,null,null,null,0,{"$f":"IF(N1069=0,\"\",MAX(O$15:O1068)+1)","v":""},""]
[null,null,null,null,null,null,null,null,null,null,null,null,null,0,{"$f":"IF(N1070=0,\"\",MAX(O$15:O1069)+1)","v":""},""]
[null,null,null,null,null,null,null,null,null,null,null,null,null,0,{"$f":"IF(N1071=0,\"\",MAX(O$15:O1070)+1)","v":""},""]
[null,null,null,null,null,null,null,null,null,null,null,null,null,0,{"$f":"IF(N1072=0,\"\",MAX(O$15:O1071)+1)","v":""},""]
[null,null,null,null,null,null,null,null,null,null,null,null,null,0,{"$f":"IF(N1073=0,\"\",MAX(O$15:O1072)+1)","v":""},""]
[null,null,null,null,null,null,null,null,null,null,null,null,null,0,{"$f":"IF(N1074=0,\"\",MAX(O$15:O1073)+1)","v":""},""]
[null,null,null,null,null,null,null,null,null,null,null,null,null,0,{"$f":"IF(N1075=0,\"\",MAX(O$15:O1074)+1)","v":""},""]
[null,null,null,null,null,null,null,null,null,null,null,null,null,0,{"$f":"IF(N1076=0,\"\",MAX(O$15:O1075)+1)","v":""},""]
[null,null,null,null,null,null,null,null,null,null,null,null,null,0,{"$f":"IF(N1077=0,\"\",MAX(O$15:O1076)+1)","v":""},""]
[null,null,null,null,null,null,null,null,null,null,null,null,null,0,{"$f":"IF(N1078=0,\"\",MAX(O$15:O1077)+1)","v":""},""]
[null,null,null,null,null,null,null,null,null,null,null,null,null,0,{"$f":"IF(N1079=0,\"\",MAX(O$15:O1078)+1)","v":""},""]
[null,null,null,null,null,null,null,null,null,null,null,null,null,0,{"$f":"IF(N1080=0,\"\",MAX(O$15:O1079)+1)","v":""},""]
[null,null,null,null,null,null,null,null,null,null,null,null,null,0,{"$f":"IF(N1081=0,\"\",MAX(O$15:O1080)+1)","v":""},""]
[null,null,null,null,null,null,null,null,null,null,null,null,null,{"$f":"IFERROR(M1082*L1082/1000,\"\")","v":0},{"$f":"IF(N1082=0,\"\",MAX(O$15:O1081)+1)","v":""},""]
[null,null,null,null,null,null,null,null,null,null,null,null,null,0,{"$f":"IF(N1083=0,\"\",MAX(O$15:O1082)+1)","v":""},""]
[null,null,null,null,null,null,null,null,null,null,null,null,null,0,{"$f":"IF(N1084=0,\"\",MAX(O$15:O1083)+1)","v":""},""]
[null,null,null,null,null,null,null,null,null,null,null,null,null,0,{"$f":"IF(N1085=0,\"\",MAX(O$15:O1084)+1)","v":""},""]
[null,null,null,null,null,null,null,null,null,null,null,null,null,0,{"$f":"IF(N1086=0,\"\",MAX(O$15:O1085)+1)","v":""},""]
[null,null,null,null,null,null,null,null,null,null,null,null,null,0,{"$f":"IF(N1087=0,\"\",MAX(O$15:O1086)+1)","v":""},""]
[null,null,null,null,null,null,null,null,null,null,null,null,null,0,{"$f":"IF(N1088=0,\"\",MAX(O$15:O1087)+1)","v":""},""]
[null,null,null,null,null,null,null,null,null,null,null,null,null,0,{"$f":"IF(N1089=0,\"\",MAX(O$15:O1088)+1)","v":""},""]
[null,null,null,null,null,null,null,null,null,null,null,null,null,0,{"$f":"IF(N1090=0,\"\",MAX(O$15:O1089)+1)","v":""},""]
[null,null,null,null,null,null,null,null,null,null,null,null,null,0,{"$f":"IF(N1091=0,\"\",MAX(O$15:O1090)+1)","v":""},""]
[null,null,null,null,null,null,null,null,null,null,null,null,null,0,{"$f":"IF(N1092=0,\"\",MAX(O$15:O1091)+1)","v":""},""]
[null,null,null,null,null,null,null,null,null,null,null,null,null,0,{"$f":"IF(N1093=0,\"\",MAX(O$15:O1092)+1)","v":""},""]
[null,null,null,null,null,null,null,null,null,null,null,null,null,0,{"$f":"IF(N1094=0,\"\",MAX(O$15:O1093)+1)","v":""},""]
[null,null,null,null,null,null,null,null,null,null,null,null,null,0,{"$f":"IF(N1095=0,\"\",MAX(O$15:O1094)+1)","v":""},""]
[null,null,null,null,null,null,null,null,null,null,null,null,null,0,{"$f":"IF(N1096=0,\"\",MAX(O$15:O1095)+1)","v":""},""]
[null,null,null,null,null,null,null,null,null,null,null,null,null,0,{"$f":"IF(N1097=0,\"\",MAX(O$15:O1096)+1)","v":""},""]
[null,null,null,null,null,null,null,null,null,null,null,null,null,0,{"$f":"IF(N1098=0,\"\",MAX(O$15:O1097)+1)","v":""},""]
[null,null,null,null,null,null,null,null,null,null,null,null,null,0,{"$f":"IF(N1099=0,\"\",MAX(O$15:O1098)+1)","v":""},""]
[null,null,null,null,null,null,null,null,null,null,null,null,null,0,{"$f":"IF(N1100=0,\"\",MAX(O$15:O1099)+1)","v":""},""]
[null,null,null,null,null,null,null,null,null,null,null,null,null,0,{"$f":"IF(N1101=0,\"\",MAX(O$15:O1100)+1)","v":""},""]
[null,null,null,null,null,null,null,null,null,null,null,null,null,0,{"$f":"IF(N1102=0,\"\",MAX(O$15:O1101)+1)","v":""},""]
[null,null,null,null,null,null,null,null,null,null,null,null,null,0,{"$f":"IF(N1103=0,\"\",MAX(O$15:O1102)+1)","v":""},""]
[null,null,null,null,null,null,null,null,null,null,null,null,null,0,{"$f":"IF(N1104=0,\"\",MAX(O$15:O1103)+1)","v":""},{"$f":"IFERROR(INDEX($N$15:$N$5014,MATCH(ROW()-ROW($O$14),$O$15:$O$5014,0)),\"\")","v":""}]
[null,null,null,null,null,null,null,null,null,null,null,null,null,0,{"$f":"IF(N1105=0,\"\",MAX(O$15:O1104)+1)","v":""},""]
[null,null,null,null,null,null,null,null,null,null,null,null,null,0,{"$f":"IF(N1106=0,\"\",MAX(O$15:O1105)+1)","v":""},""]
[null,null,null,null,null,null,null,null,null,null,null,null,null,0,{"$f":"IF(N1107=0,\"\",MAX(O$15:O1106)+1)","v":""},""]
[null,null,null,null,null,null,null,null,null,null,null,null,null,0,{"$f":"IF(N1108=0,\"\",MAX(O$15:O1107)+1)","v":""},""]
[null,null,null,null,null,null,null,null,null,null,null,null,null,0,{"$f":"IF(N1109=0,\"\",MAX(O$15:O1108)+1)","v":""},""]
[null,null,null,null,null,null,null,null,null,null,null,null,null,0,{"$f":"IF(N1110=0,\"\",MAX(O$15:O1109)+1)","v":""},""]
[null,null,null,null,null,null,null,null,null,null,null,null,null,0,{"$f":"IF(N1111=0,\"\",MAX(O$15:O1110)+1)","v":""},""]
[null,null,null,null,null,null,null,null,null,null,null,null,null,0,{"$f":"IF(N1112=0,\"\",MAX(O$15:O1111)+1)","v":""},""]
[null,null,null,null,null,null,null,null,null,null,null,null,null,0,{"$f":"IF(N1113=0,\"\",MAX(O$15:O1112)+1)","v":""},""]
[null,null,null,null,null,null,null,null,null,null,null,null,null,0,{"$f":"IF(N1114=0,\"\",MAX(O$15:O1113)+1)","v":""},""]
[null,null,null,null,null,null,null,null,null,null,null,null,null,0,{"$f":"IF(N1115=0,\"\",MAX(O$15:O1114)+1)","v":""},""]
[null,null,null,null,null,null,null,null,null,null,null,null,null,0,{"$f":"IF(N1116=0,\"\",MAX(O$15:O1115)+1)","v":""},""]
[null,null,null,null,null,null,null,null,null,null,null,null,null,0,{"$f":"IF(N1117=0,\"\",MAX(O$15:O1116)+1)","v":""},""]
[null,null,null,null,null,null,null,null,null,null,null,null,null,0,{"$f":"IF(N1118=0,\"\",MAX(O$15:O1117)+1)","v":""},""]
[null,null,null,null,null,null,null,null,null,null,null,null,null,0,{"$f":"IF(N1119=0,\"\",MAX(O$15:O1118)+1)","v":""},""]
[null,null,null,null,null,null,null,null,null,null,null,null,null,0,{"$f":"IF(N1120=0,\"\",MAX(O$15:O1119)+1)","v":""},""]
[null,null,null,null,null,null,null,null,null,null,null,null,null,0,{"$f":"IF(N1121=0,\"\",MAX(O$15:O1120)+1)","v":""},""]
[null,null,null,null,null,null,null,null,null,null,null,null,null,0,{"$f":"IF(N1122=0,\"\",MAX(O$15:O1121)+1)","v":""},""]
[null,null,null,null,null,null,null,null,null,null,null,null,null,0,{"$f":"IF(N1123=0,\"\",MAX(O$15:O1122)+1)","v":""},""]
[null,null,null,null,null,null,null,null,null,null,null,null,null,0,{"$f":"IF(N1124=0,\"\",MAX(O$15:O1123)+1)","v":""},""]
[null,null,null,null,null,null,null,null,null,null,null,null,null,0,{"$f":"IF(N1125=0,\"\",MAX(O$15:O1124)+1)","v":""},""]
[null,null,null,null,null,null,null,null,null,null,null,null,null,0,{"$f":"IF(N1126=0,\"\",MAX(O$15:O1125)+1)","v":""},""]
[null,null,null,null,null,null,null,null,null,null,null,null,null,0,{"$f":"IF(N1127=0,\"\",MAX(O$15:O1126)+1)","v":""},""]
[null,null,null,null,null,null,null,null,null,null,null,null,null,0,{"$f":"IF(N1128=0,\"\",MAX(O$15:O1127)+1)","v":""},""]
[null,null,null,null,null,null,null,null,null,null,null,null,null,0,{"$f":"IF(N1129=0,\"\",MAX(O$15:O1128)+1)","v":""},""]
[null,null,null,null,null,null,null,null,null,null,null,null,null,0,{"$f":"IF(N1130=0,\"\",MAX(O$15:O1129)+1)","v":""},""]
[null,null,null,null,null,null,null,null,null,null,null,null,null,0,{"$f":"IF(N1131=0,\"\",MAX(O$15:O1130)+1)","v":""},""]
[null,null,null,null,null,null,null,null,null,null,null,null,null,0,{"$f":"IF(N1132=0,\"\",MAX(O$15:O1131)+1)","v":""},""]
[null,null,null,null,null,null,null,null,null,null,null,null,null,0,{"$f":"IF(N1133=0,\"\",MAX(O$15:O1132)+1)","v":""},""]
[null,null,null,null,null,null,null,null,null,null,null,null,null,0,{"$f":"IF(N1134=0,\"\",MAX(O$15:O1133)+1)","v":""},""]
[null,null,null,null,null,null,null,null,null,null,null,null,null,0,{"$f":"IF(N1135=0,\"\",MAX(O$15:O1134)+1)","v":""},""]
[null,null,null,null,null,null,null,null,null,null,null,null,null,0,{"$f":"IF(N1136=0,\"\",MAX(O$15:O1135)+1)","v":""},""]
[null,null,null,null,null,null,null,null,null,null,null,null,null,0,{"$f":"IF(N1137=0,\"\",MAX(O$15:O1136)+1)","v":""},""]
[null,null,null,null,null,null,null,null,null,null,null,null,null,0,{"$f":"IF(N1138=0,\"\",MAX(O$15:O1137)+1)","v":""},""]
[null,null,null,null,null,null,null,null,null,null,null,null,null,0,{"$f":"IF(N1139=0,\"\",MAX(O$15:O1138)+1)","v":""},""]
[null,null,null,null,null,null,null,null,null,null,null,null,null,0,{"$f":"IF(N1140=0,\"\",MAX(O$15:O1139)+1)","v":""},""]
[null,null,null,null,null,null,null,null,null,null,null,null,null,0,{"$f":"IF(N1141=0,\"\",MAX(O$15:O1140)+1)","v":""},""]
[null,null,null,null,null,null,null,null,null,null,null,null,null,0,{"$f":"IF(N1142=0,\"\",MAX(O$15:O1141)+1)","v":""},""]
[null,null,null,null,null,null,null,null,null,null,null,null,null,0,{"$f":"IF(N1143=0,\"\",MAX(O$15:O1142)+1)","v":""},""]
[null,null,null,null,null,null,null,null,null,null,null,null,null,0,{"$f":"IF(N1144=0,\"\",MAX(O$15:O1143)+1)","v":""},""]
[null,null,null,null,null,null,null,null,null,null,null,null,null,0,{"$f":"IF(N1145=0,\"\",MAX(O$15:O1144)+1)","v":""},""]
[null,null,null,null,null,null,null,null,null,null,null,null,null,{"$f":"IFERROR(M1146*L1146/1000,\"\")","v":0},{"$f":"IF(N1146=0,\"\",MAX(O$15:O1145)+1)","v":""},""]
[null,null,null,null,null,null,null,null,null,null,null,null,null,0,{"$f":"IF(N1147=0,\"\",MAX(O$15:O1146)+1)","v":""},""]
[null,null,null,null,null,null,null,null,null,null,null,null,null,0,{"$f":"IF(N1148=0,\"\",MAX(O$15:O1147)+1)","v":""},""]
[null,null,null,null,null,null,null,null,null,null,null,null,null,0,{"$f":"IF(N1149=0,\"\",MAX(O$15:O1148)+1)","v":""},""]
[null,null,null,null,null,null,null,null,null,null,null,null,null,0,{"$f":"IF(N1150=0,\"\",MAX(O$15:O1149)+1)","v":""},""]
[null,null,null,null,null,null,null,null,null,null,null,null,null,0,{"$f":"IF(N1151=0,\"\",MAX(O$15:O1150)+1)","v":""},""]
[null,null,null,null,null,null,null,null,null,null,null,null,null,0,{"$f":"IF(N1152=0,\"\",MAX(O$15:O1151)+1)","v":""},""]
[null,null,null,null,null,null,null,null,null,null,null,null,null,0,{"$f":"IF(N1153=0,\"\",MAX(O$15:O1152)+1)","v":""},""]
[null,null,null,null,null,null,null,null,null,null,null,null,null,0,{"$f":"IF(N1154=0,\"\",MAX(O$15:O1153)+1)","v":""},""]
[null,null,null,null,null,null,null,null,null,null,null,null,null,0,{"$f":"IF(N1155=0,\"\",MAX(O$15:O1154)+1)","v":""},""]
[null,null,null,null,null,null,null,null,null,null,null,null,null,0,{"$f":"IF(N1156=0,\"\",MAX(O$15:O1155)+1)","v":""},""]
[null,null,null,null,null,null,null,null,null,null,null,null,null,0,{"$f":"IF(N1157=0,\"\",MAX(O$15:O1156)+1)","v":""},""]
[null,null,null,null,null,null,null,null,null,null,null,null,null,0,{"$f":"IF(N1158=0,\"\",MAX(O$15:O1157)+1)","v":""},""]
[null,null,null,null,null,null,null,null,null,null,null,null,null,0,{"$f":"IF(N1159=0,\"\",MAX(O$15:O1158)+1)","v":""},""]
[null,null,null,null,null,null,null,null,null,null,null,null,null,0,{"$f":"IF(N1160=0,\"\",MAX(O$15:O1159)+1)","v":""},""]
[null,null,null,null,null,null,null,null,null,null,null,null,null,0,{"$f":"IF(N1161=0,\"\",MAX(O$15:O1160)+1)","v":""},""]
[null,null,null,null,null,null,null,null,null,null,null,null,null,0,{"$f":"IF(N1162=0,\"\",MAX(O$15:O1161)+1)","v":""},""]
[null,null,null,null,null,null,null,null,null,null,null,null,null,0,{"$f":"IF(N1163=0,\"\",MAX(O$15:O1162)+1)","v":""},""]
[null,null,null,null,null,null,null,null,null,null,null,null,null,0,{"$f":"IF(N1164=0,\"\",MAX(O$15:O1163)+1)","v":""},""]
[null,null,null,null,null,null,null,null,null,null,null,null,null,0,{"$f":"IF(N1165=0,\"\",MAX(O$15:O1164)+1)","v":""},""]
[null,null,null,null,null,null,null,null,null,null,null,null,null,0,{"$f":"IF(N1166=0,\"\",MAX(O$15:O1165)+1)","v":""},""]
[null,null,null,null,null,null,null,null,null,null,null,null,null,0,{"$f":"IF(N1167=0,\"\",MAX(O$15:O1166)+1)","v":""},""]
[null,null,null,null,null,null,null,null,null,null,null,null,null,0,{"$f":"IF(N1168=0,\"\",MAX(O$15:O1167)+1)","v":""},{"$f":"IFERROR(INDEX($N$15:$N$5014,MATCH(ROW()-ROW($O$14),$O$15:$O$5014,0)),\"\")","v":""}]
[null,null,null,null,null,null,null,null,null,null,null,null,null,0,{"$f":"IF(N1169=0,\"\",MAX(O$15:O1168)+1)","v":""},""]
[null,null,null,null,null,null,null,null,null,null,null,null,null,0,{"$f":"IF(N1170=0,\"\",MAX(O$15:O1169)+1)","v":""},""]
[null,null,null,null,null,null,null,null,null,null,null,null,null,0,{"$f":"IF(N1171=0,\"\",MAX(O$15:O1170)+1)","v":""},""]
[null,null,null,null,null,null,null,null,null,null,null,null,null,0,{"$f":"IF(N1172=0,\"\",MAX(O$15:O1171)+1)","v":""},""]
[null,null,null,null,null,null,null,null,null,null,null,null,null,0,{"$f":"IF(N1173=0,\"\",MAX(O$15:O1172)+1)","v":""},""]
[null,null,null,null,null,null,null,null,null,null,null,null,null,0,{"$f":"IF(N1174=0,\"\",MAX(O$15:O1173)+1)","v":""},""]
[null,null,null,null,null,null,null,null,null,null,null,null,null,0,{"$f":"IF(N1175=0,\"\",MAX(O$15:O1174)+1)","v":""},""]
[null,null,null,null,null,null,null,null,null,null,null,null,null,0,{"$f":"IF(N1176=0,\"\",MAX(O$15:O1175)+1)","v":""},""]
[null,null,null,null,null,null,null,null,null,null,null,null,null,0,{"$f":"IF(N1177=0,\"\",MAX(O$15:O1176)+1)","v":""},""]
[null,null,null,null,null,null,null,null,null,null,null,null,null,0,{"$f":"IF(N1178=0,\"\",MAX(O$15:O1177)+1)","v":""},""]
[null,null,null,null,null,null,null,null,null,null,null,null,null,0,{"$f":"IF(N1179=0,\"\",MAX(O$15:O1178)+1)","v":""},""]
[null,null,null,null,null,null,null,null,null,null,null,null,null,0,{"$f":"IF(N1180=0,\"\",MAX(O$15:O1179)+1)","v":""},""]
[null,null,null,null,null,null,null,null,null,null,null,null,null,0,{"$f":"IF(N1181=0,\"\",MAX(O$15:O1180)+1)","v":""},""]
[null,null,null,null,null,null,null,null,null,null,null,null,null,0,{"$f":"IF(N1182=0,\"\",MAX(O$15:O1181)+1)","v":""},""]
[null,null,null,null,null,null,null,null,null,null,null,null,null,0,{"$f":"IF(N1183=0,\"\",MAX(O$15:O1182)+1)","v":""},""]
[null,null,null,null,null,null,null,null,null,null,null,null,null,0,{"$f":"IF(N1184=0,\"\",MAX(O$15:O1183)+1)","v":""},""]
[null,null,null,null,null,null,null,null,null,null,null,null,null,0,{"$f":"IF(N1185=0,\"\",MAX(O$15:O1184)+1)","v":""},""]
[null,null,null,null,null,null,null,null,null,null,null,null,null,0,{"$f":"IF(N1186=0,\"\",MAX(O$15:O1185)+1)","v":""},""]
[null,null,null,null,null,null,null,null,null,null,null,null,null,0,{"$f":"IF(N1187=0,\"\",MAX(O$15:O1186)+1)","v":""},""]
[null,null,null,null,null,null,null,null,null,null,null,null,null,0,{"$f":"IF(N1188=0,\"\",MAX(O$15:O1187)+1)","v":""},""]
[null,null,null,null,null,null,null,null,null,null,null,null,null,0,{"$f":"IF(N1189=0,\"\",MAX(O$15:O1188)+1)","v":""},""]
[null,null,null,null,null,null,null,null,null,null,null,null,null,0,{"$f":"IF(N1190=0,\"\",MAX(O$15:O1189)+1)","v":""},""]
[null,null,null,null,null,null,null,null,null,null,null,null,null,0,{"$f":"IF(N1191=0,\"\",MAX(O$15:O1190)+1)","v":""},""]
[null,null,null,null,null,null,null,null,null,null,null,null,null,0,{"$f":"IF(N1192=0,\"\",MAX(O$15:O1191)+1)","v":""},""]
[null,null,null,null,null,null,null,null,null,null,null,null,null,0,{"$f":"IF(N1193=0,\"\",MAX(O$15:O1192)+1)","v":""},""]
[null,null,null,null,null,null,null,null,null,null,null,null,null,0,{"$f":"IF(N1194=0,\"\",MAX(O$15:O1193)+1)","v":""},""]
[null,null,null,null,null,null,null,null,null,null,null,null,null,0,{"$f":"IF(N1195=0,\"\",MAX(O$15:O1194)+1)","v":""},""]
[null,null,null,null,null,null,null,null,null,null,null,null,null,0,{"$f":"IF(N1196=0,\"\",MAX(O$15:O1195)+1)","v":""},""]
[null,null,null,null,null,null,null,null,null,null,null,null,null,0,{"$f":"IF(N1197=0,\"\",MAX(O$15:O1196)+1)","v":""},""]
[null,null,null,null,null,null,null,null,null,null,null,null,null,0,{"$f":"IF(N1198=0,\"\",MAX(O$15:O1197)+1)","v":""},""]
[null,null,null,null,null,null,null,null,null,null,null,null,null,0,{"$f":"IF(N1199=0,\"\",MAX(O$15:O1198)+1)","v":""},""]
[null,null,null,null,null,null,null,null,null,null,null,null,null,0,{"$f":"IF(N1200=0,\"\",MAX(O$15:O1199)+1)","v":""},""]
[null,null,null,null,null,null,null,null,null,null,null,null,null,0,{"$f":"IF(N1201=0,\"\",MAX(O$15:O1200)+1)","v":""},""]
[null,null,null,null,null,null,null,null,null,null,null,null,null,0,{"$f":"IF(N1202=0,\"\",MAX(O$15:O1201)+1)","v":""},""]
[null,null,null,null,null,null,null,null,null,null,null,null,null,0,{"$f":"IF(N1203=0,\"\",MAX(O$15:O1202)+1)","v":""},""]
[null,null,null,null,null,null,null,null,null,null,null,null,null,0,{"$f":"IF(N1204=0,\"\",MAX(O$15:O1203)+1)","v":""},""]
[null,null,null,null,null,null,null,null,null,null,null,null,null,0,{"$f":"IF(N1205=0,\"\",MAX(O$15:O1204)+1)","v":""},""]
[null,null,null,null,null,null,null,null,null,null,null,null,null,0,{"$f":"IF(N1206=0,\"\",MAX(O$15:O1205)+1)","v":""},""]
[null,null,null,null,null,null,null,null,null,null,null,null,null,0,{"$f":"IF(N1207=0,\"\",MAX(O$15:O1206)+1)","v":""},""]
[null,null,null,null,null,null,null,null,null,null,null,null,null,0,{"$f":"IF(N1208=0,\"\",MAX(O$15:O1207)+1)","v":""},""]
[null,null,null,null,null,null,null,null,null,null,null,null,null,0,{"$f":"IF(N1209=0,\"\",MAX(O$15:O1208)+1)","v":""},""]
[null,null,null,null,null,null,null,null,null,null,null,null,null,{"$f":"IFERROR(M1210*L1210/1000,\"\")","v":0},{"$f":"IF(N1210=0,\"\",MAX(O$15:O1209)+1)","v":""},""]
[null,null,null,null,null,null,null,null,null,null,null,null,null,0,{"$f":"IF(N1211=0,\"\",MAX(O$15:O1210)+1)","v":""},""]
[null,null,null,null,null,null,null,null,null,null,null,null,null,0,{"$f":"IF(N1212=0,\"\",MAX(O$15:O1211)+1)","v":""},""]
[null,null,null,null,null,null,null,null,null,null,null,null,null,0,{"$f":"IF(N1213=0,\"\",MAX(O$15:O1212)+1)","v":""},""]
[null,null,null,null,null,null,null,null,null,null,null,null,null,0,{"$f":"IF(N1214=0,\"\",MAX(O$15:O1213)+1)","v":""},""]
[null,null,null,null,null,null,null,null,null,null,null,null,null,0,{"$f":"IF(N1215=0,\"\",MAX(O$15:O1214)+1)","v":""},""]
[null,null,null,null,null,null,null,null,null,null,null,null,null,0,{"$f":"IF(N1216=0,\"\",MAX(O$15:O1215)+1)","v":""},""]
[null,null,null,null,null,null,null,null,null,null,null,null,null,0,{"$f":"IF(N1217=0,\"\",MAX(O$15:O1216)+1)","v":""},""]
[null,null,null,null,null,null,null,null,null,null,null,null,null,0,{"$f":"IF(N1218=0,\"\",MAX(O$15:O1217)+1)","v":""},""]
[null,null,null,null,null,null,null,null,null,null,null,null,null,0,{"$f":"IF(N1219=0,\"\",MAX(O$15:O1218)+1)","v":""},""]
[null,null,null,null,null,null,null,null,null,null,null,null,null,0,{"$f":"IF(N1220=0,\"\",MAX(O$15:O1219)+1)","v":""},""]
[null,null,null,null,null,null,null,null,null,null,null,null,null,0,{"$f":"IF(N1221=0,\"\",MAX(O$15:O1220)+1)","v":""},""]
[null,null,null,null,null,null,null,null,null,null,null,null,null,0,{"$f":"IF(N1222=0,\"\",MAX(O$15:O1221)+1)","v":""},""]
[null,null,null,null,null,null,null,null,null,null,null,null,null,0,{"$f":"IF(N1223=0,\"\",MAX(O$15:O1222)+1)","v":""},""]
[null,null,null,null,null,null,null,null,null,null,null,null,null,0,{"$f":"IF(N1224=0,\"\",MAX(O$15:O1223)+1)","v":""},""]
[null,null,null,null,null,null,null,null,null,null,null,null,null,0,{"$f":"IF(N1225=0,\"\",MAX(O$15:O1224)+1)","v":""},""]
[null,null,null,null,null,null,null,null,null,null,null,null,null,0,{"$f":"IF(N1226=0,\"\",MAX(O$15:O1225)+1)","v":""},""]
[null,null,null,null,null,null,null,null,null,null,null,null,null,0,{"$f":"IF(N1227=0,\"\",MAX(O$15:O1226)+1)","v":""},""]
[null,null,null,null,null,null,null,null,null,null,null,null,null,0,{"$f":"IF(N1228=0,\"\",MAX(O$15:O1227)+1)","v":""},""]
[null,null,null,null,null,null,null,null,null,null,null,null,null,0,{"$f":"IF(N1229=0,\"\",MAX(O$15:O1228)+1)","v":""},""]
[null,null,null,null,null,null,null,null,null,null,null,null,null,0,{"$f":"IF(N1230=0,\"\",MAX(O$15:O1229)+1)","v":""},""]
[null,null,null,null,null,null,null,null,null,null,null,null,null,0,{"$f":"IF(N1231=0,\"\",MAX(O$15:O1230)+1)","v":""},""]
[null,null,null,null,null,null,null,null,null,null,null,null,null,0,{"$f":"IF(N1232=0,\"\",MAX(O$15:O1231)+1)","v":""},{"$f":"IFERROR(INDEX($N$15:$N$5014,MATCH(ROW()-ROW($O$14),$O$15:$O$5014,0)),\"\")","v":""}]
[null,null,null,null,null,null,null,null,null,null,null,null,null,0,{"$f":"IF(N1233=0,\"\",MAX(O$15:O1232)+1)","v":""},""]
[null,null,null,null,null,null,null,null,null,null,null,null,null,0,{"$f":"IF(N1234=0,\"\",MAX(O$15:O1233)+1)","v":""},""]
[null,null,null,null,null,null,null,null,null,null,null,null,null,0,{"$f":"IF(N1235=0,\"\",MAX(O$15:O1234)+1)","v":""},""]
[null,null,null,null,null,null,null,null,null,null,null,null,null,0,{"$f":"IF(N1236=0,\"\",MAX(O$15:O1235)+1)","v":""},""]
[null,null,null,null,null,null,null,null,null,null,null,null,null,0,{"$f":"IF(N1237=0,\"\",MAX(O$15:O1236)+1)","v":""},""]
[null,null,null,null,null,null,null,null,null,null,null,null,null,0,{"$f":"IF(N1238=0,\"\",MAX(O$15:O1237)+1)","v":""},""]
[null,null,null,null,null,null,null,null,null,null,null,null,null,0,{"$f":"IF(N1239=0,\"\",MAX(O$15:O1238)+1)","v":""},""]
[null,null,null,null,null,null,null,null,null,null,null,null,null,0,{"$f":"IF(N1240=0,\"\",MAX(O$15:O1239)+1)","v":""},""]
[null,null,null,null,null,null,null,null,null,null,null,null,null,0,{"$f":"IF(N1241=0,\"\",MAX(O$15:O1240)+1)","v":""},""]
[null,null,null,null,null,null,null,null,null,null,null,null,null,0,{"$f":"IF(N1242=0,\"\",MAX(O$15:O1241)+1)","v":""},""]
[null,null,null,null,null,null,null,null,null,null,null,null,null,0,{"$f":"IF(N1243=0,\"\",MAX(O$15:O1242)+1)","v":""},""]
[null,null,null,null,null,null,null,null,null,null,null,null,null,0,{"$f":"IF(N1244=0,\"\",MAX(O$15:O1243)+1)","v":""},""]
[null,null,null,null,null,null,null,null,null,null,null,null,null,0,{"$f":"IF(N1245=0,\"\",MAX(O$15:O1244)+1)","v":""},""]
[null,null,null,null,null,null,null,null,null,null,null,null,null,0,{"$f":"IF(N1246=0,\"\",MAX(O$15:O1245)+1)","v":""},""]
[null,null,null,null,null,null,null,null,null,null,null,null,null,0,{"$f":"IF(N1247=0,\"\",MAX(O$15:O1246)+1)","v":""},""]
[null,null,null,null,null,null,null,null,null,null,null,null,null,0,{"$f":"IF(N1248=0,\"\",MAX(O$15:O1247)+1)","v":""},""]
[null,null,null,null,null,null,null,null,null,null,null,null,null,0,{"$f":"IF(N1249=0,\"\",MAX(O$15:O1248)+1)","v":""},""]
[null,null,null,null,null,null,null,null,null,null,null,null,null,0,{"$f":"IF(N1250=0,\"\",MAX(O$15:O1249)+1)","v":""},""]
[null,null,null,null,null,null,null,null,null,null,null,null,null,0,{"$f":"IF(N1251=0,\"\",MAX(O$15:O1250)+1)","v":""},""]
[null,null,null,null,null,null,null,null,null,null,null,null,null,0,{"$f":"IF(N1252=0,\"\",MAX(O$15:O1251)+1)","v":""},""]
[null,null,null,null,null,null,null,null,null,null,null,null,null,0,{"$f":"IF(N1253=0,\"\",MAX(O$15:O1252)+1)","v":""},""]
[null,null,null,null,null,null,null,null,null,null,null,null,null,0,{"$f":"IF(N1254=0,\"\",MAX(O$15:O1253)+1)","v":""},""]
[null,null,null,null,null,null,null,null,null,null,null,null,null,0,{"$f":"IF(N1255=0,\"\",MAX(O$15:O1254)+1)","v":""},""]
[null,null,null,null,null,null,null,null,null,null,null,null,null,0,{"$f":"IF(N1256=0,\"\",MAX(O$15:O1255)+1)","v":""},""]
[null,null,null,null,null,null,null,null,null,null,null,null,null,0,{"$f":"IF(N1257=0,\"\",MAX(O$15:O1256)+1)","v":""},""]
[null,null,null,null,null,null,null,null,null,null,null,null,null,0,{"$f":"IF(N1258=0,\"\",MAX(O$15:O1257)+1)","v":""},""]
[null,null,null,null,null,null,null,null,null,null,null,null,null,0,{"$f":"IF(N1259=0,\"\",MAX(O$15:O1258)+1)","v":""},""]
[null,null,null,null,null,null,null,null,null,null,null,null,null,0,{"$f":"IF(N1260=0,\"\",MAX(O$15:O1259)+1)","v":""},""]
[null,null,null,null,null,null,null,null,null,null,null,null,null,0,{"$f":"IF(N1261=0,\"\",MAX(O$15:O1260)+1)","v":""},""]
[null,null,null,null,null,null,null,null,null,null,null,null,null,0,{"$f":"IF(N1262=0,\"\",MAX(O$15:O1261)+1)","v":""},""]
[null,null,null,null,null,null,null,null,null,null,null,null,null,0,{"$f":"IF(N1263=0,\"\",MAX(O$15:O1262)+1)","v":""},""]
[null,null,null,null,null,null,null,null,null,null,null,null,null,0,{"$f":"IF(N1264=0,\"\",MAX(O$15:O1263)+1)","v":""},""]
[null,null,null,null,null,null,null,null,null,null,null,null,null,0,{"$f":"IF(N1265=0,\"\",MAX(O$15:O1264)+1)","v":""},""]
[null,null,null,null,null,null,null,null,null,null,null,null,null,0,{"$f":"IF(N1266=0,\"\",MAX(O$15:O1265)+1)","v":""},""]
[null,null,null,null,null,null,null,null,null,null,null,null,null,0,{"$f":"IF(N1267=0,\"\",MAX(O$15:O1266)+1)","v":""},""]
[null,null,null,null,null,null,null,null,null,null,null,null,null,0,{"$f":"IF(N1268=0,\"\",MAX(O$15:O1267)+1)","v":""},""]
[null,null,null,null,null,null,null,null,null,null,null,null,null,0,{"$f":"IF(N1269=0,\"\",MAX(O$15:O1268)+1)","v":""},""]
[null,null,null,null,null,null,null,null,null,null,null,null,null,0,{"$f":"IF(N1270=0,\"\",MAX(O$15:O1269)+1)","v":""},""]
[null,null,null,null,null,null,null,null,null,null,null,null,null,0,{"$f":"IF(N1271=0,\"\",MAX(O$15:O1270)+1)","v":""},""]
[null,null,null,null,null,null,null,null,null,null,null,null,null,0,{"$f":"IF(N1272=0,\"\",MAX(O$15:O1271)+1)","v":""},""]
[null,null,null,null,null,null,null,null,null,null,null,null,null,0,{"$f":"IF(N1273=0,\"\",MAX(O$15:O1272)+1)","v":""},""]
[null,null,null,null,null,null,null,null,null,null,null,null,null,{"$f":"IFERROR(M1274*L1274/1000,\"\")","v":0},{"$f":"IF(N1274=0,\"\",MAX(O$15:O1273)+1)","v":""},""]
[null,null,null,null,null,null,null,null,null,null,null,null,null,0,{"$f":"IF(N1275=0,\"\",MAX(O$15:O1274)+1)","v":""},""]
[null,null,null,null,null,null,null,null,null,null,null,null,null,0,{"$f":"IF(N1276=0,\"\",MAX(O$15:O1275)+1)","v":""},""]
[null,null,null,null,null,null,null,null,null,null,null,null,null,0,{"$f":"IF(N1277=0,\"\",MAX(O$15:O1276)+1)","v":""},""]
[null,null,null,null,null,null,null,null,null,null,null,null,null,0,{"$f":"IF(N1278=0,\"\",MAX(O$15:O1277)+1)","v":""},""]
[null,null,null,null,null,null,null,null,null,null,null,null,null,0,{"$f":"IF(N1279=0,\"\",MAX(O$15:O1278)+1)","v":""},""]
[null,null,null,null,null,null,null,null,null,null,null,null,null,0,{"$f":"IF(N1280=0,\"\",MAX(O$15:O1279)+1)","v":""},""]
[null,null,null,null,null,null,null,null,null,null,null,null,null,0,{"$f":"IF(N1281=0,\"\",MAX(O$15:O1280)+1)","v":""},""]
[null,null,null,null,null,null,null,null,null,null,null,null,null,0,{"$f":"IF(N1282=0,\"\",MAX(O$15:O1281)+1)","v":""},""]
[null,null,null,null,null,null,null,null,null,null,null,null,null,0,{"$f":"IF(N1283=0,\"\",MAX(O$15:O1282)+1)","v":""},""]
[null,null,null,null,null,null,null,null,null,null,null,null,null,0,{"$f":"IF(N1284=0,\"\",MAX(O$15:O1283)+1)","v":""},""]
[null,null,null,null,null,null,null,null,null,null,null,null,null,0,{"$f":"IF(N1285=0,\"\",MAX(O$15:O1284)+1)","v":""},""]
[null,null,null,null,null,null,null,null,null,null,null,null,null,0,{"$f":"IF(N1286=0,\"\",MAX(O$15:O1285)+1)","v":""},""]
[null,null,null,null,null,null,null,null,null,null,null,null,null,0,{"$f":"IF(N1287=0,\"\",MAX(O$15:O1286)+1)","v":""},""]
[null,null,null,null,null,null,null,null,null,null,null,null,null,0,{"$f":"IF(N1288=0,\"\",MAX(O$15:O1287)+1)","v":""},""]
[null,null,null,null,null,null,null,null,null,null,null,null,null,0,{"$f":"IF(N1289=0,\"\",MAX(O$15:O1288)+1)","v":""},""]
[null,null,null,null,null,null,null,null,null,null,null,null,null,0,{"$f":"IF(N1290=0,\"\",MAX(O$15:O1289)+1)","v":""},""]
[null,null,null,null,null,null,null,null,null,null,null,null,null,0,{"$f":"IF(N1291=0,\"\",MAX(O$15:O1290)+1)","v":""},""]
[null,null,null,null,null,null,null,null,null,null,null,null,null,0,{"$f":"IF(N1292=0,\"\",MAX(O$15:O1291)+1)","v":""},""]
[null,null,null,null,null,null,null,null,null,null,null,null,null,0,{"$f":"IF(N1293=0,\"\",MAX(O$15:O1292)+1)","v":""},""]
[null,null,null,null,null,null,null,null,null,null,null,null,null,0,{"$f":"IF(N1294=0,\"\",MAX(O$15:O1293)+1)","v":""},""]
[null,null,null,null,null,null,null,null,null,null,null,null,null,0,{"$f":"IF(N1295=0,\"\",MAX(O$15:O1294)+1)","v":""},""]
[null,null,null,null,null,null,null,null,null,null,null,null,null,0,{"$f":"IF(N1296=0,\"\",MAX(O$15:O1295)+1)","v":""},{"$f":"IFERROR(INDEX($N$15:$N$5014,MATCH(ROW()-ROW($O$14),$O$15:$O$5014,0)),\"\")","v":""}]
[null,null,null,null,null,null,null,null,null,null,null,null,null,0,{"$f":"IF(N1297=0,\"\",MAX(O$15:O1296)+1)","v":""},""]
[null,null,null,null,null,null,null,null,null,null,null,null,null,0,{"$f":"IF(N1298=0,\"\",MAX(O$15:O1297)+1)","v":""},""]
[null,null,null,null,null,null,null,null,null,null,null,null,null,0,{"$f":"IF(N1299=0,\"\",MAX(O$15:O1298)+1)","v":""},""]
[null,null,null,null,null,null,null,null,null,null,null,null,null,0,{"$f":"IF(N1300=0,\"\",MAX(O$15:O1299)+1)","v":""},""]
[null,null,null,null,null,null,null,null,null,null,null,null,null,0,{"$f":"IF(N1301=0,\"\",MAX(O$15:O1300)+1)","v":""},""]
[null,null,null,null,null,null,null,null,null,null,null,null,null,0,{"$f":"IF(N1302=0,\"\",MAX(O$15:O1301)+1)","v":""},""]
[null,null,null,null,null,null,null,null,null,null,null,null,null,0,{"$f":"IF(N1303=0,\"\",MAX(O$15:O1302)+1)","v":""},""]
[null,null,null,null,null,null,null,null,null,null,null,null,null,0,{"$f":"IF(N1304=0,\"\",MAX(O$15:O1303)+1)","v":""},""]
[null,null,null,null,null,null,null,null,null,null,null,null,null,0,{"$f":"IF(N1305=0,\"\",MAX(O$15:O1304)+1)","v":""},""]
[null,null,null,null,null,null,null,null,null,null,null,null,null,0,{"$f":"IF(N1306=0,\"\",MAX(O$15:O1305)+1)","v":""},""]
[null,null,null,null,null,null,null,null,null,null,null,null,null,0,{"$f":"IF(N1307=0,\"\",MAX(O$15:O1306)+1)","v":""},""]
[null,null,null,null,null,null,null,null,null,null,null,null,null,0,{"$f":"IF(N1308=0,\"\",MAX(O$15:O1307)+1)","v":""},""]
[null,null,null,null,null,null,null,null,null,null,null,null,null,0,{"$f":"IF(N1309=0,\"\",MAX(O$15:O1308)+1)","v":""},""]
[null,null,null,null,null,null,null,null,null,null,null,null,null,0,{"$f":"IF(N1310=0,\"\",MAX(O$15:O1309)+1)","v":""},""]
[null,null,null,null,null,null,null,null,null,null,null,null,null,0,{"$f":"IF(N1311=0,\"\",MAX(O$15:O1310)+1)","v":""},""]
[null,null,null,null,null,null,null,null,null,null,null,null,null,0,{"$f":"IF(N1312=0,\"\",MAX(O$15:O1311)+1)","v":""},""]
[null,null,null,null,null,null,null,null,null,null,null,null,null,0,{"$f":"IF(N1313=0,\"\",MAX(O$15:O1312)+1)","v":""},""]
[null,null,null,null,null,null,null,null,null,null,null,null,null,0,{"$f":"IF(N1314=0,\"\",MAX(O$15:O1313)+1)","v":""},""]
[null,null,null,null,null,null,null,null,null,null,null,null,null,0,{"$f":"IF(N1315=0,\"\",MAX(O$15:O1314)+1)","v":""},""]
[null,null,null,null,null,null,null,null,null,null,null,null,null,0,{"$f":"IF(N1316=0,\"\",MAX(O$15:O1315)+1)","v":""},""]
[null,null,null,null,null,null,null,null,null,null,null,null,null,0,{"$f":"IF(N1317=0,\"\",MAX(O$15:O1316)+1)","v":""},""]
[null,null,null,null,null,null,null,null,null,null,null,null,null,0,{"$f":"IF(N1318=0,\"\",MAX(O$15:O1317)+1)","v":""},""]
[null,null,null,null,null,null,null,null,null,null,null,null,null,0,{"$f":"IF(N1319=0,\"\",MAX(O$15:O1318)+1)","v":""},""]
[null,null,null,null,null,null,null,null,null,null,null,null,null,0,{"$f":"IF(N1320=0,\"\",MAX(O$15:O1319)+1)","v":""},""]
[null,null,null,null,null,null,null,null,null,null,null,null,null,0,{"$f":"IF(N1321=0,\"\",MAX(O$15:O1320)+1)","v":""},""]
[null,null,null,null,null,null,null,null,null,null,null,null,null,0,{"$f":"IF(N1322=0,\"\",MAX(O$15:O1321)+1)","v":""},""]
[null,null,null,null,null,null,null,null,null,null,null,null,null,0,{"$f":"IF(N1323=0,\"\",MAX(O$15:O1322)+1)","v":""},""]
[null,null,null,null,null,null,null,null,null,null,null,null,null,0,{"$f":"IF(N1324=0,\"\",MAX(O$15:O1323)+1)","v":""},""]
[null,null,null,null,null,null,null,null,null,null,null,null,null,0,{"$f":"IF(N1325=0,\"\",MAX(O$15:O1324)+1)","v":""},""]
[null,null,null,null,null,null,null,null,null,null,null,null,null,0,{"$f":"IF(N1326=0,\"\",MAX(O$15:O1325)+1)","v":""},""]
[null,null,null,null,null,null,null,null,null,null,null,null,null,0,{"$f":"IF(N1327=0,\"\",MAX(O$15:O1326)+1)","v":""},""]
[null,null,null,null,null,null,null,null,null,null,null,null,null,0,{"$f":"IF(N1328=0,\"\",MAX(O$15:O1327)+1)","v":""},""]
[null,null,null,null,null,null,null,null,null,null,null,null,null,0,{"$f":"IF(N1329=0,\"\",MAX(O$15:O1328)+1)","v":""},""]
[null,null,null,null,null,null,null,null,null,null,null,null,null,0,{"$f":"IF(N1330=0,\"\",MAX(O$15:O1329)+1)","v":""},""]
[null,null,null,null,null,null,null,null,null,null,null,null,null,0,{"$f":"IF(N1331=0,\"\",MAX(O$15:O1330)+1)","v":""},""]
[null,null,null,null,null,null,null,null,null,null,null,null,null,0,{"$f":"IF(N1332=0,\"\",MAX(O$15:O1331)+1)","v":""},""]
[null,null,null,null,null,null,null,null,null,null,null,null,null,0,{"$f":"IF(N1333=0,\"\",MAX(O$15:O1332)+1)","v":""},""]
[null,null,null,null,null,null,null,null,null,null,null,null,null,0,{"$f":"IF(N1334=0,\"\",MAX(O$15:O1333)+1)","v":""},""]
[null,null,null,null,null,null,null,null,null,null,null,null,null,0,{"$f":"IF(N1335=0,\"\",MAX(O$15:O1334)+1)","v":""},""]
[null,null,null,null,null,null,null,null,null,null,null,null,null,0,{"$f":"IF(N1336=0,\"\",MAX(O$15:O1335)+1)","v":""},""]
[null,null,null,null,null,null,null,null,null,null,null,null,null,0,{"$f":"IF(N1337=0,\"\",MAX(O$15:O1336)+1)","v":""},""]
[null,null,null,null,null,null,null,null,null,null,null,null,null,{"$f":"IFERROR(M1338*L1338/1000,\"\")","v":0},{"$f":"IF(N1338=0,\"\",MAX(O$15:O1337)+1)","v":""},""]
[null,null,null,null,null,null,null,null,null,null,null,null,null,0,{"$f":"IF(N1339=0,\"\",MAX(O$15:O1338)+1)","v":""},""]
[null,null,null,null,null,null,null,null,null,null,null,null,null,0,{"$f":"IF(N1340=0,\"\",MAX(O$15:O1339)+1)","v":""},""]
[null,null,null,null,null,null,null,null,null,null,null,null,null,0,{"$f":"IF(N1341=0,\"\",MAX(O$15:O1340)+1)","v":""},""]
[null,null,null,null,null,null,null,null,null,null,null,null,null,0,{"$f":"IF(N1342=0,\"\",MAX(O$15:O1341)+1)","v":""},""]
[null,null,null,null,null,null,null,null,null,null,null,null,null,0,{"$f":"IF(N1343=0,\"\",MAX(O$15:O1342)+1)","v":""},""]
[null,null,null,null,null,null,null,null,null,null,null,null,null,0,{"$f":"IF(N1344=0,\"\",MAX(O$15:O1343)+1)","v":""},""]
[null,null,null,null,null,null,null,null,null,null,null,null,null,0,{"$f":"IF(N1345=0,\"\",MAX(O$15:O1344)+1)","v":""},""]
[null,null,null,null,null,null,null,null,null,null,null,null,null,0,{"$f":"IF(N1346=0,\"\",MAX(O$15:O1345)+1)","v":""},""]
[null,null,null,null,null,null,null,null,null,null,null,null,null,0,{"$f":"IF(N1347=0,\"\",MAX(O$15:O1346)+1)","v":""},""]
[null,null,null,null,null,null,null,null,null,null,null,null,null,0,{"$f":"IF(N1348=0,\"\",MAX(O$15:O1347)+1)","v":""},""]
[null,null,null,null,null,null,null,null,null,null,null,null,null,0,{"$f":"IF(N1349=0,\"\",MAX(O$15:O1348)+1)","v":""},""]
[null,null,null,null,null,null,null,null,null,null,null,null,null,0,{"$f":"IF(N1350=0,\"\",MAX(O$15:O1349)+1)","v":""},""]
[null,null,null,null,null,null,null,null,null,null,null,null,null,0,{"$f":"IF(N1351=0,\"\",MAX(O$15:O1350)+1)","v":""},""]
[null,null,null,null,null,null,null,null,null,null,null,null,null,0,{"$f":"IF(N1352=0,\"\",MAX(O$15:O1351)+1)","v":""},""]
[null,null,null,null,null,null,null,null,null,null,null,null,null,0,{"$f":"IF(N1353=0,\"\",MAX(O$15:O1352)+1)","v":""},""]
[null,null,null,null,null,null,null,null,null,null,null,null,null,0,{"$f":"IF(N1354=0,\"\",MAX(O$15:O1353)+1)","v":""},""]
[null,null,null,null,null,null,null,null,null,null,null,null,null,0,{"$f":"IF(N1355=0,\"\",MAX(O$15:O1354)+1)","v":""},""]
[null,null,null,null,null,null,null,null,null,null,null,null,null,0,{"$f":"IF(N1356=0,\"\",MAX(O$15:O1355)+1)","v":""},""]
[null,null,null,null,null,null,null,null,null,null,null,null,null,0,{"$f":"IF(N1357=0,\"\",MAX(O$15:O1356)+1)","v":""},""]
[null,null,null,null,null,null,null,null,null,null,null,null,null,0,{"$f":"IF(N1358=0,\"\",MAX(O$15:O1357)+1)","v":""},""]
[null,null,null,null,null,null,null,null,null,null,null,null,null,0,{"$f":"IF(N1359=0,\"\",MAX(O$15:O1358)+1)","v":""},""]
[null,null,null,null,null,null,null,null,null,null,null,null,null,0,{"$f":"IF(N1360=0,\"\",MAX(O$15:O1359)+1)","v":""},{"$f":"IFERROR(INDEX($N$15:$N$5014,MATCH(ROW()-ROW($O$14),$O$15:$O$5014,0)),\"\")","v":""}]
[null,null,null,null,null,null,null,null,null,null,null,null,null,0,{"$f":"IF(N1361=0,\"\",MAX(O$15:O1360)+1)","v":""},""]
[null,null,null,null,null,null,null,null,null,null,null,null,null,0,{"$f":"IF(N1362=0,\"\",MAX(O$15:O1361)+1)","v":""},""]
[null,null,null,null,null,null,null,null,null,null,null,null,null,0,{"$f":"IF(N1363=0,\"\",MAX(O$15:O1362)+1)","v":""},""]
[null,null,null,null,null,null,null,null,null,null,null,null,null,0,{"$f":"IF(N1364=0,\"\",MAX(O$15:O1363)+1)","v":""},""]
[null,null,null,null,null,null,null,null,null,null,null,null,null,0,{"$f":"IF(N1365=0,\"\",MAX(O$15:O1364)+1)","v":""},""]
[null,null,null,null,null,null,null,null,null,null,null,null,null,0,{"$f":"IF(N1366=0,\"\",MAX(O$15:O1365)+1)","v":""},""]
[null,null,null,null,null,null,null,null,null,null,null,null,null,0,{"$f":"IF(N1367=0,\"\",MAX(O$15:O1366)+1)","v":""},""]
[null,null,null,null,null,null,null,null,null,null,null,null,null,0,{"$f":"IF(N1368=0,\"\",MAX(O$15:O1367)+1)","v":""},""]
[null,null,null,null,null,null,null,null,null,null,null,null,null,0,{"$f":"IF(N1369=0,\"\",MAX(O$15:O1368)+1)","v":""},""]
[null,null,null,null,null,null,null,null,null,null,null,null,null,0,{"$f":"IF(N1370=0,\"\",MAX(O$15:O1369)+1)","v":""},""]
[null,null,null,null,null,null,null,null,null,null,null,null,null,0,{"$f":"IF(N1371=0,\"\",MAX(O$15:O1370)+1)","v":""},""]
[null,null,null,null,null,null,null,null,null,null,null,null,null,0,{"$f":"IF(N1372=0,\"\",MAX(O$15:O1371)+1)","v":""},""]
[null,null,null,null,null,null,null,null,null,null,null,null,null,0,{"$f":"IF(N1373=0,\"\",MAX(O$15:O1372)+1)","v":""},""]
[null,null,null,null,null,null,null,null,null,null,null,null,null,0,{"$f":"IF(N1374=0,\"\",MAX(O$15:O1373)+1)","v":""},""]
[null,null,null,null,null,null,null,null,null,null,null,null,null,0,{"$f":"IF(N1375=0,\"\",MAX(O$15:O1374)+1)","v":""},""]
[null,null,null,null,null,null,null,null,null,null,null,null,null,0,{"$f":"IF(N1376=0,\"\",MAX(O$15:O1375)+1)","v":""},""]
[null,null,null,null,null,null,null,null,null,null,null,null,null,0,{"$f":"IF(N1377=0,\"\",MAX(O$15:O1376)+1)","v":""},""]
[null,null,null,null,null,null,null,null,null,null,null,null,null,0,{"$f":"IF(N1378=0,\"\",MAX(O$15:O1377)+1)","v":""},""]
[null,null,null,null,null,null,null,null,null,null,null,null,null,0,{"$f":"IF(N1379=0,\"\",MAX(O$15:O1378)+1)","v":""},""]
[null,null,null,null,null,null,null,null,null,null,null,null,null,0,{"$f":"IF(N1380=0,\"\",MAX(O$15:O1379)+1)","v":""},""]
[null,null,null,null,null,null,null,null,null,null,null,null,null,0,{"$f":"IF(N1381=0,\"\",MAX(O$15:O1380)+1)","v":""},""]
[null,null,null,null,null,null,null,null,null,null,null,null,null,0,{"$f":"IF(N1382=0,\"\",MAX(O$15:O1381)+1)","v":""},""]
[null,null,null,null,null,null,null,null,null,null,null,null,null,0,{"$f":"IF(N1383=0,\"\",MAX(O$15:O1382)+1)","v":""},""]
[null,null,null,null,null,null,null,null,null,null,null,null,null,0,{"$f":"IF(N1384=0,\"\",MAX(O$15:O1383)+1)","v":""},""]
[null,null,null,null,null,null,null,null,null,null,null,null,null,0,{"$f":"IF(N1385=0,\"\",MAX(O$15:O1384)+1)","v":""},""]
[null,null,null,null,null,null,null,null,null,null,null,null,null,0,{"$f":"IF(N1386=0,\"\",MAX(O$15:O1385)+1)","v":""},""]
[null,null,null,null,null,null,null,null,null,null,null,null,null,0,{"$f":"IF(N1387=0,\"\",MAX(O$15:O1386)+1)","v":""},""]
[null,null,null,null,null,null,null,null,null,null,null,null,null,0,{"$f":"IF(N1388=0,\"\",MAX(O$15:O1387)+1)","v":""},""]
[null,null,null,null,null,null,null,null,null,null,null,null,null,0,{"$f":"IF(N1389=0,\"\",MAX(O$15:O1388)+1)","v":""},""]
[null,null,null,null,null,null,null,null,null,null,null,null,null,0,{"$f":"IF(N1390=0,\"\",MAX(O$15:O1389)+1)","v":""},""]
[null,null,null,null,null,null,null,null,null,null,null,null,null,0,{"$f":"IF(N1391=0,\"\",MAX(O$15:O1390)+1)","v":""},""]
[null,null,null,null,null,null,null,null,null,null,null,null,null,0,{"$f":"IF(N1392=0,\"\",MAX(O$15:O1391)+1)","v":""},""]
[null,null,null,null,null,null,null,null,null,null,null,null,null,0,{"$f":"IF(N1393=0,\"\",MAX(O$15:O1392)+1)","v":""},""]
[null,null,null,null,null,null,null,null,null,null,null,null,null,0,{"$f":"IF(N1394=0,\"\",MAX(O$15:O1393)+1)","v":""},""]
[null,null,null,null,null,null,null,null,null,null,null,null,null,0,{"$f":"IF(N1395=0,\"\",MAX(O$15:O1394)+1)","v":""},""]
[null,null,null,null,null,null,null,null,null,null,null,null,null,0,{"$f":"IF(N1396=0,\"\",MAX(O$15:O1395)+1)","v":""},""]
[null,null,null,null,null,null,null,null,null,null,null,null,null,0,{"$f":"IF(N1397=0,\"\",MAX(O$15:O1396)+1)","v":""},""]
[null,null,null,null,null,null,null,null,null,null,null,null,null,0,{"$f":"IF(N1398=0,\"\",MAX(O$15:O1397)+1)","v":""},""]
[null,null,null,null,null,null,null,null,null,null,null,null,null,0,{"$f":"IF(N1399=0,\"\",MAX(O$15:O1398)+1)","v":""},""]
[null,null,null,null,null,null,null,null,null,null,null,null,null,0,{"$f":"IF(N1400=0,\"\",MAX(O$15:O1399)+1)","v":""},""]
[null,null,null,null,null,null,null,null,null,null,null,null,null,0,{"$f":"IF(N1401=0,\"\",MAX(O$15:O1400)+1)","v":""},""]
[null,null,null,null,null,null,null,null,null,null,null,null,null,{"$f":"IFERROR(M1402*L1402/1000,\"\")","v":0},{"$f":"IF(N1402=0,\"\",MAX(O$15:O1401)+1)","v":""},""]
[null,null,null,null,null,null,null,null,null,null,null,null,null,0,{"$f":"IF(N1403=0,\"\",MAX(O$15:O1402)+1)","v":""},""]
[null,null,null,null,null,null,null,null,null,null,null,null,null,0,{"$f":"IF(N1404=0,\"\",MAX(O$15:O1403)+1)","v":""},""]
[null,null,null,null,null,null,null,null,null,null,null,null,null,0,{"$f":"IF(N1405=0,\"\",MAX(O$15:O1404)+1)","v":""},""]
[null,null,null,null,null,null,null,null,null,null,null,null,null,0,{"$f":"IF(N1406=0,\"\",MAX(O$15:O1405)+1)","v":""},""]
[null,null,null,null,null,null,null,null,null,null,null,null,null,0,{"$f":"IF(N1407=0,\"\",MAX(O$15:O1406)+1)","v":""},""]
[null,null,null,null,null,null,null,null,null,null,null,null,null,0,{"$f":"IF(N1408=0,\"\",MAX(O$15:O1407)+1)","v":""},""]
[null,null,null,null,null,null,null,null,null,null,null,null,null,0,{"$f":"IF(N1409=0,\"\",MAX(O$15:O1408)+1)","v":""},""]
[null,null,null,null,null,null,null,null,null,null,null,null,null,0,{"$f":"IF(N1410=0,\"\",MAX(O$15:O1409)+1)","v":""},""]
[null,null,null,null,null,null,null,null,null,null,null,null,null,0,{"$f":"IF(N1411=0,\"\",MAX(O$15:O1410)+1)","v":""},""]
[null,null,null,null,null,null,null,null,null,null,null,null,null,0,{"$f":"IF(N1412=0,\"\",MAX(O$15:O1411)+1)","v":""},""]
[null,null,null,null,null,null,null,null,null,null,null,null,null,0,{"$f":"IF(N1413=0,\"\",MAX(O$15:O1412)+1)","v":""},""]
[null,null,null,null,null,null,null,null,null,null,null,null,null,0,{"$f":"IF(N1414=0,\"\",MAX(O$15:O1413)+1)","v":""},""]
[null,null,null,null,null,null,null,null,null,null,null,null,null,0,{"$f":"IF(N1415=0,\"\",MAX(O$15:O1414)+1)","v":""},""]
[null,null,null,null,null,null,null,null,null,null,null,null,null,0,{"$f":"IF(N1416=0,\"\",MAX(O$15:O1415)+1)","v":""},""]
[null,null,null,null,null,null,null,null,null,null,null,null,null,0,{"$f":"IF(N1417=0,\"\",MAX(O$15:O1416)+1)","v":""},""]
[null,null,null,null,null,null,null,null,null,null,null,null,null,0,{"$f":"IF(N1418=0,\"\",MAX(O$15:O1417)+1)","v":""},""]
[null,null,null,null,null,null,null,null,null,null,null,null,null,0,{"$f":"IF(N1419=0,\"\",MAX(O$15:O1418)+1)","v":""},""]
[null,null,null,null,null,null,null,null,null,null,null,null,null,0,{"$f":"IF(N1420=0,\"\",MAX(O$15:O1419)+1)","v":""},""]
[null,null,null,null,null,null,null,null,null,null,null,null,null,0,{"$f":"IF(N1421=0,\"\",MAX(O$15:O1420)+1)","v":""},""]
[null,null,null,null,null,null,null,null,null,null,null,null,null,0,{"$f":"IF(N1422=0,\"\",MAX(O$15:O1421)+1)","v":""},""]
[null,null,null,null,null,null,null,null,null,null,null,null,null,0,{"$f":"IF(N1423=0,\"\",MAX(O$15:O1422)+1)","v":""},""]
[null,null,null,null,null,null,null,null,null,null,null,null,null,0,{"$f":"IF(N1424=0,\"\",MAX(O$15:O1423)+1)","v":""},{"$f":"IFERROR(INDEX($N$15:$N$5014,MATCH(ROW()-ROW($O$14),$O$15:$O$5014,0)),\"\")","v":""}]
[null,null,null,null,null,null,null,null,null,null,null,null,null,0,{"$f":"IF(N1425=0,\"\",MAX(O$15:O1424)+1)","v":""},""]
[null,null,null,null,null,null,null,null,null,null,null,null,null,0,{"$f":"IF(N1426=0,\"\",MAX(O$15:O1425)+1)","v":""},""]
[null,null,null,null,null,null,null,null,null,null,null,null,null,0,{"$f":"IF(N1427=0,\"\",MAX(O$15:O1426)+1)","v":""},""]
[null,null,null,null,null,null,null,null,null,null,null,null,null,0,{"$f":"IF(N1428=0,\"\",MAX(O$15:O1427)+1)","v":""},""]
[null,null,null,null,null,null,null,null,null,null,null,null,null,0,{"$f":"IF(N1429=0,\"\",MAX(O$15:O1428)+1)","v":""},""]
[null,null,null,null,null,null,null,null,null,null,null,null,null,0,{"$f":"IF(N1430=0,\"\",MAX(O$15:O1429)+1)","v":""},""]
[null,null,null,null,null,null,null,null,null,null,null,null,null,0,{"$f":"IF(N1431=0,\"\",MAX(O$15:O1430)+1)","v":""},""]
[null,null,null,null,null,null,null,null,null,null,null,null,null,0,{"$f":"IF(N1432=0,\"\",MAX(O$15:O1431)+1)","v":""},""]
[null,null,null,null,null,null,null,null,null,null,null,null,null,0,{"$f":"IF(N1433=0,\"\",MAX(O$15:O1432)+1)","v":""},""]
[null,null,null,null,null,null,null,null,null,null,null,null,null,0,{"$f":"IF(N1434=0,\"\",MAX(O$15:O1433)+1)","v":""},""]
[null,null,null,null,null,null,null,null,null,null,null,null,null,0,{"$f":"IF(N1435=0,\"\",MAX(O$15:O1434)+1)","v":""},""]
[null,null,null,null,null,null,null,null,null,null,null,null,null,0,{"$f":"IF(N1436=0,\"\",MAX(O$15:O1435)+1)","v":""},""]
[null,null,null,null,null,null,null,null,null,null,null,null,null,0,{"$f":"IF(N1437=0,\"\",MAX(O$15:O1436)+1)","v":""},""]
[null,null,null,null,null,null,null,null,null,null,null,null,null,0,{"$f":"IF(N1438=0,\"\",MAX(O$15:O1437)+1)","v":""},""]
[null,null,null,null,null,null,null,null,null,null,null,null,null,0,{"$f":"IF(N1439=0,\"\",MAX(O$15:O1438)+1)","v":""},""]
[null,null,null,null,null,null,null,null,null,null,null,null,null,0,{"$f":"IF(N1440=0,\"\",MAX(O$15:O1439)+1)","v":""},""]
[null,null,null,null,null,null,null,null,null,null,null,null,null,0,{"$f":"IF(N1441=0,\"\",MAX(O$15:O1440)+1)","v":""},""]
[null,null,null,null,null,null,null,null,null,null,null,null,null,0,{"$f":"IF(N1442=0,\"\",MAX(O$15:O1441)+1)","v":""},""]
[null,null,null,null,null,null,null,null,null,null,null,null,null,0,{"$f":"IF(N1443=0,\"\",MAX(O$15:O1442)+1)","v":""},""]
[null,null,null,null,null,null,null,null,null,null,null,null,null,0,{"$f":"IF(N1444=0,\"\",MAX(O$15:O1443)+1)","v":""},""]
[null,null,null,null,null,null,null,null,null,null,null,null,null,0,{"$f":"IF(N1445=0,\"\",MAX(O$15:O1444)+1)","v":""},""]
[null,null,null,null,null,null,null,null,null,null,null,null,null,0,{"$f":"IF(N1446=0,\"\",MAX(O$15:O1445)+1)","v":""},""]
[null,null,null,null,null,null,null,null,null,null,null,null,null,0,{"$f":"IF(N1447=0,\"\",MAX(O$15:O1446)+1)","v":""},""]
[null,null,null,null,null,null,null,null,null,null,null,null,null,0,{"$f":"IF(N1448=0,\"\",MAX(O$15:O1447)+1)","v":""},""]
[null,null,null,null,null,null,null,null,null,null,null,null,null,0,{"$f":"IF(N1449=0,\"\",MAX(O$15:O1448)+1)","v":""},""]
[null,null,null,null,null,null,null,null,null,null,null,null,null,0,{"$f":"IF(N1450=0,\"\",MAX(O$15:O1449)+1)","v":""},""]
[null,null,null,null,null,null,null,null,null,null,null,null,null,0,{"$f":"IF(N1451=0,\"\",MAX(O$15:O1450)+1)","v":""},""]
[null,null,null,null,null,null,null,null,null,null,null,null,null,0,{"$f":"IF(N1452=0,\"\",MAX(O$15:O1451)+1)","v":""},""]
[null,null,null,null,null,null,null,null,null,null,null,null,null,0,{"$f":"IF(N1453=0,\"\",MAX(O$15:O1452)+1)","v":""},""]
[null,null,null,null,null,null,null,null,null,null,null,null,null,0,{"$f":"IF(N1454=0,\"\",MAX(O$15:O1453)+1)","v":""},""]
[null,null,null,null,null,null,null,null,null,null,null,null,null,0,{"$f":"IF(N1455=0,\"\",MAX(O$15:O1454)+1)","v":""},""]
[null,null,null,null,null,null,null,null,null,null,null,null,null,0,{"$f":"IF(N1456=0,\"\",MAX(O$15:O1455)+1)","v":""},""]
[null,null,null,null,null,null,null,null,null,null,null,null,null,0,{"$f":"IF(N1457=0,\"\",MAX(O$15:O1456)+1)","v":""},""]
[null,null,null,null,null,null,null,null,null,null,null,null,null,0,{"$f":"IF(N1458=0,\"\",MAX(O$15:O1457)+1)","v":""},""]
[null,null,null,null,null,null,null,null,null,null,null,null,null,0,{"$f":"IF(N1459=0,\"\",MAX(O$15:O1458)+1)","v":""},""]
[null,null,null,null,null,null,null,null,null,null,null,null,null,0,{"$f":"IF(N1460=0,\"\",MAX(O$15:O1459)+1)","v":""},""]
[null,null,null,null,null,null,null,null,null,null,null,null,null,0,{"$f":"IF(N1461=0,\"\",MAX(O$15:O1460)+1)","v":""},""]
[null,null,null,null,null,null,null,null,null,null,null,null,null,0,{"$f":"IF(N1462=0,\"\",MAX(O$15:O1461)+1)","v":""},""]
[null,null,null,null,null,null,null,null,null,null,null,null,null,0,{"$f":"IF(N1463=0,\"\",MAX(O$15:O1462)+1)","v":""},""]
[null,null,null,null,null,null,null,null,null,null,null,null,null,0,{"$f":"IF(N1464=0,\"\",MAX(O$15:O1463)+1)","v":""},""]
[null,null,null,null,null,null,null,null,null,null,null,null,null,0,{"$f":"IF(N1465=0,\"\",MAX(O$15:O1464)+1)","v":""},""]
[null,null,null,null,null,null,null,null,null,null,null,null,null,{"$f":"IFERROR(M1466*L1466/1000,\"\")","v":0},{"$f":"IF(N1466=0,\"\",MAX(O$15:O1465)+1)","v":""},""]
[null,null,null,null,null,null,null,null,null,null,null,null,null,0,{"$f":"IF(N1467=0,\"\",MAX(O$15:O1466)+1)","v":""},""]
[null,null,null,null,null,null,null,null,null,null,null,null,null,0,{"$f":"IF(N1468=0,\"\",MAX(O$15:O1467)+1)","v":""},""]
[null,null,null,null,null,null,null,null,null,null,null,null,null,0,{"$f":"IF(N1469=0,\"\",MAX(O$15:O1468)+1)","v":""},""]
[null,null,null,null,null,null,null,null,null,null,null,null,null,0,{"$f":"IF(N1470=0,\"\",MAX(O$15:O1469)+1)","v":""},""]
[null,null,null,null,null,null,null,null,null,null,null,null,null,0,{"$f":"IF(N1471=0,\"\",MAX(O$15:O1470)+1)","v":""},""]
[null,null,null,null,null,null,null,null,null,null,null,null,null,0,{"$f":"IF(N1472=0,\"\",MAX(O$15:O1471)+1)","v":""},""]
[null,null,null,null,null,null,null,null,null,null,null,null,null,0,{"$f":"IF(N1473=0,\"\",MAX(O$15:O1472)+1)","v":""},""]
[null,null,null,null,null,null,null,null,null,null,null,null,null,0,{"$f":"IF(N1474=0,\"\",MAX(O$15:O1473)+1)","v":""},""]
[null,null,null,null,null,null,null,null,null,null,null,null,null,0,{"$f":"IF(N1475=0,\"\",MAX(O$15:O1474)+1)","v":""},""]
[null,null,null,null,null,null,null,null,null,null,null,null,null,0,{"$f":"IF(N1476=0,\"\",MAX(O$15:O1475)+1)","v":""},""]
[null,null,null,null,null,null,null,null,null,null,null,null,null,0,{"$f":"IF(N1477=0,\"\",MAX(O$15:O1476)+1)","v":""},""]
[null,null,null,null,null,null,null,null,null,null,null,null,null,0,{"$f":"IF(N1478=0,\"\",MAX(O$15:O1477)+1)","v":""},""]
[null,null,null,null,null,null,null,null,null,null,null,null,null,0,{"$f":"IF(N1479=0,\"\",MAX(O$15:O1478)+1)","v":""},""]
[null,null,null,null,null,null,null,null,null,null,null,null,null,0,{"$f":"IF(N1480=0,\"\",MAX(O$15:O1479)+1)","v":""},""]
[null,null,null,null,null,null,null,null,null,null,null,null,null,0,{"$f":"IF(N1481=0,\"\",MAX(O$15:O1480)+1)","v":""},""]
[null,null,null,null,null,null,null,null,null,null,null,null,null,0,{"$f":"IF(N1482=0,\"\",MAX(O$15:O1481)+1)","v":""},""]
[null,null,null,null,null,null,null,null,null,null,null,null,null,0,{"$f":"IF(N1483=0,\"\",MAX(O$15:O1482)+1)","v":""},""]
[null,null,null,null,null,null,null,null,null,null,null,null,null,0,{"$f":"IF(N1484=0,\"\",MAX(O$15:O1483)+1)","v":""},""]
[null,null,null,null,null,null,null,null,null,null,null,null,null,0,{"$f":"IF(N1485=0,\"\",MAX(O$15:O1484)+1)","v":""},""]
[null,null,null,null,null,null,null,null,null,null,null,null,null,0,{"$f":"IF(N1486=0,\"\",MAX(O$15:O1485)+1)","v":""},""]
[null,null,null,null,null,null,null,null,null,null,null,null,null,0,{"$f":"IF(N1487=0,\"\",MAX(O$15:O1486)+1)","v":""},""]
[null,null,null,null,null,null,null,null,null,null,null,null,null,0,{"$f":"IF(N1488=0,\"\",MAX(O$15:O1487)+1)","v":""},{"$f":"IFERROR(INDEX($N$15:$N$5014,MATCH(ROW()-ROW($O$14),$O$15:$O$5014,0)),\"\")","v":""}]
[null,null,null,null,null,null,null,null,null,null,null,null,null,0,{"$f":"IF(N1489=0,\"\",MAX(O$15:O1488)+1)","v":""},""]
[null,null,null,null,null,null,null,null,null,null,null,null,null,0,{"$f":"IF(N1490=0,\"\",MAX(O$15:O1489)+1)","v":""},""]
[null,null,null,null,null,null,null,null,null,null,null,null,null,0,{"$f":"IF(N1491=0,\"\",MAX(O$15:O1490)+1)","v":""},""]
[null,null,null,null,null,null,null,null,null,null,null,null,null,0,{"$f":"IF(N1492=0,\"\",MAX(O$15:O1491)+1)","v":""},""]
[null,null,null,null,null,null,null,null,null,null,null,null,null,0,{"$f":"IF(N1493=0,\"\",MAX(O$15:O1492)+1)","v":""},""]
[null,null,null,null,null,null,null,null,null,null,null,null,null,0,{"$f":"IF(N1494=0,\"\",MAX(O$15:O1493)+1)","v":""},""]
[null,null,null,null,null,null,null,null,null,null,null,null,null,0,{"$f":"IF(N1495=0,\"\",MAX(O$15:O1494)+1)","v":""},""]
[null,null,null,null,null,null,null,null,null,null,null,null,null,0,{"$f":"IF(N1496=0,\"\",MAX(O$15:O1495)+1)","v":""},""]
[null,null,null,null,null,null,null,null,null,null,null,null,null,0,{"$f":"IF(N1497=0,\"\",MAX(O$15:O1496)+1)","v":""},""]
[null,null,null,null,null,null,null,null,null,null,null,null,null,0,{"$f":"IF(N1498=0,\"\",MAX(O$15:O1497)+1)","v":""},""]
[null,null,null,null,null,null,null,null,null,null,null,null,null,0,{"$f":"IF(N1499=0,\"\",MAX(O$15:O1498)+1)","v":""},""]
[null,null,null,null,null,null,null,null,null,null,null,null,null,0,{"$f":"IF(N1500=0,\"\",MAX(O$15:O1499)+1)","v":""},""]
[null,null,null,null,null,null,null,null,null,null,null,null,null,0,{"$f":"IF(N1501=0,\"\",MAX(O$15:O1500)+1)","v":""},""]
[null,null,null,null,null,null,null,null,null,null,null,null,null,0,{"$f":"IF(N1502=0,\"\",MAX(O$15:O1501)+1)","v":""},""]
[null,null,null,null,null,null,null,null,null,null,null,null,null,0,{"$f":"IF(N1503=0,\"\",MAX(O$15:O1502)+1)","v":""},""]
[null,null,null,null,null,null,null,null,null,null,null,null,null,0,{"$f":"IF(N1504=0,\"\",MAX(O$15:O1503)+1)","v":""},""]
[null,null,null,null,null,null,null,null,null,null,null,null,null,0,{"$f":"IF(N1505=0,\"\",MAX(O$15:O1504)+1)","v":""},""]
[null,null,null,null,null,null,null,null,null,null,null,null,null,0,{"$f":"IF(N1506=0,\"\",MAX(O$15:O1505)+1)","v":""},""]
[null,null,null,null,null,null,null,null,null,null,null,null,null,0,{"$f":"IF(N1507=0,\"\",MAX(O$15:O1506)+1)","v":""},""]
[null,null,null,null,null,null,null,null,null,null,null,null,null,0,{"$f":"IF(N1508=0,\"\",MAX(O$15:O1507)+1)","v":""},""]
[null,null,null,null,null,null,null,null,null,null,null,null,null,0,{"$f":"IF(N1509=0,\"\",MAX(O$15:O1508)+1)","v":""},""]
[null,null,null,null,null,null,null,null,null,null,null,null,null,0,{"$f":"IF(N1510=0,\"\",MAX(O$15:O1509)+1)","v":""},""]
[null,null,null,null,null,null,null,null,null,null,null,null,null,0,{"$f":"IF(N1511=0,\"\",MAX(O$15:O1510)+1)","v":""},""]
[null,null,null,null,null,null,null,null,null,null,null,null,null,0,{"$f":"IF(N1512=0,\"\",MAX(O$15:O1511)+1)","v":""},""]
[null,null,null,null,null,null,null,null,null,null,null,null,null,0,{"$f":"IF(N1513=0,\"\",MAX(O$15:O1512)+1)","v":""},""]
[null,null,null,null,null,null,null,null,null,null,null,null,null,0,{"$f":"IF(N1514=0,\"\",MAX(O$15:O1513)+1)","v":""},""]
[null,null,null,null,null,null,null,null,null,null,null,null,null,0,{"$f":"IF(N1515=0,\"\",MAX(O$15:O1514)+1)","v":""},""]
[null,null,null,null,null,null,null,null,null,null,null,null,null,0,{"$f":"IF(N1516=0,\"\",MAX(O$15:O1515)+1)","v":""},""]
[null,null,null,null,null,null,null,null,null,null,null,null,null,0,{"$f":"IF(N1517=0,\"\",MAX(O$15:O1516)+1)","v":""},""]
[null,null,null,null,null,null,null,null,null,null,null,null,null,0,{"$f":"IF(N1518=0,\"\",MAX(O$15:O1517)+1)","v":""},""]
[null,null,null,null,null,null,null,null,null,null,null,null,null,0,{"$f":"IF(N1519=0,\"\",MAX(O$15:O1518)+1)","v":""},""]
[null,null,null,null,null,null,null,null,null,null,null,null,null,0,{"$f":"IF(N1520=0,\"\",MAX(O$15:O1519)+1)","v":""},""]
[null,null,null,null,null,null,null,null,null,null,null,null,null,0,{"$f":"IF(N1521=0,\"\",MAX(O$15:O1520)+1)","v":""},""]
[null,null,null,null,null,null,null,null,null,null,null,null,null,0,{"$f":"IF(N1522=0,\"\",MAX(O$15:O1521)+1)","v":""},""]
[null,null,null,null,null,null,null,null,null,null,null,null,null,0,{"$f":"IF(N1523=0,\"\",MAX(O$15:O1522)+1)","v":""},""]
[null,null,null,null,null,null,null,null,null,null,null,null,null,0,{"$f":"IF(N1524=0,\"\",MAX(O$15:O1523)+1)","v":""},""]
[null,null,null,null,null,null,null,null,null,null,null,null,null,0,{"$f":"IF(N1525=0,\"\",MAX(O$15:O1524)+1)","v":""},""]
[null,null,null,null,null,null,null,null,null,null,null,null,null,0,{"$f":"IF(N1526=0,\"\",MAX(O$15:O1525)+1)","v":""},""]
[null,null,null,null,null,null,null,null,null,null,null,null,null,0,{"$f":"IF(N1527=0,\"\",MAX(O$15:O1526)+1)","v":""},""]
[null,null,null,null,null,null,null,null,null,null,null,null,null,0,{"$f":"IF(N1528=0,\"\",MAX(O$15:O1527)+1)","v":""},""]
[null,null,null,null,null,null,null,null,null,null,null,null,null,0,{"$f":"IF(N1529=0,\"\",MAX(O$15:O1528)+1)","v":""},""]
[null,null,null,null,null,null,null,null,null,null,null,null,null,{"$f":"IFERROR(M1530*L1530/1000,\"\")","v":0},{"$f":"IF(N1530=0,\"\",MAX(O$15:O1529)+1)","v":""},""]
[null,null,null,null,null,null,null,null,null,null,null,null,null,0,{"$f":"IF(N1531=0,\"\",MAX(O$15:O1530)+1)","v":""},""]
[null,null,null,null,null,null,null,null,null,null,null,null,null,0,{"$f":"IF(N1532=0,\"\",MAX(O$15:O1531)+1)","v":""},""]
[null,null,null,null,null,null,null,null,null,null,null,null,null,0,{"$f":"IF(N1533=0,\"\",MAX(O$15:O1532)+1)","v":""},""]
[null,null,null,null,null,null,null,null,null,null,null,null,null,0,{"$f":"IF(N1534=0,\"\",MAX(O$15:O1533)+1)","v":""},""]
[null,null,null,null,null,null,null,null,null,null,null,null,null,0,{"$f":"IF(N1535=0,\"\",MAX(O$15:O1534)+1)","v":""},""]
[null,null,null,null,null,null,null,null,null,null,null,null,null,0,{"$f":"IF(N1536=0,\"\",MAX(O$15:O1535)+1)","v":""},""]
[null,null,null,null,null,null,null,null,null,null,null,null,null,0,{"$f":"IF(N1537=0,\"\",MAX(O$15:O1536)+1)","v":""},""]
[null,null,null,null,null,null,null,null,null,null,null,null,null,0,{"$f":"IF(N1538=0,\"\",MAX(O$15:O1537)+1)","v":""},""]
[null,null,null,null,null,null,null,null,null,null,null,null,null,0,{"$f":"IF(N1539=0,\"\",MAX(O$15:O1538)+1)","v":""},""]
[null,null,null,null,null,null,null,null,null,null,null,null,null,0,{"$f":"IF(N1540=0,\"\",MAX(O$15:O1539)+1)","v":""},""]
[null,null,null,null,null,null,null,null,null,null,null,null,null,0,{"$f":"IF(N1541=0,\"\",MAX(O$15:O1540)+1)","v":""},""]
[null,null,null,null,null,null,null,null,null,null,null,null,null,0,{"$f":"IF(N1542=0,\"\",MAX(O$15:O1541)+1)","v":""},""]
[null,null,null,null,null,null,null,null,null,null,null,null,null,0,{"$f":"IF(N1543=0,\"\",MAX(O$15:O1542)+1)","v":""},""]
[null,null,null,null,null,null,null,null,null,null,null,null,null,0,{"$f":"IF(N1544=0,\"\",MAX(O$15:O1543)+1)","v":""},""]
[null,null,null,null,null,null,null,null,null,null,null,null,null,0,{"$f":"IF(N1545=0,\"\",MAX(O$15:O1544)+1)","v":""},""]
[null,null,null,null,null,null,null,null,null,null,null,null,null,0,{"$f":"IF(N1546=0,\"\",MAX(O$15:O1545)+1)","v":""},""]
[null,null,null,null,null,null,null,null,null,null,null,null,null,0,{"$f":"IF(N1547=0,\"\",MAX(O$15:O1546)+1)","v":""},""]
[null,null,null,null,null,null,null,null,null,null,null,null,null,0,{"$f":"IF(N1548=0,\"\",MAX(O$15:O1547)+1)","v":""},""]
[null,null,null,null,null,null,null,null,null,null,null,null,null,0,{"$f":"IF(N1549=0,\"\",MAX(O$15:O1548)+1)","v":""},""]
[null,null,null,null,null,null,null,null,null,null,null,null,null,0,{"$f":"IF(N1550=0,\"\",MAX(O$15:O1549)+1)","v":""},""]
[null,null,null,null,null,null,null,null,null,null,null,null,null,0,{"$f":"IF(N1551=0,\"\",MAX(O$15:O1550)+1)","v":""},""]
[null,null,null,null,null,null,null,null,null,null,null,null,null,0,{"$f":"IF(N1552=0,\"\",MAX(O$15:O1551)+1)","v":""},{"$f":"IFERROR(INDEX($N$15:$N$5014,MATCH(ROW()-ROW($O$14),$O$15:$O$5014,0)),\"\")","v":""}]
[null,null,null,null,null,null,null,null,null,null,null,null,null,0,{"$f":"IF(N1553=0,\"\",MAX(O$15:O1552)+1)","v":""},""]
[null,null,null,null,null,null,null,null,null,null,null,null,null,0,{"$f":"IF(N1554=0,\"\",MAX(O$15:O1553)+1)","v":""},""]
[null,null,null,null,null,null,null,null,null,null,null,null,null,0,{"$f":"IF(N1555=0,\"\",MAX(O$15:O1554)+1)","v":""},""]
[null,null,null,null,null,null,null,null,null,null,null,null,null,0,{"$f":"IF(N1556=0,\"\",MAX(O$15:O1555)+1)","v":""},""]
[null,null,null,null,null,null,null,null,null,null,null,null,null,0,{"$f":"IF(N1557=0,\"\",MAX(O$15:O1556)+1)","v":""},""]
[null,null,null,null,null,null,null,null,null,null,null,null,null,0,{"$f":"IF(N1558=0,\"\",MAX(O$15:O1557)+1)","v":""},""]
[null,null,null,null,null,null,null,null,null,null,null,null,null,0,{"$f":"IF(N1559=0,\"\",MAX(O$15:O1558)+1)","v":""},""]
[null,null,null,null,null,null,null,null,null,null,null,null,null,0,{"$f":"IF(N1560=0,\"\",MAX(O$15:O1559)+1)","v":""},""]
[null,null,null,null,null,null,null,null,null,null,null,null,null,0,{"$f":"IF(N1561=0,\"\",MAX(O$15:O1560)+1)","v":""},""]
[null,null,null,null,null,null,null,null,null,null,null,null,null,0,{"$f":"IF(N1562=0,\"\",MAX(O$15:O1561)+1)","v":""},""]
[null,null,null,null,null,null,null,null,null,null,null,null,null,0,{"$f":"IF(N1563=0,\"\",MAX(O$15:O1562)+1)","v":""},""]
[null,null,null,null,null,null,null,null,null,null,null,null,null,0,{"$f":"IF(N1564=0,\"\",MAX(O$15:O1563)+1)","v":""},""]
[null,null,null,null,null,null,null,null,null,null,null,null,null,0,{"$f":"IF(N1565=0,\"\",MAX(O$15:O1564)+1)","v":""},""]
[null,null,null,null,null,null,null,null,null,null,null,null,null,0,{"$f":"IF(N1566=0,\"\",MAX(O$15:O1565)+1)","v":""},""]
[null,null,null,null,null,null,null,null,null,null,null,null,null,0,{"$f":"IF(N1567=0,\"\",MAX(O$15:O1566)+1)","v":""},""]
[null,null,null,null,null,null,null,null,null,null,null,null,null,0,{"$f":"IF(N1568=0,\"\",MAX(O$15:O1567)+1)","v":""},""]
[null,null,null,null,null,null,null,null,null,null,null,null,null,0,{"$f":"IF(N1569=0,\"\",MAX(O$15:O1568)+1)","v":""},""]
[null,null,null,null,null,null,null,null,null,null,null,null,null,0,{"$f":"IF(N1570=0,\"\",MAX(O$15:O1569)+1)","v":""},""]
[null,null,null,null,null,null,null,null,null,null,null,null,null,0,{"$f":"IF(N1571=0,\"\",MAX(O$15:O1570)+1)","v":""},""]
[null,null,null,null,null,null,null,null,null,null,null,null,null,0,{"$f":"IF(N1572=0,\"\",MAX(O$15:O1571)+1)","v":""},""]
[null,null,null,null,null,null,null,null,null,null,null,null,null,0,{"$f":"IF(N1573=0,\"\",MAX(O$15:O1572)+1)","v":""},""]
[null,null,null,null,null,null,null,null,null,null,null,null,null,0,{"$f":"IF(N1574=0,\"\",MAX(O$15:O1573)+1)","v":""},""]
[null,null,null,null,null,null,null,null,null,null,null,null,null,0,{"$f":"IF(N1575=0,\"\",MAX(O$15:O1574)+1)","v":""},""]
[null,null,null,null,null,null,null,null,null,null,null,null,null,0,{"$f":"IF(N1576=0,\"\",MAX(O$15:O1575)+1)","v":""},""]
[null,null,null,null,null,null,null,null,null,null,null,null,null,0,{"$f":"IF(N1577=0,\"\",MAX(O$15:O1576)+1)","v":""},""]
[null,null,null,null,null,null,null,null,null,null,null,null,null,0,{"$f":"IF(N1578=0,\"\",MAX(O$15:O1577)+1)","v":""},""]
[null,null,null,null,null,null,null,null,null,null,null,null,null,0,{"$f":"IF(N1579=0,\"\",MAX(O$15:O1578)+1)","v":""},""]
[null,null,null,null,null,null,null,null,null,null,null,null,null,0,{"$f":"IF(N1580=0,\"\",MAX(O$15:O1579)+1)","v":""},""]
[null,null,null,null,null,null,null,null,null,null,null,null,null,0,{"$f":"IF(N1581=0,\"\",MAX(O$15:O1580)+1)","v":""},""]
[null,null,null,null,null,null,null,null,null,null,null,null,null,0,{"$f":"IF(N1582=0,\"\",MAX(O$15:O1581)+1)","v":""},""]
[null,null,null,null,null,null,null,null,null,null,null,null,null,0,{"$f":"IF(N1583=0,\"\",MAX(O$15:O1582)+1)","v":""},""]
[null,null,null,null,null,null,null,null,null,null,null,null,null,0,{"$f":"IF(N1584=0,\"\",MAX(O$15:O1583)+1)","v":""},""]
[null,null,null,null,null,null,null,null,null,null,null,null,null,0,{"$f":"IF(N1585=0,\"\",MAX(O$15:O1584)+1)","v":""},""]
[null,null,null,null,null,null,null,null,null,null,null,null,null,0,{"$f":"IF(N1586=0,\"\",MAX(O$15:O1585)+1)","v":""},""]
[null,null,null,null,null,null,null,null,null,null,null,null,null,0,{"$f":"IF(N1587=0,\"\",MAX(O$15:O1586)+1)","v":""},""]
[null,null,null,null,null,null,null,null,null,null,null,null,null,0,{"$f":"IF(N1588=0,\"\",MAX(O$15:O1587)+1)","v":""},""]
[null,null,null,null,null,null,null,null,null,null,null,null,null,0,{"$f":"IF(N1589=0,\"\",MAX(O$15:O1588)+1)","v":""},""]
[null,null,null,null,null,null,null,null,null,null,null,null,null,0,{"$f":"IF(N1590=0,\"\",MAX(O$15:O1589)+1)","v":""},""]
[null,null,null,null,null,null,null,null,null,null,null,null,null,0,{"$f":"IF(N1591=0,\"\",MAX(O$15:O1590)+1)","v":""},""]
[null,null,null,null,null,null,null,null,null,null,null,null,null,0,{"$f":"IF(N1592=0,\"\",MAX(O$15:O1591)+1)","v":""},""]
[null,null,null,null,null,null,null,null,null,null,null,null,null,0,{"$f":"IF(N1593=0,\"\",MAX(O$15:O1592)+1)","v":""},""]
[null,null,null,null,null,null,null,null,null,null,null,null,null,{"$f":"IFERROR(M1594*L1594/1000,\"\")","v":0},{"$f":"IF(N1594=0,\"\",MAX(O$15:O1593)+1)","v":""},""]
[null,null,null,null,null,null,null,null,null,null,null,null,null,0,{"$f":"IF(N1595=0,\"\",MAX(O$15:O1594)+1)","v":""},""]
[null,null,null,null,null,null,null,null,null,null,null,null,null,0,{"$f":"IF(N1596=0,\"\",MAX(O$15:O1595)+1)","v":""},""]
[null,null,null,null,null,null,null,null,null,null,null,null,null,0,{"$f":"IF(N1597=0,\"\",MAX(O$15:O1596)+1)","v":""},""]
[null,null,null,null,null,null,null,null,null,null,null,null,null,0,{"$f":"IF(N1598=0,\"\",MAX(O$15:O1597)+1)","v":""},""]
[null,null,null,null,null,null,null,null,null,null,null,null,null,0,{"$f":"IF(N1599=0,\"\",MAX(O$15:O1598)+1)","v":""},""]
[null,null,null,null,null,null,null,null,null,null,null,null,null,0,{"$f":"IF(N1600=0,\"\",MAX(O$15:O1599)+1)","v":""},""]
[null,null,null,null,null,null,null,null,null,null,null,null,null,0,{"$f":"IF(N1601=0,\"\",MAX(O$15:O1600)+1)","v":""},""]
[null,null,null,null,null,null,null,null,null,null,null,null,null,0,{"$f":"IF(N1602=0,\"\",MAX(O$15:O1601)+1)","v":""},""]
[null,null,null,null,null,null,null,null,null,null,null,null,null,0,{"$f":"IF(N1603=0,\"\",MAX(O$15:O1602)+1)","v":""},""]
[null,null,null,null,null,null,null,null,null,null,null,null,null,0,{"$f":"IF(N1604=0,\"\",MAX(O$15:O1603)+1)","v":""},""]
[null,null,null,null,null,null,null,null,null,null,null,null,null,0,{"$f":"IF(N1605=0,\"\",MAX(O$15:O1604)+1)","v":""},""]
[null,null,null,null,null,null,null,null,null,null,null,null,null,0,{"$f":"IF(N1606=0,\"\",MAX(O$15:O1605)+1)","v":""},""]
[null,null,null,null,null,null,null,null,null,null,null,null,null,0,{"$f":"IF(N1607=0,\"\",MAX(O$15:O1606)+1)","v":""},""]
[null,null,null,null,null,null,null,null,null,null,null,null,null,0,{"$f":"IF(N1608=0,\"\",MAX(O$15:O1607)+1)","v":""},""]
[null,null,null,null,null,null,null,null,null,null,null,null,null,0,{"$f":"IF(N1609=0,\"\",MAX(O$15:O1608)+1)","v":""},""]
[null,null,null,null,null,null,null,null,null,null,null,null,null,0,{"$f":"IF(N1610=0,\"\",MAX(O$15:O1609)+1)","v":""},""]
[null,null,null,null,null,null,null,null,null,null,null,null,null,0,{"$f":"IF(N1611=0,\"\",MAX(O$15:O1610)+1)","v":""},""]
[null,null,null,null,null,null,null,null,null,null,null,null,null,0,{"$f":"IF(N1612=0,\"\",MAX(O$15:O1611)+1)","v":""},""]
[null,null,null,null,null,null,null,null,null,null,null,null,null,0,{"$f":"IF(N1613=0,\"\",MAX(O$15:O1612)+1)","v":""},""]
[null,null,null,null,null,null,null,null,null,null,null,null,null,0,{"$f":"IF(N1614=0,\"\",MAX(O$15:O1613)+1)","v":""},""]
[null,null,null,null,null,null,null,null,null,null,null,null,null,0,{"$f":"IF(N1615=0,\"\",MAX(O$15:O1614)+1)","v":""},""]
[null,null,null,null,null,null,null,null,null,null,null,null,null,0,{"$f":"IF(N1616=0,\"\",MAX(O$15:O1615)+1)","v":""},{"$f":"IFERROR(INDEX($N$15:$N$5014,MATCH(ROW()-ROW($O$14),$O$15:$O$5014,0)),\"\")","v":""}]
[null,null,null,null,null,null,null,null,null,null,null,null,null,0,{"$f":"IF(N1617=0,\"\",MAX(O$15:O1616)+1)","v":""},""]
[null,null,null,null,null,null,null,null,null,null,null,null,null,0,{"$f":"IF(N1618=0,\"\",MAX(O$15:O1617)+1)","v":""},""]
[null,null,null,null,null,null,null,null,null,null,null,null,null,0,{"$f":"IF(N1619=0,\"\",MAX(O$15:O1618)+1)","v":""},""]
[null,null,null,null,null,null,null,null,null,null,null,null,null,0,{"$f":"IF(N1620=0,\"\",MAX(O$15:O1619)+1)","v":""},""]
[null,null,null,null,null,null,null,null,null,null,null,null,null,0,{"$f":"IF(N1621=0,\"\",MAX(O$15:O1620)+1)","v":""},""]
[null,null,null,null,null,null,null,null,null,null,null,null,null,0,{"$f":"IF(N1622=0,\"\",MAX(O$15:O1621)+1)","v":""},""]
[null,null,null,null,null,null,null,null,null,null,null,null,null,0,{"$f":"IF(N1623=0,\"\",MAX(O$15:O1622)+1)","v":""},""]
[null,null,null,null,null,null,null,null,null,null,null,null,null,0,{"$f":"IF(N1624=0,\"\",MAX(O$15:O1623)+1)","v":""},""]
[null,null,null,null,null,null,null,null,null,null,null,null,null,0,{"$f":"IF(N1625=0,\"\",MAX(O$15:O1624)+1)","v":""},""]
[null,null,null,null,null,null,null,null,null,null,null,null,null,0,{"$f":"IF(N1626=0,\"\",MAX(O$15:O1625)+1)","v":""},""]
[null,null,null,null,null,null,null,null,null,null,null,null,null,0,{"$f":"IF(N1627=0,\"\",MAX(O$15:O1626)+1)","v":""},""]
[null,null,null,null,null,null,null,null,null,null,null,null,null,0,{"$f":"IF(N1628=0,\"\",MAX(O$15:O1627)+1)","v":""},""]
[null,null,null,null,null,null,null,null,null,null,null,null,null,0,{"$f":"IF(N1629=0,\"\",MAX(O$15:O1628)+1)","v":""},""]
[null,null,null,null,null,null,null,null,null,null,null,null,null,0,{"$f":"IF(N1630=0,\"\",MAX(O$15:O1629)+1)","v":""},""]
[null,null,null,null,null,null,null,null,null,null,null,null,null,0,{"$f":"IF(N1631=0,\"\",MAX(O$15:O1630)+1)","v":""},""]
[null,null,null,null,null,null,null,null,null,null,null,null,null,0,{"$f":"IF(N1632=0,\"\",MAX(O$15:O1631)+1)","v":""},""]
[null,null,null,null,null,null,null,null,null,null,null,null,null,0,{"$f":"IF(N1633=0,\"\",MAX(O$15:O1632)+1)","v":""},""]
[null,null,null,null,null,null,null,null,null,null,null,null,null,0,{"$f":"IF(N1634=0,\"\",MAX(O$15:O1633)+1)","v":""},""]
[null,null,null,null,null,null,null,null,null,null,null,null,null,0,{"$f":"IF(N1635=0,\"\",MAX(O$15:O1634)+1)","v":""},""]
[null,null,null,null,null,null,null,null,null,null,null,null,null,0,{"$f":"IF(N1636=0,\"\",MAX(O$15:O1635)+1)","v":""},""]
[null,null,null,null,null,null,null,null,null,null,null,null,null,0,{"$f":"IF(N1637=0,\"\",MAX(O$15:O1636)+1)","v":""},""]
[null,null,null,null,null,null,null,null,null,null,null,null,null,0,{"$f":"IF(N1638=0,\"\",MAX(O$15:O1637)+1)","v":""},""]
[null,null,null,null,null,null,null,null,null,null,null,null,null,0,{"$f":"IF(N1639=0,\"\",MAX(O$15:O1638)+1)","v":""},""]
[null,null,null,null,null,null,null,null,null,null,null,null,null,0,{"$f":"IF(N1640=0,\"\",MAX(O$15:O1639)+1)","v":""},""]
[null,null,null,null,null,null,null,null,null,null,null,null,null,0,{"$f":"IF(N1641=0,\"\",MAX(O$15:O1640)+1)","v":""},""]
[null,null,null,null,null,null,null,null,null,null,null,null,null,0,{"$f":"IF(N1642=0,\"\",MAX(O$15:O1641)+1)","v":""},""]
[null,null,null,null,null,null,null,null,null,null,null,null,null,0,{"$f":"IF(N1643=0,\"\",MAX(O$15:O1642)+1)","v":""},""]
[null,null,null,null,null,null,null,null,null,null,null,null,null,0,{"$f":"IF(N1644=0,\"\",MAX(O$15:O1643)+1)","v":""},""]
[null,null,null,null,null,null,null,null,null,null,null,null,null,0,{"$f":"IF(N1645=0,\"\",MAX(O$15:O1644)+1)","v":""},""]
[null,null,null,null,null,null,null,null,null,null,null,null,null,0,{"$f":"IF(N1646=0,\"\",MAX(O$15:O1645)+1)","v":""},""]
[null,null,null,null,null,null,null,null,null,null,null,null,null,0,{"$f":"IF(N1647=0,\"\",MAX(O$15:O1646)+1)","v":""},""]
[null,null,null,null,null,null,null,null,null,null,null,null,null,0,{"$f":"IF(N1648=0,\"\",MAX(O$15:O1647)+1)","v":""},""]
[null,null,null,null,null,null,null,null,null,null,null,null,null,0,{"$f":"IF(N1649=0,\"\",MAX(O$15:O1648)+1)","v":""},""]
[null,null,null,null,null,null,null,null,null,null,null,null,null,0,{"$f":"IF(N1650=0,\"\",MAX(O$15:O1649)+1)","v":""},""]
[null,null,null,null,null,null,null,null,null,null,null,null,null,0,{"$f":"IF(N1651=0,\"\",MAX(O$15:O1650)+1)","v":""},""]
[null,null,null,null,null,null,null,null,null,null,null,null,null,0,{"$f":"IF(N1652=0,\"\",MAX(O$15:O1651)+1)","v":""},""]
[null,null,null,null,null,null,null,null,null,null,null,null,null,0,{"$f":"IF(N1653=0,\"\",MAX(O$15:O1652)+1)","v":""},""]
[null,null,null,null,null,null,null,null,null,null,null,null,null,0,{"$f":"IF(N1654=0,\"\",MAX(O$15:O1653)+1)","v":""},""]
[null,null,null,null,null,null,null,null,null,null,null,null,null,0,{"$f":"IF(N1655=0,\"\",MAX(O$15:O1654)+1)","v":""},""]
[null,null,null,null,null,null,null,null,null,null,null,null,null,0,{"$f":"IF(N1656=0,\"\",MAX(O$15:O1655)+1)","v":""},""]
[null,null,null,null,null,null,null,null,null,null,null,null,null,0,{"$f":"IF(N1657=0,\"\",MAX(O$15:O1656)+1)","v":""},""]
[null,null,null,null,null,null,null,null,null,null,null,null,null,{"$f":"IFERROR(M1658*L1658/1000,\"\")","v":0},{"$f":"IF(N1658=0,\"\",MAX(O$15:O1657)+1)","v":""},""]
[null,null,null,null,null,null,null,null,null,null,null,null,null,0,{"$f":"IF(N1659=0,\"\",MAX(O$15:O1658)+1)","v":""},""]
[null,null,null,null,null,null,null,null,null,null,null,null,null,0,{"$f":"IF(N1660=0,\"\",MAX(O$15:O1659)+1)","v":""},""]
[null,null,null,null,null,null,null,null,null,null,null,null,null,0,{"$f":"IF(N1661=0,\"\",MAX(O$15:O1660)+1)","v":""},""]
[null,null,null,null,null,null,null,null,null,null,null,null,null,0,{"$f":"IF(N1662=0,\"\",MAX(O$15:O1661)+1)","v":""},""]
[null,null,null,null,null,null,null,null,null,null,null,null,null,0,{"$f":"IF(N1663=0,\"\",MAX(O$15:O1662)+1)","v":""},""]
[null,null,null,null,null,null,null,null,null,null,null,null,null,0,{"$f":"IF(N1664=0,\"\",MAX(O$15:O1663)+1)","v":""},""]
[null,null,null,null,null,null,null,null,null,null,null,null,null,0,{"$f":"IF(N1665=0,\"\",MAX(O$15:O1664)+1)","v":""},""]
[null,null,null,null,null,null,null,null,null,null,null,null,null,0,{"$f":"IF(N1666=0,\"\",MAX(O$15:O1665)+1)","v":""},""]
[null,null,null,null,null,null,null,null,null,null,null,null,null,0,{"$f":"IF(N1667=0,\"\",MAX(O$15:O1666)+1)","v":""},""]
[null,null,null,null,null,null,null,null,null,null,null,null,null,0,{"$f":"IF(N1668=0,\"\",MAX(O$15:O1667)+1)","v":""},""]
[null,null,null,null,null,null,null,null,null,null,null,null,null,0,{"$f":"IF(N1669=0,\"\",MAX(O$15:O1668)+1)","v":""},""]
[null,null,null,null,null,null,null,null,null,null,null,null,null,0,{"$f":"IF(N1670=0,\"\",MAX(O$15:O1669)+1)","v":""},""]
[null,null,null,null,null,null,null,null,null,null,null,null,null,0,{"$f":"IF(N1671=0,\"\",MAX(O$15:O1670)+1)","v":""},""]
[null,null,null,null,null,null,null,null,null,null,null,null,null,0,{"$f":"IF(N1672=0,\"\",MAX(O$15:O1671)+1)","v":""},""]
[null,null,null,null,null,null,null,null,null,null,null,null,null,0,{"$f":"IF(N1673=0,\"\",MAX(O$15:O1672)+1)","v":""},""]
[null,null,null,null,null,null,null,null,null,null,null,null,null,0,{"$f":"IF(N1674=0,\"\",MAX(O$15:O1673)+1)","v":""},""]
[null,null,null,null,null,null,null,null,null,null,null,null,null,0,{"$f":"IF(N1675=0,\"\",MAX(O$15:O1674)+1)","v":""},""]
[null,null,null,null,null,null,null,null,null,null,null,null,null,0,{"$f":"IF(N1676=0,\"\",MAX(O$15:O1675)+1)","v":""},""]
[null,null,null,null,null,null,null,null,null,null,null,null,null,0,{"$f":"IF(N1677=0,\"\",MAX(O$15:O1676)+1)","v":""},""]
[null,null,null,null,null,null,null,null,null,null,null,null,null,0,{"$f":"IF(N1678=0,\"\",MAX(O$15:O1677)+1)","v":""},""]
[null,null,null,null,null,null,null,null,null,null,null,null,null,0,{"$f":"IF(N1679=0,\"\",MAX(O$15:O1678)+1)","v":""},""]
[null,null,null,null,null,null,null,null,null,null,null,null,null,0,{"$f":"IF(N1680=0,\"\",MAX(O$15:O1679)+1)","v":""},{"$f":"IFERROR(INDEX($N$15:$N$5014,MATCH(ROW()-ROW($O$14),$O$15:$O$5014,0)),\"\")","v":""}]
[null,null,null,null,null,null,null,null,null,null,null,null,null,0,{"$f":"IF(N1681=0,\"\",MAX(O$15:O1680)+1)","v":""},""]
[null,null,null,null,null,null,null,null,null,null,null,null,null,0,{"$f":"IF(N1682=0,\"\",MAX(O$15:O1681)+1)","v":""},""]
[null,null,null,null,null,null,null,null,null,null,null,null,null,0,{"$f":"IF(N1683=0,\"\",MAX(O$15:O1682)+1)","v":""},""]
[null,null,null,null,null,null,null,null,null,null,null,null,null,0,{"$f":"IF(N1684=0,\"\",MAX(O$15:O1683)+1)","v":""},""]
[null,null,null,null,null,null,null,null,null,null,null,null,null,0,{"$f":"IF(N1685=0,\"\",MAX(O$15:O1684)+1)","v":""},""]
[null,null,null,null,null,null,null,null,null,null,null,null,null,0,{"$f":"IF(N1686=0,\"\",MAX(O$15:O1685)+1)","v":""},""]
[null,null,null,null,null,null,null,null,null,null,null,null,null,0,{"$f":"IF(N1687=0,\"\",MAX(O$15:O1686)+1)","v":""},""]
[null,null,null,null,null,null,null,null,null,null,null,null,null,0,{"$f":"IF(N1688=0,\"\",MAX(O$15:O1687)+1)","v":""},""]
[null,null,null,null,null,null,null,null,null,null,null,null,null,0,{"$f":"IF(N1689=0,\"\",MAX(O$15:O1688)+1)","v":""},""]
[null,null,null,null,null,null,null,null,null,null,null,null,null,0,{"$f":"IF(N1690=0,\"\",MAX(O$15:O1689)+1)","v":""},""]
[null,null,null,null,null,null,null,null,null,null,null,null,null,0,{"$f":"IF(N1691=0,\"\",MAX(O$15:O1690)+1)","v":""},""]
[null,null,null,null,null,null,null,null,null,null,null,null,null,0,{"$f":"IF(N1692=0,\"\",MAX(O$15:O1691)+1)","v":""},""]
[null,null,null,null,null,null,null,null,null,null,null,null,null,0,{"$f":"IF(N1693=0,\"\",MAX(O$15:O1692)+1)","v":""},""]
[null,null,null,null,null,null,null,null,null,null,null,null,null,0,{"$f":"IF(N1694=0,\"\",MAX(O$15:O1693)+1)","v":""},""]
[null,null,null,null,null,null,null,null,null,null,null,null,null,0,{"$f":"IF(N1695=0,\"\",MAX(O$15:O1694)+1)","v":""},""]
[null,null,null,null,null,null,null,null,null,null,null,null,null,0,{"$f":"IF(N1696=0,\"\",MAX(O$15:O1695)+1)","v":""},""]
[null,null,null,null,null,null,null,null,null,null,null,null,null,0,{"$f":"IF(N1697=0,\"\",MAX(O$15:O1696)+1)","v":""},""]
[null,null,null,null,null,null,null,null,null,null,null,null,null,0,{"$f":"IF(N1698=0,\"\",MAX(O$15:O1697)+1)","v":""},""]
[null,null,null,null,null,null,null,null,null,null,null,null,null,0,{"$f":"IF(N1699=0,\"\",MAX(O$15:O1698)+1)","v":""},""]
[null,null,null,null,null,null,null,null,null,null,null,null,null,0,{"$f":"IF(N1700=0,\"\",MAX(O$15:O1699)+1)","v":""},""]
[null,null,null,null,null,null,null,null,null,null,null,null,null,0,{"$f":"IF(N1701=0,\"\",MAX(O$15:O1700)+1)","v":""},""]
[null,null,null,null,null,null,null,null,null,null,null,null,null,0,{"$f":"IF(N1702=0,\"\",MAX(O$15:O1701)+1)","v":""},""]
[null,null,null,null,null,null,null,null,null,null,null,null,null,0,{"$f":"IF(N1703=0,\"\",MAX(O$15:O1702)+1)","v":""},""]
[null,null,null,null,null,null,null,null,null,null,null,null,null,0,{"$f":"IF(N1704=0,\"\",MAX(O$15:O1703)+1)","v":""},""]
[null,null,null,null,null,null,null,null,null,null,null,null,null,0,{"$f":"IF(N1705=0,\"\",MAX(O$15:O1704)+1)","v":""},""]
[null,null,null,null,null,null,null,null,null,null,null,null,null,0,{"$f":"IF(N1706=0,\"\",MAX(O$15:O1705)+1)","v":""},""]
[null,null,null,null,null,null,null,null,null,null,null,null,null,0,{"$f":"IF(N1707=0,\"\",MAX(O$15:O1706)+1)","v":""},""]
[null,null,null,null,null,null,null,null,null,null,null,null,null,0,{"$f":"IF(N1708=0,\"\",MAX(O$15:O1707)+1)","v":""},""]
[null,null,null,null,null,null,null,null,null,null,null,null,null,0,{"$f":"IF(N1709=0,\"\",MAX(O$15:O1708)+1)","v":""},""]
[null,null,null,null,null,null,null,null,null,null,null,null,null,0,{"$f":"IF(N1710=0,\"\",MAX(O$15:O1709)+1)","v":""},""]
[null,null,null,null,null,null,null,null,null,null,null,null,null,0,{"$f":"IF(N1711=0,\"\",MAX(O$15:O1710)+1)","v":""},""]
[null,null,null,null,null,null,null,null,null,null,null,null,null,0,{"$f":"IF(N1712=0,\"\",MAX(O$15:O1711)+1)","v":""},""]
[null,null,null,null,null,null,null,null,null,null,null,null,null,0,{"$f":"IF(N1713=0,\"\",MAX(O$15:O1712)+1)","v":""},""]
[null,null,null,null,null,null,null,null,null,null,null,null,null,0,{"$f":"IF(N1714=0,\"\",MAX(O$15:O1713)+1)","v":""},""]
[null,null,null,null,null,null,null,null,null,null,null,null,null,0,{"$f":"IF(N1715=0,\"\",MAX(O$15:O1714)+1)","v":""},""]
[null,null,null,null,null,null,null,null,null,null,null,null,null,0,{"$f":"IF(N1716=0,\"\",MAX(O$15:O1715)+1)","v":""},""]
[null,null,null,null,null,null,null,null,null,null,null,null,null,0,{"$f":"IF(N1717=0,\"\",MAX(O$15:O1716)+1)","v":""},""]
[null,null,null,null,null,null,null,null,null,null,null,null,null,0,{"$f":"IF(N1718=0,\"\",MAX(O$15:O1717)+1)","v":""},""]
[null,null,null,null,null,null,null,null,null,null,null,null,null,0,{"$f":"IF(N1719=0,\"\",MAX(O$15:O1718)+1)","v":""},""]
[null,null,null,null,null,null,null,null,null,null,null,null,null,0,{"$f":"IF(N1720=0,\"\",MAX(O$15:O1719)+1)","v":""},""]
[null,null,null,null,null,null,null,null,null,null,null,null,null,0,{"$f":"IF(N1721=0,\"\",MAX(O$15:O1720)+1)","v":""},""]
[null,null,null,null,null,null,null,null,null,null,null,null,null,{"$f":"IFERROR(M1722*L1722/1000,\"\")","v":0},{"$f":"IF(N1722=0,\"\",MAX(O$15:O1721)+1)","v":""},""]
[null,null,null,null,null,null,null,null,null,null,null,null,null,0,{"$f":"IF(N1723=0,\"\",MAX(O$15:O1722)+1)","v":""},""]
[null,null,null,null,null,null,null,null,null,null,null,null,null,0,{"$f":"IF(N1724=0,\"\",MAX(O$15:O1723)+1)","v":""},""]
[null,null,null,null,null,null,null,null,null,null,null,null,null,0,{"$f":"IF(N1725=0,\"\",MAX(O$15:O1724)+1)","v":""},""]
[null,null,null,null,null,null,null,null,null,null,null,null,null,0,{"$f":"IF(N1726=0,\"\",MAX(O$15:O1725)+1)","v":""},""]
[null,null,null,null,null,null,null,null,null,null,null,null,null,0,{"$f":"IF(N1727=0,\"\",MAX(O$15:O1726)+1)","v":""},""]
[null,null,null,null,null,null,null,null,null,null,null,null,null,0,{"$f":"IF(N1728=0,\"\",MAX(O$15:O1727)+1)","v":""},""]
[null,null,null,null,null,null,null,null,null,null,null,null,null,0,{"$f":"IF(N1729=0,\"\",MAX(O$15:O1728)+1)","v":""},""]
[null,null,null,null,null,null,null,null,null,null,null,null,null,0,{"$f":"IF(N1730=0,\"\",MAX(O$15:O1729)+1)","v":""},""]
[null,null,null,null,null,null,null,null,null,null,null,null,null,0,{"$f":"IF(N1731=0,\"\",MAX(O$15:O1730)+1)","v":""},""]
[null,null,null,null,null,null,null,null,null,null,null,null,null,0,{"$f":"IF(N1732=0,\"\",MAX(O$15:O1731)+1)","v":""},""]
[null,null,null,null,null,null,null,null,null,null,null,null,null,0,{"$f":"IF(N1733=0,\"\",MAX(O$15:O1732)+1)","v":""},""]
[null,null,null,null,null,null,null,null,null,null,null,null,null,0,{"$f":"IF(N1734=0,\"\",MAX(O$15:O1733)+1)","v":""},""]
[null,null,null,null,null,null,null,null,null,null,null,null,null,0,{"$f":"IF(N1735=0,\"\",MAX(O$15:O1734)+1)","v":""},""]
[null,null,null,null,null,null,null,null,null,null,null,null,null,0,{"$f":"IF(N1736=0,\"\",MAX(O$15:O1735)+1)","v":""},""]
[null,null,null,null,null,null,null,null,null,null,null,null,null,0,{"$f":"IF(N1737=0,\"\",MAX(O$15:O1736)+1)","v":""},""]
[null,null,null,null,null,null,null,null,null,null,null,null,null,0,{"$f":"IF(N1738=0,\"\",MAX(O$15:O1737)+1)","v":""},""]
[null,null,null,null,null,null,null,null,null,null,null,null,null,0,{"$f":"IF(N1739=0,\"\",MAX(O$15:O1738)+1)","v":""},""]
[null,null,null,null,null,null,null,null,null,null,null,null,null,0,{"$f":"IF(N1740=0,\"\",MAX(O$15:O1739)+1)","v":""},""]
[null,null,null,null,null,null,null,null,null,null,null,null,null,0,{"$f":"IF(N1741=0,\"\",MAX(O$15:O1740)+1)","v":""},""]
[null,null,null,null,null,null,null,null,null,null,null,null,null,0,{"$f":"IF(N1742=0,\"\",MAX(O$15:O1741)+1)","v":""},""]
[null,null,null,null,null,null,null,null,null,null,null,null,null,0,{"$f":"IF(N1743=0,\"\",MAX(O$15:O1742)+1)","v":""},""]
[null,null,null,null,null,null,null,null,null,null,null,null,null,0,{"$f":"IF(N1744=0,\"\",MAX(O$15:O1743)+1)","v":""},{"$f":"IFERROR(INDEX($N$15:$N$5014,MATCH(ROW()-ROW($O$14),$O$15:$O$5014,0)),\"\")","v":""}]
[null,null,null,null,null,null,null,null,null,null,null,null,null,0,{"$f":"IF(N1745=0,\"\",MAX(O$15:O1744)+1)","v":""},""]
[null,null,null,null,null,null,null,null,null,null,null,null,null,0,{"$f":"IF(N1746=0,\"\",MAX(O$15:O1745)+1)","v":""},""]
[null,null,null,null,null,null,null,null,null,null,null,null,null,0,{"$f":"IF(N1747=0,\"\",MAX(O$15:O1746)+1)","v":""},""]
[null,null,null,null,null,null,null,null,null,null,null,null,null,0,{"$f":"IF(N1748=0,\"\",MAX(O$15:O1747)+1)","v":""},""]
[null,null,null,null,null,null,null,null,null,null,null,null,null,0,{"$f":"IF(N1749=0,\"\",MAX(O$15:O1748)+1)","v":""},""]
[null,null,null,null,null,null,null,null,null,null,null,null,null,0,{"$f":"IF(N1750=0,\"\",MAX(O$15:O1749)+1)","v":""},""]
[null,null,null,null,null,null,null,null,null,null,null,null,null,0,{"$f":"IF(N1751=0,\"\",MAX(O$15:O1750)+1)","v":""},""]
[null,null,null,null,null,null,null,null,null,null,null,null,null,0,{"$f":"IF(N1752=0,\"\",MAX(O$15:O1751)+1)","v":""},""]
[null,null,null,null,null,null,null,null,null,null,null,null,null,0,{"$f":"IF(N1753=0,\"\",MAX(O$15:O1752)+1)","v":""},""]
[null,null,null,null,null,null,null,null,null,null,null,null,null,0,{"$f":"IF(N1754=0,\"\",MAX(O$15:O1753)+1)","v":""},""]
[null,null,null,null,null,null,null,null,null,null,null,null,null,0,{"$f":"IF(N1755=0,\"\",MAX(O$15:O1754)+1)","v":""},""]
[null,null,null,null,null,null,null,null,null,null,null,null,null,0,{"$f":"IF(N1756=0,\"\",MAX(O$15:O1755)+1)","v":""},""]
[null,null,null,null,null,null,null,null,null,null,null,null,null,0,{"$f":"IF(N1757=0,\"\",MAX(O$15:O1756)+1)","v":""},""]
[null,null,null,null,null,null,null,null,null,null,null,null,null,0,{"$f":"IF(N1758=0,\"\",MAX(O$15:O1757)+1)","v":""},""]
[null,null,null,null,null,null,null,null,null,null,null,null,null,0,{"$f":"IF(N1759=0,\"\",MAX(O$15:O1758)+1)","v":""},""]
[null,null,null,null,null,null,null,null,null,null,null,null,null,0,{"$f":"IF(N1760=0,\"\",MAX(O$15:O1759)+1)","v":""},""]
[null,null,null,null,null,null,null,null,null,null,null,null,null,0,{"$f":"IF(N1761=0,\"\",MAX(O$15:O1760)+1)","v":""},""]
[null,null,null,null,null,null,null,null,null,null,null,null,null,0,{"$f":"IF(N1762=0,\"\",MAX(O$15:O1761)+1)","v":""},""]
[null,null,null,null,null,null,null,null,null,null,null,null,null,0,{"$f":"IF(N1763=0,\"\",MAX(O$15:O1762)+1)","v":""},""]
[null,null,null,null,null,null,null,null,null,null,null,null,null,0,{"$f":"IF(N1764=0,\"\",MAX(O$15:O1763)+1)","v":""},""]
[null,null,null,null,null,null,null,null,null,null,null,null,null,0,{"$f":"IF(N1765=0,\"\",MAX(O$15:O1764)+1)","v":""},""]
[null,null,null,null,null,null,null,null,null,null,null,null,null,0,{"$f":"IF(N1766=0,\"\",MAX(O$15:O1765)+1)","v":""},""]
[null,null,null,null,null,null,null,null,null,null,null,null,null,0,{"$f":"IF(N1767=0,\"\",MAX(O$15:O1766)+1)","v":""},""]
[null,null,null,null,null,null,null,null,null,null,null,null,null,0,{"$f":"IF(N1768=0,\"\",MAX(O$15:O1767)+1)","v":""},""]
[null,null,null,null,null,null,null,null,null,null,null,null,null,0,{"$f":"IF(N1769=0,\"\",MAX(O$15:O1768)+1)","v":""},""]
[null,null,null,null,null,null,null,null,null,null,null,null,null,0,{"$f":"IF(N1770=0,\"\",MAX(O$15:O1769)+1)","v":""},""]
[null,null,null,null,null,null,null,null,null,null,null,null,null,0,{"$f":"IF(N1771=0,\"\",MAX(O$15:O1770)+1)","v":""},""]
[null,null,null,null,null,null,null,null,null,null,null,null,null,0,{"$f":"IF(N1772=0,\"\",MAX(O$15:O1771)+1)","v":""},""]
[null,null,null,null,null,null,null,null,null,null,null,null,null,0,{"$f":"IF(N1773=0,\"\",MAX(O$15:O1772)+1)","v":""},""]
[null,null,null,null,null,null,null,null,null,null,null,null,null,0,{"$f":"IF(N1774=0,\"\",MAX(O$15:O1773)+1)","v":""},""]
[null,null,null,null,null,null,null,null,null,null,null,null,null,0,{"$f":"IF(N1775=0,\"\",MAX(O$15:O1774)+1)","v":""},""]
[null,null,null,null,null,null,null,null,null,null,null,null,null,0,{"$f":"IF(N1776=0,\"\",MAX(O$15:O1775)+1)","v":""},""]
[null,null,null,null,null,null,null,null,null,null,null,null,null,0,{"$f":"IF(N1777=0,\"\",MAX(O$15:O1776)+1)","v":""},""]
[null,null,null,null,null,null,null,null,null,null,null,null,null,0,{"$f":"IF(N1778=0,\"\",MAX(O$15:O1777)+1)","v":""},""]
[null,null,null,null,null,null,null,null,null,null,null,null,null,0,{"$f":"IF(N1779=0,\"\",MAX(O$15:O1778)+1)","v":""},""]
[null,null,null,null,null,null,null,null,null,null,null,null,null,0,{"$f":"IF(N1780=0,\"\",MAX(O$15:O1779)+1)","v":""},""]
[null,null,null,null,null,null,null,null,null,null,null,null,null,0,{"$f":"IF(N1781=0,\"\",MAX(O$15:O1780)+1)","v":""},""]
[null,null,null,null,null,null,null,null,null,null,null,null,null,0,{"$f":"IF(N1782=0,\"\",MAX(O$15:O1781)+1)","v":""},""]
[null,null,null,null,null,null,null,null,null,null,null,null,null,0,{"$f":"IF(N1783=0,\"\",MAX(O$15:O1782)+1)","v":""},""]
[null,null,null,null,null,null,null,null,null,null,null,null,null,0,{"$f":"IF(N1784=0,\"\",MAX(O$15:O1783)+1)","v":""},""]
[null,null,null,null,null,null,null,null,null,null,null,null,null,0,{"$f":"IF(N1785=0,\"\",MAX(O$15:O1784)+1)","v":""},""]
[null,null,null,null,null,null,null,null,null,null,null,null,null,{"$f":"IFERROR(M1786*L1786/1000,\"\")","v":0},{"$f":"IF(N1786=0,\"\",MAX(O$15:O1785)+1)","v":""},""]
[null,null,null,null,null,null,null,null,null,null,null,null,null,0,{"$f":"IF(N1787=0,\"\",MAX(O$15:O1786)+1)","v":""},""]
[null,null,null,null,null,null,null,null,null,null,null,null,null,0,{"$f":"IF(N1788=0,\"\",MAX(O$15:O1787)+1)","v":""},""]
[null,null,null,null,null,null,null,null,null,null,null,null,null,0,{"$f":"IF(N1789=0,\"\",MAX(O$15:O1788)+1)","v":""},""]
[null,null,null,null,null,null,null,null,null,null,null,null,null,0,{"$f":"IF(N1790=0,\"\",MAX(O$15:O1789)+1)","v":""},""]
[null,null,null,null,null,null,null,null,null,null,null,null,null,0,{"$f":"IF(N1791=0,\"\",MAX(O$15:O1790)+1)","v":""},""]
[null,null,null,null,null,null,null,null,null,null,null,null,null,0,{"$f":"IF(N1792=0,\"\",MAX(O$15:O1791)+1)","v":""},""]
[null,null,null,null,null,null,null,null,null,null,null,null,null,0,{"$f":"IF(N1793=0,\"\",MAX(O$15:O1792)+1)","v":""},""]
[null,null,null,null,null,null,null,null,null,null,null,null,null,0,{"$f":"IF(N1794=0,\"\",MAX(O$15:O1793)+1)","v":""},""]
[null,null,null,null,null,null,null,null,null,null,null,null,null,0,{"$f":"IF(N1795=0,\"\",MAX(O$15:O1794)+1)","v":""},""]
[null,null,null,null,null,null,null,null,null,null,null,null,null,0,{"$f":"IF(N1796=0,\"\",MAX(O$15:O1795)+1)","v":""},""]
[null,null,null,null,null,null,null,null,null,null,null,null,null,0,{"$f":"IF(N1797=0,\"\",MAX(O$15:O1796)+1)","v":""},""]
[null,null,null,null,null,null,null,null,null,null,null,null,null,0,{"$f":"IF(N1798=0,\"\",MAX(O$15:O1797)+1)","v":""},""]
[null,null,null,null,null,null,null,null,null,null,null,null,null,0,{"$f":"IF(N1799=0,\"\",MAX(O$15:O1798)+1)","v":""},""]
[null,null,null,null,null,null,null,null,null,null,null,null,null,0,{"$f":"IF(N1800=0,\"\",MAX(O$15:O1799)+1)","v":""},""]
[null,null,null,null,null,null,null,null,null,null,null,null,null,0,{"$f":"IF(N1801=0,\"\",MAX(O$15:O1800)+1)","v":""},""]
[null,null,null,null,null,null,null,null,null,null,null,null,null,0,{"$f":"IF(N1802=0,\"\",MAX(O$15:O1801)+1)","v":""},""]
[null,null,null,null,null,null,null,null,null,null,null,null,null,0,{"$f":"IF(N1803=0,\"\",MAX(O$15:O1802)+1)","v":""},""]
[null,null,null,null,null,null,null,null,null,null,null,null,null,0,{"$f":"IF(N1804=0,\"\",MAX(O$15:O1803)+1)","v":""},""]
[null,null,null,null,null,null,null,null,null,null,null,null,null,0,{"$f":"IF(N1805=0,\"\",MAX(O$15:O1804)+1)","v":""},""]
[null,null,null,null,null,null,null,null,null,null,null,null,null,0,{"$f":"IF(N1806=0,\"\",MAX(O$15:O1805)+1)","v":""},""]
[null,null,null,null,null,null,null,null,null,null,null,null,null,0,{"$f":"IF(N1807=0,\"\",MAX(O$15:O1806)+1)","v":""},""]
[null,null,null,null,null,null,null,null,null,null,null,null,null,0,{"$f":"IF(N1808=0,\"\",MAX(O$15:O1807)+1)","v":""},{"$f":"IFERROR(INDEX($N$15:$N$5014,MATCH(ROW()-ROW($O$14),$O$15:$O$5014,0)),\"\")","v":""}]
[null,null,null,null,null,null,null,null,null,null,null,null,null,0,{"$f":"IF(N1809=0,\"\",MAX(O$15:O1808)+1)","v":""},""]
[null,null,null,null,null,null,null,null,null,null,null,null,null,0,{"$f":"IF(N1810=0,\"\",MAX(O$15:O1809)+1)","v":""},""]
[null,null,null,null,null,null,null,null,null,null,null,null,null,0,{"$f":"IF(N1811=0,\"\",MAX(O$15:O1810)+1)","v":""},""]
[null,null,null,null,null,null,null,null,null,null,null,null,null,0,{"$f":"IF(N1812=0,\"\",MAX(O$15:O1811)+1)","v":""},""]
[null,null,null,null,null,null,null,null,null,null,null,null,null,0,{"$f":"IF(N1813=0,\"\",MAX(O$15:O1812)+1)","v":""},""]
[null,null,null,null,null,null,null,null,null,null,null,null,null,0,{"$f":"IF(N1814=0,\"\",MAX(O$15:O1813)+1)","v":""},""]
[null,null,null,null,null,null,null,null,null,null,null,null,null,0,{"$f":"IF(N1815=0,\"\",MAX(O$15:O1814)+1)","v":""},""]
[null,null,null,null,null,null,null,null,null,null,null,null,null,0,{"$f":"IF(N1816=0,\"\",MAX(O$15:O1815)+1)","v":""},""]
[null,null,null,null,null,null,null,null,null,null,null,null,null,0,{"$f":"IF(N1817=0,\"\",MAX(O$15:O1816)+1)","v":""},""]
[null,null,null,null,null,null,null,null,null,null,null,null,null,0,{"$f":"IF(N1818=0,\"\",MAX(O$15:O1817)+1)","v":""},""]
[null,null,null,null,null,null,null,null,null,null,null,null,null,0,{"$f":"IF(N1819=0,\"\",MAX(O$15:O1818)+1)","v":""},""]
[null,null,null,null,null,null,null,null,null,null,null,null,null,0,{"$f":"IF(N1820=0,\"\",MAX(O$15:O1819)+1)","v":""},""]
[null,null,null,null,null,null,null,null,null,null,null,null,null,0,{"$f":"IF(N1821=0,\"\",MAX(O$15:O1820)+1)","v":""},""]
[null,null,null,null,null,null,null,null,null,null,null,null,null,0,{"$f":"IF(N1822=0,\"\",MAX(O$15:O1821)+1)","v":""},""]
[null,null,null,null,null,null,null,null,null,null,null,null,null,0,{"$f":"IF(N1823=0,\"\",MAX(O$15:O1822)+1)","v":""},""]
[null,null,null,null,null,null,null,null,null,null,null,null,null,0,{"$f":"IF(N1824=0,\"\",MAX(O$15:O1823)+1)","v":""},""]
[null,null,null,null,null,null,null,null,null,null,null,null,null,0,{"$f":"IF(N1825=0,\"\",MAX(O$15:O1824)+1)","v":""},""]
[null,null,null,null,null,null,null,null,null,null,null,null,null,0,{"$f":"IF(N1826=0,\"\",MAX(O$15:O1825)+1)","v":""},""]
[null,null,null,null,null,null,null,null,null,null,null,null,null,0,{"$f":"IF(N1827=0,\"\",MAX(O$15:O1826)+1)","v":""},""]
[null,null,null,null,null,null,null,null,null,null,null,null,null,0,{"$f":"IF(N1828=0,\"\",MAX(O$15:O1827)+1)","v":""},""]
[null,null,null,null,null,null,null,null,null,null,null,null,null,0,{"$f":"IF(N1829=0,\"\",MAX(O$15:O1828)+1)","v":""},""]
[null,null,null,null,null,null,null,null,null,null,null,null,null,0,{"$f":"IF(N1830=0,\"\",MAX(O$15:O1829)+1)","v":""},""]
[null,null,null,null,null,null,null,null,null,null,null,null,null,0,{"$f":"IF(N1831=0,\"\",MAX(O$15:O1830)+1)","v":""},""]
[null,null,null,null,null,null,null,null,null,null,null,null,null,0,{"$f":"IF(N1832=0,\"\",MAX(O$15:O1831)+1)","v":""},""]
[null,null,null,null,null,null,null,null,null,null,null,null,null,0,{"$f":"IF(N1833=0,\"\",MAX(O$15:O1832)+1)","v":""},""]
[null,null,null,null,null,null,null,null,null,null,null,null,null,0,{"$f":"IF(N1834=0,\"\",MAX(O$15:O1833)+1)","v":""},""]
[null,null,null,null,null,null,null,null,null,null,null,null,null,0,{"$f":"IF(N1835=0,\"\",MAX(O$15:O1834)+1)","v":""},""]
[null,null,null,null,null,null,null,null,null,null,null,null,null,0,{"$f":"IF(N1836=0,\"\",MAX(O$15:O1835)+1)","v":""},""]
[null,null,null,null,null,null,null,null,null,null,null,null,null,0,{"$f":"IF(N1837=0,\"\",MAX(O$15:O1836)+1)","v":""},""]
[null,null,null,null,null,null,null,null,null,null,null,null,null,0,{"$f":"IF(N1838=0,\"\",MAX(O$15:O1837)+1)","v":""},""]
[null,null,null,null,null,null,null,null,null,null,null,null,null,0,{"$f":"IF(N1839=0,\"\",MAX(O$15:O1838)+1)","v":""},""]
[null,null,null,null,null,null,null,null,null,null,null,null,null,0,{"$f":"IF(N1840=0,\"\",MAX(O$15:O1839)+1)","v":""},""]
[null,null,null,null,null,null,null,null,null,null,null,null,null,0,{"$f":"IF(N1841=0,\"\",MAX(O$15:O1840)+1)","v":""},""]
[null,null,null,null,null,null,null,null,null,null,null,null,null,0,{"$f":"IF(N1842=0,\"\",MAX(O$15:O1841)+1)","v":""},""]
[null,null,null,null,null,null,null,null,null,null,null,null,null,0,{"$f":"IF(N1843=0,\"\",MAX(O$15:O1842)+1)","v":""},""]
[null,null,null,null,null,null,null,null,null,null,null,null,null,0,{"$f":"IF(N1844=0,\"\",MAX(O$15:O1843)+1)","v":""},""]
[null,null,null,null,null,null,null,null,null,null,null,null,null,0,{"$f":"IF(N1845=0,\"\",MAX(O$15:O1844)+1)","v":""},""]
[null,null,null,null,null,null,null,null,null,null,null,null,null,0,{"$f":"IF(N1846=0,\"\",MAX(O$15:O1845)+1)","v":""},""]
[null,null,null,null,null,null,null,null,null,null,null,null,null,0,{"$f":"IF(N1847=0,\"\",MAX(O$15:O1846)+1)","v":""},""]
[null,null,null,null,null,null,null,null,null,null,null,null,null,0,{"$f":"IF(N1848=0,\"\",MAX(O$15:O1847)+1)","v":""},""]
[null,null,null,null,null,null,null,null,null,null,null,null,null,0,{"$f":"IF(N1849=0,\"\",MAX(O$15:O1848)+1)","v":""},""]
[null,null,null,null,null,null,null,null,null,null,null,null,null,{"$f":"IFERROR(M1850*L1850/1000,\"\")","v":0},{"$f":"IF(N1850=0,\"\",MAX(O$15:O1849)+1)","v":""},""]
[null,null,null,null,null,null,null,null,null,null,null,null,null,0,{"$f":"IF(N1851=0,\"\",MAX(O$15:O1850)+1)","v":""},""]
[null,null,null,null,null,null,null,null,null,null,null,null,null,0,{"$f":"IF(N1852=0,\"\",MAX(O$15:O1851)+1)","v":""},""]
[null,null,null,null,null,null,null,null,null,null,null,null,null,0,{"$f":"IF(N1853=0,\"\",MAX(O$15:O1852)+1)","v":""},""]
[null,null,null,null,null,null,null,null,null,null,null,null,null,0,{"$f":"IF(N1854=0,\"\",MAX(O$15:O1853)+1)","v":""},""]
[null,null,null,null,null,null,null,null,null,null,null,null,null,0,{"$f":"IF(N1855=0,\"\",MAX(O$15:O1854)+1)","v":""},""]
[null,null,null,null,null,null,null,null,null,null,null,null,null,0,{"$f":"IF(N1856=0,\"\",MAX(O$15:O1855)+1)","v":""},""]
[null,null,null,null,null,null,null,null,null,null,null,null,null,0,{"$f":"IF(N1857=0,\"\",MAX(O$15:O1856)+1)","v":""},""]
[null,null,null,null,null,null,null,null,null,null,null,null,null,0,{"$f":"IF(N1858=0,\"\",MAX(O$15:O1857)+1)","v":""},""]
[null,null,null,null,null,null,null,null,null,null,null,null,null,0,{"$f":"IF(N1859=0,\"\",MAX(O$15:O1858)+1)","v":""},""]
[null,null,null,null,null,null,null,null,null,null,null,null,null,0,{"$f":"IF(N1860=0,\"\",MAX(O$15:O1859)+1)","v":""},""]
[null,null,null,null,null,null,null,null,null,null,null,null,null,0,{"$f":"IF(N1861=0,\"\",MAX(O$15:O1860)+1)","v":""},""]
[null,null,null,null,null,null,null,null,null,null,null,null,null,0,{"$f":"IF(N1862=0,\"\",MAX(O$15:O1861)+1)","v":""},""]
[null,null,null,null,null,null,null,null,null,null,null,null,null,0,{"$f":"IF(N1863=0,\"\",MAX(O$15:O1862)+1)","v":""},""]
[null,null,null,null,null,null,null,null,null,null,null,null,null,0,{"$f":"IF(N1864=0,\"\",MAX(O$15:O1863)+1)","v":""},""]
[null,null,null,null,null,null,null,null,null,null,null,null,null,0,{"$f":"IF(N1865=0,\"\",MAX(O$15:O1864)+1)","v":""},""]
[null,null,null,null,null,null,null,null,null,null,null,null,null,0,{"$f":"IF(N1866=0,\"\",MAX(O$15:O1865)+1)","v":""},""]
[null,null,null,null,null,null,null,null,null,null,null,null,null,0,{"$f":"IF(N1867=0,\"\",MAX(O$15:O1866)+1)","v":""},""]
[null,null,null,null,null,null,null,null,null,null,null,null,null,0,{"$f":"IF(N1868=0,\"\",MAX(O$15:O1867)+1)","v":""},""]
[null,null,null,null,null,null,null,null,null,null,null,null,null,0,{"$f":"IF(N1869=0,\"\",MAX(O$15:O1868)+1)","v":""},""]
[null,null,null,null,null,null,null,null,null,null,null,null,null,0,{"$f":"IF(N1870=0,\"\",MAX(O$15:O1869)+1)","v":""},""]
[null,null,null,null,null,null,null,null,null,null,null,null,null,0,{"$f":"IF(N1871=0,\"\",MAX(O$15:O1870)+1)","v":""},""]
[null,null,null,null,null,null,null,null,null,null,null,null,null,0,{"$f":"IF(N1872=0,\"\",MAX(O$15:O1871)+1)","v":""},{"$f":"IFERROR(INDEX($N$15:$N$5014,MATCH(ROW()-ROW($O$14),$O$15:$O$5014,0)),\"\")","v":""}]
[null,null,null,null,null,null,null,null,null,null,null,null,null,0,{"$f":"IF(N1873=0,\"\",MAX(O$15:O1872)+1)","v":""},""]
[null,null,null,null,null,null,null,null,null,null,null,null,null,0,{"$f":"IF(N1874=0,\"\",MAX(O$15:O1873)+1)","v":""},""]
[null,null,null,null,null,null,null,null,null,null,null,null,null,0,{"$f":"IF(N1875=0,\"\",MAX(O$15:O1874)+1)","v":""},""]
[null,null,null,null,null,null,null,null,null,null,null,null,null,0,{"$f":"IF(N1876=0,\"\",MAX(O$15:O1875)+1)","v":""},""]
[null,null,null,null,null,null,null,null,null,null,null,null,null,0,{"$f":"IF(N1877=0,\"\",MAX(O$15:O1876)+1)","v":""},""]
[null,null,null,null,null,null,null,null,null,null,null,null,null,0,{"$f":"IF(N1878=0,\"\",MAX(O$15:O1877)+1)","v":""},""]
[null,null,null,null,null,null,null,null,null,null,null,null,null,0,{"$f":"IF(N1879=0,\"\",MAX(O$15:O1878)+1)","v":""},""]
[null,null,null,null,null,null,null,null,null,null,null,null,null,0,{"$f":"IF(N1880=0,\"\",MAX(O$15:O1879)+1)","v":""},""]
[null,null,null,null,null,null,null,null,null,null,null,null,null,0,{"$f":"IF(N1881=0,\"\",MAX(O$15:O1880)+1)","v":""},""]
[null,null,null,null,null,null,null,null,null,null,null,null,null,0,{"$f":"IF(N1882=0,\"\",MAX(O$15:O1881)+1)","v":""},""]
[null,null,null,null,null,null,null,null,null,null,null,null,null,0,{"$f":"IF(N1883=0,\"\",MAX(O$15:O1882)+1)","v":""},""]
[null,null,null,null,null,null,null,null,null,null,null,null,null,0,{"$f":"IF(N1884=0,\"\",MAX(O$15:O1883)+1)","v":""},""]
[null,null,null,null,null,null,null,null,null,null,null,null,null,0,{"$f":"IF(N1885=0,\"\",MAX(O$15:O1884)+1)","v":""},""]
[null,null,null,null,null,null,null,null,null,null,null,null,null,0,{"$f":"IF(N1886=0,\"\",MAX(O$15:O1885)+1)","v":""},""]
[null,null,null,null,null,null,null,null,null,null,null,null,null,0,{"$f":"IF(N1887=0,\"\",MAX(O$15:O1886)+1)","v":""},""]
[null,null,null,null,null,null,null,null,null,null,null,null,null,0,{"$f":"IF(N1888=0,\"\",MAX(O$15:O1887)+1)","v":""},""]
[null,null,null,null,null,null,null,null,null,null,null,null,null,0,{"$f":"IF(N1889=0,\"\",MAX(O$15:O1888)+1)","v":""},""]
[null,null,null,null,null,null,null,null,null,null,null,null,null,0,{"$f":"IF(N1890=0,\"\",MAX(O$15:O1889)+1)","v":""},""]
[null,null,null,null,null,null,null,null,null,null,null,null,null,0,{"$f":"IF(N1891=0,\"\",MAX(O$15:O1890)+1)","v":""},""]
[null,null,null,null,null,null,null,null,null,null,null,null,null,0,{"$f":"IF(N1892=0,\"\",MAX(O$15:O1891)+1)","v":""},""]
[null,null,null,null,null,null,null,null,null,null,null,null,null,0,{"$f":"IF(N1893=0,\"\",MAX(O$15:O1892)+1)","v":""},""]
[null,null,null,null,null,null,null,null,null,null,null,null,null,0,{"$f":"IF(N1894=0,\"\",MAX(O$15:O1893)+1)","v":""},""]
[null,null,null,null,null,null,null,null,null,null,null,null,null,0,{"$f":"IF(N1895=0,\"\",MAX(O$15:O1894)+1)","v":""},""]
[null,null,null,null,null,null,null,null,null,null,null,null,null,0,{"$f":"IF(N1896=0,\"\",MAX(O$15:O1895)+1)","v":""},""]
[null,null,null,null,null,null,null,null,null,null,null,null,null,0,{"$f":"IF(N1897=0,\"\",MAX(O$15:O1896)+1)","v":""},""]
[null,null,null,null,null,null,null,null,null,null,null,null,null,0,{"$f":"IF(N1898=0,\"\",MAX(O$15:O1897)+1)","v":""},""]
[null,null,null,null,null,null,null,null,null,null,null,null,null,0,{"$f":"IF(N1899=0,\"\",MAX(O$15:O1898)+1)","v":""},""]
[null,null,null,null,null,null,null,null,null,null,null,null,null,0,{"$f":"IF(N1900=0,\"\",MAX(O$15:O1899)+1)","v":""},""]
[null,null,null,null,null,null,null,null,null,null,null,null,null,0,{"$f":"IF(N1901=0,\"\",MAX(O$15:O1900)+1)","v":""},""]
[null,null,null,null,null,null,null,null,null,null,null,null,null,0,{"$f":"IF(N1902=0,\"\",MAX(O$15:O1901)+1)","v":""},""]
[null,null,null,null,null,null,null,null,null,null,null,null,null,0,{"$f":"IF(N1903=0,\"\",MAX(O$15:O1902)+1)","v":""},""]
[null,null,null,null,null,null,null,null,null,null,null,null,null,0,{"$f":"IF(N1904=0,\"\",MAX(O$15:O1903)+1)","v":""},""]
[null,null,null,null,null,null,null,null,null,null,null,null,null,0,{"$f":"IF(N1905=0,\"\",MAX(O$15:O1904)+1)","v":""},""]
[null,null,null,null,null,null,null,null,null,null,null,null,null,0,{"$f":"IF(N1906=0,\"\",MAX(O$15:O1905)+1)","v":""},""]
[null,null,null,null,null,null,null,null,null,null,null,null,null,0,{"$f":"IF(N1907=0,\"\",MAX(O$15:O1906)+1)","v":""},""]
[null,null,null,null,null,null,null,null,null,null,null,null,null,0,{"$f":"IF(N1908=0,\"\",MAX(O$15:O1907)+1)","v":""},""]
[null,null,null,null,null,null,null,null,null,null,null,null,null,0,{"$f":"IF(N1909=0,\"\",MAX(O$15:O1908)+1)","v":""},""]
[null,null,null,null,null,null,null,null,null,null,null,null,null,0,{"$f":"IF(N1910=0,\"\",MAX(O$15:O1909)+1)","v":""},""]
[null,null,null,null,null,null,null,null,null,null,null,null,null,0,{"$f":"IF(N1911=0,\"\",MAX(O$15:O1910)+1)","v":""},""]
[null,null,null,null,null,null,null,null,null,null,null,null,null,0,{"$f":"IF(N1912=0,\"\",MAX(O$15:O1911)+1)","v":""},""]
[null,null,null,null,null,null,null,null,null,null,null,null,null,0,{"$f":"IF(N1913=0,\"\",MAX(O$15:O1912)+1)","v":""},""]
[null,null,null,null,null,null,null,null,null,null,null,null,null,{"$f":"IFERROR(M1914*L1914/1000,\"\")","v":0},{"$f":"IF(N1914=0,\"\",MAX(O$15:O1913)+1)","v":""},""]
[null,null,null,null,null,null,null,null,null,null,null,null,null,0,{"$f":"IF(N1915=0,\"\",MAX(O$15:O1914)+1)","v":""},""]
[null,null,null,null,null,null,null,null,null,null,null,null,null,0,{"$f":"IF(N1916=0,\"\",MAX(O$15:O1915)+1)","v":""},""]
[null,null,null,null,null,null,null,null,null,null,null,null,null,0,{"$f":"IF(N1917=0,\"\",MAX(O$15:O1916)+1)","v":""},""]
[null,null,null,null,null,null,null,null,null,null,null,null,null,0,{"$f":"IF(N1918=0,\"\",MAX(O$15:O1917)+1)","v":""},""]
[null,null,null,null,null,null,null,null,null,null,null,null,null,0,{"$f":"IF(N1919=0,\"\",MAX(O$15:O1918)+1)","v":""},""]
[null,null,null,null,null,null,null,null,null,null,null,null,null,0,{"$f":"IF(N1920=0,\"\",MAX(O$15:O1919)+1)","v":""},""]
[null,null,null,null,null,null,null,null,null,null,null,null,null,0,{"$f":"IF(N1921=0,\"\",MAX(O$15:O1920)+1)","v":""},""]
[null,null,null,null,null,null,null,null,null,null,null,null,null,0,{"$f":"IF(N1922=0,\"\",MAX(O$15:O1921)+1)","v":""},""]
[null,null,null,null,null,null,null,null,null,null,null,null,null,0,{"$f":"IF(N1923=0,\"\",MAX(O$15:O1922)+1)","v":""},""]
[null,null,null,null,null,null,null,null,null,null,null,null,null,0,{"$f":"IF(N1924=0,\"\",MAX(O$15:O1923)+1)","v":""},""]
[null,null,null,null,null,null,null,null,null,null,null,null,null,0,{"$f":"IF(N1925=0,\"\",MAX(O$15:O1924)+1)","v":""},""]
[null,null,null,null,null,null,null,null,null,null,null,null,null,0,{"$f":"IF(N1926=0,\"\",MAX(O$15:O1925)+1)","v":""},""]
[null,null,null,null,null,null,null,null,null,null,null,null,null,0,{"$f":"IF(N1927=0,\"\",MAX(O$15:O1926)+1)","v":""},""]
[null,null,null,null,null,null,null,null,null,null,null,null,null,0,{"$f":"IF(N1928=0,\"\",MAX(O$15:O1927)+1)","v":""},""]
[null,null,null,null,null,null,null,null,null,null,null,null,null,0,{"$f":"IF(N1929=0,\"\",MAX(O$15:O1928)+1)","v":""},""]
[null,null,null,null,null,null,null,null,null,null,null,null,null,0,{"$f":"IF(N1930=0,\"\",MAX(O$15:O1929)+1)","v":""},""]
[null,null,null,null,null,null,null,null,null,null,null,null,null,0,{"$f":"IF(N1931=0,\"\",MAX(O$15:O1930)+1)","v":""},""]
[null,null,null,null,null,null,null,null,null,null,null,null,null,0,{"$f":"IF(N1932=0,\"\",MAX(O$15:O1931)+1)","v":""},""]
[null,null,null,null,null,null,null,null,null,null,null,null,null,0,{"$f":"IF(N1933=0,\"\",MAX(O$15:O1932)+1)","v":""},""]
[null,null,null,null,null,null,null,null,null,null,null,null,null,0,{"$f":"IF(N1934=0,\"\",MAX(O$15:O1933)+1)","v":""},""]
[null,null,null,null,null,null,null,null,null,null,null,null,null,0,{"$f":"IF(N1935=0,\"\",MAX(O$15:O1934)+1)","v":""},""]
[null,null,null,null,null,null,null,null,null,null,null,null,null,0,{"$f":"IF(N1936=0,\"\",MAX(O$15:O1935)+1)","v":""},{"$f":"IFERROR(INDEX($N$15:$N$5014,MATCH(ROW()-ROW($O$14),$O$15:$O$5014,0)),\"\")","v":""}]
[null,null,null,null,null,null,null,null,null,null,null,null,null,0,{"$f":"IF(N1937=0,\"\",MAX(O$15:O1936)+1)","v":""},""]
[null,null,null,null,null,null,null,null,null,null,null,null,null,0,{"$f":"IF(N1938=0,\"\",MAX(O$15:O1937)+1)","v":""},""]
[null,null,null,null,null,null,null,null,null,null,null,null,null,0,{"$f":"IF(N1939=0,\"\",MAX(O$15:O1938)+1)","v":""},""]
[null,null,null,null,null,null,null,null,null,null,null,null,null,0,{"$f":"IF(N1940=0,\"\",MAX(O$15:O1939)+1)","v":""},""]
[null,null,null,null,null,null,null,null,null,null,null,null,null,0,{"$f":"IF(N1941=0,\"\",MAX(O$15:O1940)+1)","v":""},""]
[null,null,null,null,null,null,null,null,null,null,null,null,null,0,{"$f":"IF(N1942=0,\"\",MAX(O$15:O1941)+1)","v":""},""]
[null,null,null,null,null,null,null,null,null,null,null,null,null,0,{"$f":"IF(N1943=0,\"\",MAX(O$15:O1942)+1)","v":""},""]
[null,null,null,null,null,null,null,null,null,null,null,null,null,0,{"$f":"IF(N1944=0,\"\",MAX(O$15:O1943)+1)","v":""},""]
[null,null,null,null,null,null,null,null,null,null,null,null,null,0,{"$f":"IF(N1945=0,\"\",MAX(O$15:O1944)+1)","v":""},""]
[null,null,null,null,null,null,null,null,null,null,null,null,null,0,{"$f":"IF(N1946=0,\"\",MAX(O$15:O1945)+1)","v":""},""]
[null,null,null,null,null,null,null,null,null,null,null,null,null,0,{"$f":"IF(N1947=0,\"\",MAX(O$15:O1946)+1)","v":""},""]
[null,null,null,null,null,null,null,null,null,null,null,null,null,0,{"$f":"IF(N1948=0,\"\",MAX(O$15:O1947)+1)","v":""},""]
[null,null,null,null,null,null,null,null,null,null,null,null,null,0,{"$f":"IF(N1949=0,\"\",MAX(O$15:O1948)+1)","v":""},""]
[null,null,null,null,null,null,null,null,null,null,null,null,null,0,{"$f":"IF(N1950=0,\"\",MAX(O$15:O1949)+1)","v":""},""]
[null,null,null,null,null,null,null,null,null,null,null,null,null,0,{"$f":"IF(N1951=0,\"\",MAX(O$15:O1950)+1)","v":""},""]
[null,null,null,null,null,null,null,null,null,null,null,null,null,0,{"$f":"IF(N1952=0,\"\",MAX(O$15:O1951)+1)","v":""},""]
[null,null,null,null,null,null,null,null,null,null,null,null,null,0,{"$f":"IF(N1953=0,\"\",MAX(O$15:O1952)+1)","v":""},""]
[null,null,null,null,null,null,null,null,null,null,null,null,null,0,{"$f":"IF(N1954=0,\"\",MAX(O$15:O1953)+1)","v":""},""]
[null,null,null,null,null,null,null,null,null,null,null,null,null,0,{"$f":"IF(N1955=0,\"\",MAX(O$15:O1954)+1)","v":""},""]
[null,null,null,null,null,null,null,null,null,null,null,null,null,0,{"$f":"IF(N1956=0,\"\",MAX(O$15:O1955)+1)","v":""},""]
[null,null,null,null,null,null,null,null,null,null,null,null,null,0,{"$f":"IF(N1957=0,\"\",MAX(O$15:O1956)+1)","v":""},""]
[null,null,null,null,null,null,null,null,null,null,null,null,null,0,{"$f":"IF(N1958=0,\"\",MAX(O$15:O1957)+1)","v":""},""]
[null,null,null,null,null,null,null,null,null,null,null,null,null,0,{"$f":"IF(N1959=0,\"\",MAX(O$15:O1958)+1)","v":""},""]
[null,null,null,null,null,null,null,null,null,null,null,null,null,0,{"$f":"IF(N1960=0,\"\",MAX(O$15:O1959)+1)","v":""},""]
[null,null,null,null,null,null,null,null,null,null,null,null,null,0,{"$f":"IF(N1961=0,\"\",MAX(O$15:O1960)+1)","v":""},""]
[null,null,null,null,null,null,null,null,null,null,null,null,null,0,{"$f":"IF(N1962=0,\"\",MAX(O$15:O1961)+1)","v":""},""]
[null,null,null,null,null,null,null,null,null,null,null,null,null,0,{"$f":"IF(N1963=0,\"\",MAX(O$15:O1962)+1)","v":""},""]
[null,null,null,null,null,null,null,null,null,null,null,null,null,0,{"$f":"IF(N1964=0,\"\",MAX(O$15:O1963)+1)","v":""},""]
[null,null,null,null,null,null,null,null,null,null,null,null,null,0,{"$f":"IF(N1965=0,\"\",MAX(O$15:O1964)+1)","v":""},""]
[null,null,null,null,null,null,null,null,null,null,null,null,null,0,{"$f":"IF(N1966=0,\"\",MAX(O$15:O1965)+1)","v":""},""]
[null,null,null,null,null,null,null,null,null,null,null,null,null,0,{"$f":"IF(N1967=0,\"\",MAX(O$15:O1966)+1)","v":""},""]
[null,null,null,null,null,null,null,null,null,null,null,null,null,0,{"$f":"IF(N1968=0,\"\",MAX(O$15:O1967)+1)","v":""},""]
[null,null,null,null,null,null,null,null,null,null,null,null,null,0,{"$f":"IF(N1969=0,\"\",MAX(O$15:O1968)+1)","v":""},""]
[null,null,null,null,null,null,null,null,null,null,null,null,null,0,{"$f":"IF(N1970=0,\"\",MAX(O$15:O1969)+1)","v":""},""]
[null,null,null,null,null,null,null,null,null,null,null,null,null,0,{"$f":"IF(N1971=0,\"\",MAX(O$15:O1970)+1)","v":""},""]
[null,null,null,null,null,null,null,null,null,null,null,null,null,0,{"$f":"IF(N1972=0,\"\",MAX(O$15:O1971)+1)","v":""},""]
[null,null,null,null,null,null,null,null,null,null,null,null,null,0,{"$f":"IF(N1973=0,\"\",MAX(O$15:O1972)+1)","v":""},""]
[null,null,null,null,null,null,null,null,null,null,null,null,null,0,{"$f":"IF(N1974=0,\"\",MAX(O$15:O1973)+1)","v":""},""]
[null,null,null,null,null,null,null,null,null,null,null,null,null,0,{"$f":"IF(N1975=0,\"\",MAX(O$15:O1974)+1)","v":""},""]
[null,null,null,null,null,null,null,null,null,null,null,null,null,0,{"$f":"IF(N1976=0,\"\",MAX(O$15:O1975)+1)","v":""},""]
[null,null,null,null,null,null,null,null,null,null,null,null,null,0,{"$f":"IF(N1977=0,\"\",MAX(O$15:O1976)+1)","v":""},""]
[null,null,null,null,null,null,null,null,null,null,null,null,null,{"$f":"IFERROR(M1978*L1978/1000,\"\")","v":0},{"$f":"IF(N1978=0,\"\",MAX(O$15:O1977)+1)","v":""},""]
[null,null,null,null,null,null,null,null,null,null,null,null,null,0,{"$f":"IF(N1979=0,\"\",MAX(O$15:O1978)+1)","v":""},""]
[null,null,null,null,null,null,null,null,null,null,null,null,null,0,{"$f":"IF(N1980=0,\"\",MAX(O$15:O1979)+1)","v":""},""]
[null,null,null,null,null,null,null,null,null,null,null,null,null,0,{"$f":"IF(N1981=0,\"\",MAX(O$15:O1980)+1)","v":""},""]
[null,null,null,null,null,null,null,null,null,null,null,null,null,0,{"$f":"IF(N1982=0,\"\",MAX(O$15:O1981)+1)","v":""},""]
[null,null,null,null,null,null,null,null,null,null,null,null,null,0,{"$f":"IF(N1983=0,\"\",MAX(O$15:O1982)+1)","v":""},""]
[null,null,null,null,null,null,null,null,null,null,null,null,null,0,{"$f":"IF(N1984=0,\"\",MAX(O$15:O1983)+1)","v":""},""]
[null,null,null,null,null,null,null,null,null,null,null,null,null,0,{"$f":"IF(N1985=0,\"\",MAX(O$15:O1984)+1)","v":""},""]
[null,null,null,null,null,null,null,null,null,null,null,null,null,0,{"$f":"IF(N1986=0,\"\",MAX(O$15:O1985)+1)","v":""},""]
[null,null,null,null,null,null,null,null,null,null,null,null,null,0,{"$f":"IF(N1987=0,\"\",MAX(O$15:O1986)+1)","v":""},""]
[null,null,null,null,null,null,null,null,null,null,null,null,null,0,{"$f":"IF(N1988=0,\"\",MAX(O$15:O1987)+1)","v":""},""]
[null,null,null,null,null,null,null,null,null,null,null,null,null,0,{"$f":"IF(N1989=0,\"\",MAX(O$15:O1988)+1)","v":""},""]
[null,null,null,null,null,null,null,null,null,null,null,null,null,0,{"$f":"IF(N1990=0,\"\",MAX(O$15:O1989)+1)","v":""},""]
[null,null,null,null,null,null,null,null,null,null,null,null,null,0,{"$f":"IF(N1991=0,\"\",MAX(O$15:O1990)+1)","v":""},""]
[null,null,null,null,null,null,null,null,null,null,null,null,null,0,{"$f":"IF(N1992=0,\"\",MAX(O$15:O1991)+1)","v":""},""]
[null,null,null,null,null,null,null,null,null,null,null,null,null,0,{"$f":"IF(N1993=0,\"\",MAX(O$15:O1992)+1)","v":""},""]
[null,null,null,null,null,null,null,null,null,null,null,null,null,0,{"$f":"IF(N1994=0,\"\",MAX(O$15:O1993)+1)","v":""},""]
[null,null,null,null,null,null,null,null,null,null,null,null,null,0,{"$f":"IF(N1995=0,\"\",MAX(O$15:O1994)+1)","v":""},""]
[null,null,null,null,null,null,null,null,null,null,null,null,null,0,{"$f":"IF(N1996=0,\"\",MAX(O$15:O1995)+1)","v":""},""]
[null,null,null,null,null,null,null,null,null,null,null,null,null,0,{"$f":"IF(N1997=0,\"\",MAX(O$15:O1996)+1)","v":""},""]
[null,null,null,null,null,null,null,null,null,null,null,null,null,0,{"$f":"IF(N1998=0,\"\",MAX(O$15:O1997)+1)","v":""},""]
[null,null,null,null,null,null,null,null,null,null,null,null,null,0,{"$f":"IF(N1999=0,\"\",MAX(O$15:O1998)+1)","v":""},""]
[null,null,null,null,null,null,null,null,null,null,null,null,null,0,{"$f":"IF(N2000=0,\"\",MAX(O$15:O1999)+1)","v":""},{"$f":"IFERROR(INDEX($N$15:$N$5014,MATCH(ROW()-ROW($O$14),$O$15:$O$5014,0)),\"\")","v":""}]
[null,null,null,null,null,null,null,null,null,null,null,null,null,0,{"$f":"IF(N2001=0,\"\",MAX(O$15:O2000)+1)","v":""},""]
[null,null,null,null,null,null,null,null,null,null,null,null,null,0,{"$f":"IF(N2002=0,\"\",MAX(O$15:O2001)+1)","v":""},""]
[null,null,null,null,null,null,null,null,null,null,null,null,null,0,{"$f":"IF(N2003=0,\"\",MAX(O$15:O2002)+1)","v":""},""]
[null,null,null,null,null,null,null,null,null,null,null,null,null,0,{"$f":"IF(N2004=0,\"\",MAX(O$15:O2003)+1)","v":""},""]
[null,null,null,null,null,null,null,null,null,null,null,null,null,0,{"$f":"IF(N2005=0,\"\",MAX(O$15:O2004)+1)","v":""},""]
[null,null,null,null,null,null,null,null,null,null,null,null,null,0,{"$f":"IF(N2006=0,\"\",MAX(O$15:O2005)+1)","v":""},""]
[null,null,null,null,null,null,null,null,null,null,null,null,null,0,{"$f":"IF(N2007=0,\"\",MAX(O$15:O2006)+1)","v":""},""]
[null,null,null,null,null,null,null,null,null,null,null,null,null,0,{"$f":"IF(N2008=0,\"\",MAX(O$15:O2007)+1)","v":""},""]
[null,null,null,null,null,null,null,null,null,null,null,null,null,0,{"$f":"IF(N2009=0,\"\",MAX(O$15:O2008)+1)","v":""},""]
[null,null,null,null,null,null,null,null,null,null,null,null,null,0,{"$f":"IF(N2010=0,\"\",MAX(O$15:O2009)+1)","v":""},""]
[null,null,null,null,null,null,null,null,null,null,null,null,null,0,{"$f":"IF(N2011=0,\"\",MAX(O$15:O2010)+1)","v":""},""]
[null,null,null,null,null,null,null,null,null,null,null,null,null,0,{"$f":"IF(N2012=0,\"\",MAX(O$15:O2011)+1)","v":""},""]
[null,null,null,null,null,null,null,null,null,null,null,null,null,0,{"$f":"IF(N2013=0,\"\",MAX(O$15:O2012)+1)","v":""},""]
[null,null,null,null,null,null,null,null,null,null,null,null,null,0,{"$f":"IF(N2014=0,\"\",MAX(O$15:O2013)+1)","v":""},""]
[null,null,null,null,null,null,null,null,null,null,null,null,null,0,{"$f":"IF(N2015=0,\"\",MAX(O$15:O2014)+1)","v":""},""]
[null,null,null,null,null,null,null,null,null,null,null,null,null,0,{"$f":"IF(N2016=0,\"\",MAX(O$15:O2015)+1)","v":""},""]
[null,null,null,null,null,null,null,null,null,null,null,null,null,0,{"$f":"IF(N2017=0,\"\",MAX(O$15:O2016)+1)","v":""},""]
[null,null,null,null,null,null,null,null,null,null,null,null,null,0,{"$f":"IF(N2018=0,\"\",MAX(O$15:O2017)+1)","v":""},""]
[null,null,null,null,null,null,null,null,null,null,null,null,null,0,{"$f":"IF(N2019=0,\"\",MAX(O$15:O2018)+1)","v":""},""]
[null,null,null,null,null,null,null,null,null,null,null,null,null,0,{"$f":"IF(N2020=0,\"\",MAX(O$15:O2019)+1)","v":""},""]
[null,null,null,null,null,null,null,null,null,null,null,null,null,0,{"$f":"IF(N2021=0,\"\",MAX(O$15:O2020)+1)","v":""},""]
[null,null,null,null,null,null,null,null,null,null,null,null,null,0,{"$f":"IF(N2022=0,\"\",MAX(O$15:O2021)+1)","v":""},""]
[null,null,null,null,null,null,null,null,null,null,null,null,null,0,{"$f":"IF(N2023=0,\"\",MAX(O$15:O2022)+1)","v":""},""]
[null,null,null,null,null,null,null,null,null,null,null,null,null,0,{"$f":"IF(N2024=0,\"\",MAX(O$15:O2023)+1)","v":""},""]
[null,null,null,null,null,null,null,null,null,null,null,null,null,0,{"$f":"IF(N2025=0,\"\",MAX(O$15:O2024)+1)","v":""},""]
[null,null,null,null,null,null,null,null,null,null,null,null,null,0,{"$f":"IF(N2026=0,\"\",MAX(O$15:O2025)+1)","v":""},""]
[null,null,null,null,null,null,null,null,null,null,null,null,null,0,{"$f":"IF(N2027=0,\"\",MAX(O$15:O2026)+1)","v":""},""]
[null,null,null,null,null,null,null,null,null,null,null,null,null,0,{"$f":"IF(N2028=0,\"\",MAX(O$15:O2027)+1)","v":""},""]
[null,null,null,null,null,null,null,null,null,null,null,null,null,0,{"$f":"IF(N2029=0,\"\",MAX(O$15:O2028)+1)","v":""},""]
[null,null,null,null,null,null,null,null,null,null,null,null,null,0,{"$f":"IF(N2030=0,\"\",MAX(O$15:O2029)+1)","v":""},""]
[null,null,null,null,null,null,null,null,null,null,null,null,null,0,{"$f":"IF(N2031=0,\"\",MAX(O$15:O2030)+1)","v":""},""]
[null,null,null,null,null,null,null,null,null,null,null,null,null,0,{"$f":"IF(N2032=0,\"\",MAX(O$15:O2031)+1)","v":""},""]
[null,null,null,null,null,null,null,null,null,null,null,null,null,0,{"$f":"IF(N2033=0,\"\",MAX(O$15:O2032)+1)","v":""},""]
[null,null,null,null,null,null,null,null,null,null,null,null,null,0,{"$f":"IF(N2034=0,\"\",MAX(O$15:O2033)+1)","v":""},""]
[null,null,null,null,null,null,null,null,null,null,null,null,null,0,{"$f":"IF(N2035=0,\"\",MAX(O$15:O2034)+1)","v":""},""]
[null,null,null,null,null,null,null,null,null,null,null,null,null,0,{"$f":"IF(N2036=0,\"\",MAX(O$15:O2035)+1)","v":""},""]
[null,null,null,null,null,null,null,null,null,null,null,null,null,0,{"$f":"IF(N2037=0,\"\",MAX(O$15:O2036)+1)","v":""},""]
[null,null,null,null,null,null,null,null,null,null,null,null,null,0,{"$f":"IF(N2038=0,\"\",MAX(O$15:O2037)+1)","v":""},""]
[null,null,null,null,null,null,null,null,null,null,null,null,null,0,{"$f":"IF(N2039=0,\"\",MAX(O$15:O2038)+1)","v":""},""]
[null,null,null,null,null,null,null,null,null,null,null,null,null,0,{"$f":"IF(N2040=0,\"\",MAX(O$15:O2039)+1)","v":""},""]
[null,null,null,null,null,null,null,null,null,null,null,null,null,0,{"$f":"IF(N2041=0,\"\",MAX(O$15:O2040)+1)","v":""},""]
[null,null,null,null,null,null,null,null,null,null,null,null,null,{"$f":"IFERROR(M2042*L2042/1000,\"\")","v":0},{"$f":"IF(N2042=0,\"\",MAX(O$15:O2041)+1)","v":""},""]
[null,null,null,null,null,null,null,null,null,null,null,null,null,0,{"$f":"IF(N2043=0,\"\",MAX(O$15:O2042)+1)","v":""},""]
[null,null,null,null,null,null,null,null,null,null,null,null,null,0,{"$f":"IF(N2044=0,\"\",MAX(O$15:O2043)+1)","v":""},""]
[null,null,null,null,null,null,null,null,null,null,null,null,null,0,{"$f":"IF(N2045=0,\"\",MAX(O$15:O2044)+1)","v":""},""]
[null,null,null,null,null,null,null,null,null,null,null,null,null,0,{"$f":"IF(N2046=0,\"\",MAX(O$15:O2045)+1)","v":""},""]
[null,null,null,null,null,null,null,null,null,null,null,null,null,0,{"$f":"IF(N2047=0,\"\",MAX(O$15:O2046)+1)","v":""},""]
[null,null,null,null,null,null,null,null,null,null,null,null,null,0,{"$f":"IF(N2048=0,\"\",MAX(O$15:O2047)+1)","v":""},""]
[null,null,null,null,null,null,null,null,null,null,null,null,null,0,{"$f":"IF(N2049=0,\"\",MAX(O$15:O2048)+1)","v":""},""]
[null,null,null,null,null,null,null,null,null,null,null,null,null,0,{"$f":"IF(N2050=0,\"\",MAX(O$15:O2049)+1)","v":""},""]
[null,null,null,null,null,null,null,null,null,null,null,null,null,0,{"$f":"IF(N2051=0,\"\",MAX(O$15:O2050)+1)","v":""},""]
[null,null,null,null,null,null,null,null,null,null,null,null,null,0,{"$f":"IF(N2052=0,\"\",MAX(O$15:O2051)+1)","v":""},""]
[null,null,null,null,null,null,null,null,null,null,null,null,null,0,{"$f":"IF(N2053=0,\"\",MAX(O$15:O2052)+1)","v":""},""]
[null,null,null,null,null,null,null,null,null,null,null,null,null,0,{"$f":"IF(N2054=0,\"\",MAX(O$15:O2053)+1)","v":""},""]
[null,null,null,null,null,null,null,null,null,null,null,null,null,0,{"$f":"IF(N2055=0,\"\",MAX(O$15:O2054)+1)","v":""},""]
[null,null,null,null,null,null,null,null,null,null,null,null,null,0,{"$f":"IF(N2056=0,\"\",MAX(O$15:O2055)+1)","v":""},""]
[null,null,null,null,null,null,null,null,null,null,null,null,null,0,{"$f":"IF(N2057=0,\"\",MAX(O$15:O2056)+1)","v":""},""]
[null,null,null,null,null,null,null,null,null,null,null,null,null,0,{"$f":"IF(N2058=0,\"\",MAX(O$15:O2057)+1)","v":""},""]
[null,null,null,null,null,null,null,null,null,null,null,null,null,0,{"$f":"IF(N2059=0,\"\",MAX(O$15:O2058)+1)","v":""},""]
[null,null,null,null,null,null,null,null,null,null,null,null,null,0,{"$f":"IF(N2060=0,\"\",MAX(O$15:O2059)+1)","v":""},""]
[null,null,null,null,null,null,null,null,null,null,null,null,null,0,{"$f":"IF(N2061=0,\"\",MAX(O$15:O2060)+1)","v":""},""]
[null,null,null,null,null,null,null,null,null,null,null,null,null,0,{"$f":"IF(N2062=0,\"\",MAX(O$15:O2061)+1)","v":""},""]
[null,null,null,null,null,null,null,null,null,null,null,null,null,0,{"$f":"IF(N2063=0,\"\",MAX(O$15:O2062)+1)","v":""},""]
[null,null,null,null,null,null,null,null,null,null,null,null,null,0,{"$f":"IF(N2064=0,\"\",MAX(O$15:O2063)+1)","v":""},{"$f":"IFERROR(INDEX($N$15:$N$5014,MATCH(ROW()-ROW($O$14),$O$15:$O$5014,0)),\"\")","v":""}]
[null,null,null,null,null,null,null,null,null,null,null,null,null,0,{"$f":"IF(N2065=0,\"\",MAX(O$15:O2064)+1)","v":""},""]
[null,null,null,null,null,null,null,null,null,null,null,null,null,0,{"$f":"IF(N2066=0,\"\",MAX(O$15:O2065)+1)","v":""},""]
[null,null,null,null,null,null,null,null,null,null,null,null,null,0,{"$f":"IF(N2067=0,\"\",MAX(O$15:O2066)+1)","v":""},""]
[null,null,null,null,null,null,null,null,null,null,null,null,null,0,{"$f":"IF(N2068=0,\"\",MAX(O$15:O2067)+1)","v":""},""]
[null,null,null,null,null,null,null,null,null,null,null,null,null,0,{"$f":"IF(N2069=0,\"\",MAX(O$15:O2068)+1)","v":""},""]
[null,null,null,null,null,null,null,null,null,null,null,null,null,0,{"$f":"IF(N2070=0,\"\",MAX(O$15:O2069)+1)","v":""},""]
[null,null,null,null,null,null,null,null,null,null,null,null,null,0,{"$f":"IF(N2071=0,\"\",MAX(O$15:O2070)+1)","v":""},""]
[null,null,null,null,null,null,null,null,null,null,null,null,null,0,{"$f":"IF(N2072=0,\"\",MAX(O$15:O2071)+1)","v":""},""]
[null,null,null,null,null,null,null,null,null,null,null,null,null,0,{"$f":"IF(N2073=0,\"\",MAX(O$15:O2072)+1)","v":""},""]
[null,null,null,null,null,null,null,null,null,null,null,null,null,0,{"$f":"IF(N2074=0,\"\",MAX(O$15:O2073)+1)","v":""},""]
[null,null,null,null,null,null,null,null,null,null,null,null,null,0,{"$f":"IF(N2075=0,\"\",MAX(O$15:O2074)+1)","v":""},""]
[null,null,null,null,null,null,null,null,null,null,null,null,null,0,{"$f":"IF(N2076=0,\"\",MAX(O$15:O2075)+1)","v":""},""]
[null,null,null,null,null,null,null,null,null,null,null,null,null,0,{"$f":"IF(N2077=0,\"\",MAX(O$15:O2076)+1)","v":""},""]
[null,null,null,null,null,null,null,null,null,null,null,null,null,0,{"$f":"IF(N2078=0,\"\",MAX(O$15:O2077)+1)","v":""},""]
[null,null,null,null,null,null,null,null,null,null,null,null,null,0,{"$f":"IF(N2079=0,\"\",MAX(O$15:O2078)+1)","v":""},""]
[null,null,null,null,null,null,null,null,null,null,null,null,null,0,{"$f":"IF(N2080=0,\"\",MAX(O$15:O2079)+1)","v":""},""]
[null,null,null,null,null,null,null,null,null,null,null,null,null,0,{"$f":"IF(N2081=0,\"\",MAX(O$15:O2080)+1)","v":""},""]
[null,null,null,null,null,null,null,null,null,null,null,null,null,0,{"$f":"IF(N2082=0,\"\",MAX(O$15:O2081)+1)","v":""},""]
[null,null,null,null,null,null,null,null,null,null,null,null,null,0,{"$f":"IF(N2083=0,\"\",MAX(O$15:O2082)+1)","v":""},""]
[null,null,null,null,null,null,null,null,null,null,null,null,null,0,{"$f":"IF(N2084=0,\"\",MAX(O$15:O2083)+1)","v":""},""]
[null,null,null,null,null,null,null,null,null,null,null,null,null,0,{"$f":"IF(N2085=0,\"\",MAX(O$15:O2084)+1)","v":""},""]
[null,null,null,null,null,null,null,null,null,null,null,null,null,0,{"$f":"IF(N2086=0,\"\",MAX(O$15:O2085)+1)","v":""},""]
[null,null,null,null,null,null,null,null,null,null,null,null,null,0,{"$f":"IF(N2087=0,\"\",MAX(O$15:O2086)+1)","v":""},""]
[null,null,null,null,null,null,null,null,null,null,null,null,null,0,{"$f":"IF(N2088=0,\"\",MAX(O$15:O2087)+1)","v":""},""]
[null,null,null,null,null,null,null,null,null,null,null,null,null,0,{"$f":"IF(N2089=0,\"\",MAX(O$15:O2088)+1)","v":""},""]
[null,null,null,null,null,null,null,null,null,null,null,null,null,0,{"$f":"IF(N2090=0,\"\",MAX(O$15:O2089)+1)","v":""},""]
[null,null,null,null,null,null,null,null,null,null,null,null,null,0,{"$f":"IF(N2091=0,\"\",MAX(O$15:O2090)+1)","v":""},""]
[null,null,null,null,null,null,null,null,null,null,null,null,null,0,{"$f":"IF(N2092=0,\"\",MAX(O$15:O2091)+1)","v":""},""]
[null,null,null,null,null,null,null,null,null,null,null,null,null,0,{"$f":"IF(N2093=0,\"\",MAX(O$15:O2092)+1)","v":""},""]
[null,null,null,null,null,null,null,null,null,null,null,null,null,0,{"$f":"IF(N2094=0,\"\",MAX(O$15:O2093)+1)","v":""},""]
[null,null,null,null,null,null,null,null,null,null,null,null,null,0,{"$f":"IF(N2095=0,\"\",MAX(O$15:O2094)+1)","v":""},""]
[null,null,null,null,null,null,null,null,null,null,null,null,null,0,{"$f":"IF(N2096=0,\"\",MAX(O$15:O2095)+1)","v":""},""]
[null,null,null,null,null,null,null,null,null,null,null,null,null,0,{"$f":"IF(N2097=0,\"\",MAX(O$15:O2096)+1)","v":""},""]
[null,null,null,null,null,null,null,null,null,null,null,null,null,0,{"$f":"IF(N2098=0,\"\",MAX(O$15:O2097)+1)","v":""},""]
[null,null,null,null,null,null,null,null,null,null,null,null,null,0,{"$f":"IF(N2099=0,\"\",MAX(O$15:O2098)+1)","v":""},""]
[null,null,null,null,null,null,null,null,null,null,null,null,null,0,{"$f":"IF(N2100=0,\"\",MAX(O$15:O2099)+1)","v":""},""]
[null,null,null,null,null,null,null,null,null,null,null,null,null,0,{"$f":"IF(N2101=0,\"\",MAX(O$15:O2100)+1)","v":""},""]
[null,null,null,null,null,null,null,null,null,null,null,null,null,0,{"$f":"IF(N2102=0,\"\",MAX(O$15:O2101)+1)","v":""},""]
[null,null,null,null,null,null,null,null,null,null,null,null,null,0,{"$f":"IF(N2103=0,\"\",MAX(O$15:O2102)+1)","v":""},""]
[null,null,null,null,null,null,null,null,null,null,null,null,null,0,{"$f":"IF(N2104=0,\"\",MAX(O$15:O2103)+1)","v":""},""]
[null,null,null,null,null,null,null,null,null,null,null,null,null,0,{"$f":"IF(N2105=0,\"\",MAX(O$15:O2104)+1)","v":""},""]
[null,null,null,null,null,null,null,null,null,null,null,null,null,{"$f":"IFERROR(M2106*L2106/1000,\"\")","v":0},{"$f":"IF(N2106=0,\"\",MAX(O$15:O2105)+1)","v":""},""]
[null,null,null,null,null,null,null,null,null,null,null,null,null,0,{"$f":"IF(N2107=0,\"\",MAX(O$15:O2106)+1)","v":""},""]
[null,null,null,null,null,null,null,null,null,null,null,null,null,0,{"$f":"IF(N2108=0,\"\",MAX(O$15:O2107)+1)","v":""},""]
[null,null,null,null,null,null,null,null,null,null,null,null,null,0,{"$f":"IF(N2109=0,\"\",MAX(O$15:O2108)+1)","v":""},""]
[null,null,null,null,null,null,null,null,null,null,null,null,null,0,{"$f":"IF(N2110=0,\"\",MAX(O$15:O2109)+1)","v":""},""]
[null,null,null,null,null,null,null,null,null,null,null,null,null,0,{"$f":"IF(N2111=0,\"\",MAX(O$15:O2110)+1)","v":""},""]
[null,null,null,null,null,null,null,null,null,null,null,null,null,0,{"$f":"IF(N2112=0,\"\",MAX(O$15:O2111)+1)","v":""},""]
[null,null,null,null,null,null,null,null,null,null,null,null,null,0,{"$f":"IF(N2113=0,\"\",MAX(O$15:O2112)+1)","v":""},""]
[null,null,null,null,null,null,null,null,null,null,null,null,null,0,{"$f":"IF(N2114=0,\"\",MAX(O$15:O2113)+1)","v":""},""]
[null,null,null,null,null,null,null,null,null,null,null,null,null,0,{"$f":"IF(N2115=0,\"\",MAX(O$15:O2114)+1)","v":""},""]
[null,null,null,null,null,null,null,null,null,null,null,null,null,0,{"$f":"IF(N2116=0,\"\",MAX(O$15:O2115)+1)","v":""},""]
[null,null,null,null,null,null,null,null,null,null,null,null,null,0,{"$f":"IF(N2117=0,\"\",MAX(O$15:O2116)+1)","v":""},""]
[null,null,null,null,null,null,null,null,null,null,null,null,null,0,{"$f":"IF(N2118=0,\"\",MAX(O$15:O2117)+1)","v":""},""]
[null,null,null,null,null,null,null,null,null,null,null,null,null,0,{"$f":"IF(N2119=0,\"\",MAX(O$15:O2118)+1)","v":""},""]
[null,null,null,null,null,null,null,null,null,null,null,null,null,0,{"$f":"IF(N2120=0,\"\",MAX(O$15:O2119)+1)","v":""},""]
[null,null,null,null,null,null,null,null,null,null,null,null,null,0,{"$f":"IF(N2121=0,\"\",MAX(O$15:O2120)+1)","v":""},""]
[null,null,null,null,null,null,null,null,null,null,null,null,null,0,{"$f":"IF(N2122=0,\"\",MAX(O$15:O2121)+1)","v":""},""]
[null,null,null,null,null,null,null,null,null,null,null,null,null,0,{"$f":"IF(N2123=0,\"\",MAX(O$15:O2122)+1)","v":""},""]
[null,null,null,null,null,null,null,null,null,null,null,null,null,0,{"$f":"IF(N2124=0,\"\",MAX(O$15:O2123)+1)","v":""},""]
[null,null,null,null,null,null,null,null,null,null,null,null,null,0,{"$f":"IF(N2125=0,\"\",MAX(O$15:O2124)+1)","v":""},""]
[null,null,null,null,null,null,null,null,null,null,null,null,null,0,{"$f":"IF(N2126=0,\"\",MAX(O$15:O2125)+1)","v":""},""]
[null,null,null,null,null,null,null,null,null,null,null,null,null,0,{"$f":"IF(N2127=0,\"\",MAX(O$15:O2126)+1)","v":""},""]
[null,null,null,null,null,null,null,null,null,null,null,null,null,0,{"$f":"IF(N2128=0,\"\",MAX(O$15:O2127)+1)","v":""},{"$f":"IFERROR(INDEX($N$15:$N$5014,MATCH(ROW()-ROW($O$14),$O$15:$O$5014,0)),\"\")","v":""}]
[null,null,null,null,null,null,null,null,null,null,null,null,null,0,{"$f":"IF(N2129=0,\"\",MAX(O$15:O2128)+1)","v":""},""]
[null,null,null,null,null,null,null,null,null,null,null,null,null,0,{"$f":"IF(N2130=0,\"\",MAX(O$15:O2129)+1)","v":""},""]
[null,null,null,null,null,null,null,null,null,null,null,null,null,0,{"$f":"IF(N2131=0,\"\",MAX(O$15:O2130)+1)","v":""},""]
[null,null,null,null,null,null,null,null,null,null,null,null,null,0,{"$f":"IF(N2132=0,\"\",MAX(O$15:O2131)+1)","v":""},""]
[null,null,null,null,null,null,null,null,null,null,null,null,null,0,{"$f":"IF(N2133=0,\"\",MAX(O$15:O2132)+1)","v":""},""]
[null,null,null,null,null,null,null,null,null,null,null,null,null,0,{"$f":"IF(N2134=0,\"\",MAX(O$15:O2133)+1)","v":""},""]
[null,null,null,null,null,null,null,null,null,null,null,null,null,0,{"$f":"IF(N2135=0,\"\",MAX(O$15:O2134)+1)","v":""},""]
[null,null,null,null,null,null,null,null,null,null,null,null,null,0,{"$f":"IF(N2136=0,\"\",MAX(O$15:O2135)+1)","v":""},""]
[null,null,null,null,null,null,null,null,null,null,null,null,null,0,{"$f":"IF(N2137=0,\"\",MAX(O$15:O2136)+1)","v":""},""]
[null,null,null,null,null,null,null,null,null,null,null,null,null,0,{"$f":"IF(N2138=0,\"\",MAX(O$15:O2137)+1)","v":""},""]
[null,null,null,null,null,null,null,null,null,null,null,null,null,0,{"$f":"IF(N2139=0,\"\",MAX(O$15:O2138)+1)","v":""},""]
[null,null,null,null,null,null,null,null,null,null,null,null,null,0,{"$f":"IF(N2140=0,\"\",MAX(O$15:O2139)+1)","v":""},""]
[null,null,null,null,null,null,null,null,null,null,null,null,null,0,{"$f":"IF(N2141=0,\"\",MAX(O$15:O2140)+1)","v":""},""]
[null,null,null,null,null,null,null,null,null,null,null,null,null,0,{"$f":"IF(N2142=0,\"\",MAX(O$15:O2141)+1)","v":""},""]
[null,null,null,null,null,null,null,null,null,null,null,null,null,0,{"$f":"IF(N2143=0,\"\",MAX(O$15:O2142)+1)","v":""},""]
[null,null,null,null,null,null,null,null,null,null,null,null,null,0,{"$f":"IF(N2144=0,\"\",MAX(O$15:O2143)+1)","v":""},""]
[null,null,null,null,null,null,null,null,null,null,null,null,null,0,{"$f":"IF(N2145=0,\"\",MAX(O$15:O2144)+1)","v":""},""]
[null,null,null,null,null,null,null,null,null,null,null,null,null,0,{"$f":"IF(N2146=0,\"\",MAX(O$15:O2145)+1)","v":""},""]
[null,null,null,null,null,null,null,null,null,null,null,null,null,0,{"$f":"IF(N2147=0,\"\",MAX(O$15:O2146)+1)","v":""},""]
[null,null,null,null,null,null,null,null,null,null,null,null,null,0,{"$f":"IF(N2148=0,\"\",MAX(O$15:O2147)+1)","v":""},""]
[null,null,null,null,null,null,null,null,null,null,null,null,null,0,{"$f":"IF(N2149=0,\"\",MAX(O$15:O2148)+1)","v":""},""]
[null,null,null,null,null,null,null,null,null,null,null,null,null,0,{"$f":"IF(N2150=0,\"\",MAX(O$15:O2149)+1)","v":""},""]
[null,null,null,null,null,null,null,null,null,null,null,null,null,0,{"$f":"IF(N2151=0,\"\",MAX(O$15:O2150)+1)","v":""},""]
[null,null,null,null,null,null,null,null,null,null,null,null,null,0,{"$f":"IF(N2152=0,\"\",MAX(O$15:O2151)+1)","v":""},""]
[null,null,null,null,null,null,null,null,null,null,null,null,null,0,{"$f":"IF(N2153=0,\"\",MAX(O$15:O2152)+1)","v":""},""]
[null,null,null,null,null,null,null,null,null,null,null,null,null,0,{"$f":"IF(N2154=0,\"\",MAX(O$15:O2153)+1)","v":""},""]
[null,null,null,null,null,null,null,null,null,null,null,null,null,0,{"$f":"IF(N2155=0,\"\",MAX(O$15:O2154)+1)","v":""},""]
[null,null,null,null,null,null,null,null,null,null,null,null,null,0,{"$f":"IF(N2156=0,\"\",MAX(O$15:O2155)+1)","v":""},""]
[null,null,null,null,null,null,null,null,null,null,null,null,null,0,{"$f":"IF(N2157=0,\"\",MAX(O$15:O2156)+1)","v":""},""]
[null,null,null,null,null,null,null,null,null,null,null,null,null,0,{"$f":"IF(N2158=0,\"\",MAX(O$15:O2157)+1)","v":""},""]
[null,null,null,null,null,null,null,null,null,null,null,null,null,0,{"$f":"IF(N2159=0,\"\",MAX(O$15:O2158)+1)","v":""},""]
[null,null,null,null,null,null,null,null,null,null,null,null,null,0,{"$f":"IF(N2160=0,\"\",MAX(O$15:O2159)+1)","v":""},""]
[null,null,null,null,null,null,null,null,null,null,null,null,null,0,{"$f":"IF(N2161=0,\"\",MAX(O$15:O2160)+1)","v":""},""]
[null,null,null,null,null,null,null,null,null,null,null,null,null,0,{"$f":"IF(N2162=0,\"\",MAX(O$15:O2161)+1)","v":""},""]
[null,null,null,null,null,null,null,null,null,null,null,null,null,0,{"$f":"IF(N2163=0,\"\",MAX(O$15:O2162)+1)","v":""},""]
[null,null,null,null,null,null,null,null,null,null,null,null,null,0,{"$f":"IF(N2164=0,\"\",MAX(O$15:O2163)+1)","v":""},""]
[null,null,null,null,null,null,null,null,null,null,null,null,null,0,{"$f":"IF(N2165=0,\"\",MAX(O$15:O2164)+1)","v":""},""]
[null,null,null,null,null,null,null,null,null,null,null,null,null,0,{"$f":"IF(N2166=0,\"\",MAX(O$15:O2165)+1)","v":""},""]
[null,null,null,null,null,null,null,null,null,null,null,null,null,0,{"$f":"IF(N2167=0,\"\",MAX(O$15:O2166)+1)","v":""},""]
[null,null,null,null,null,null,null,null,null,null,null,null,null,0,{"$f":"IF(N2168=0,\"\",MAX(O$15:O2167)+1)","v":""},""]
[null,null,null,null,null,null,null,null,null,null,null,null,null,0,{"$f":"IF(N2169=0,\"\",MAX(O$15:O2168)+1)","v":""},""]
[null,null,null,null,null,null,null,null,null,null,null,null,null,{"$f":"IFERROR(M2170*L2170/1000,\"\")","v":0},{"$f":"IF(N2170=0,\"\",MAX(O$15:O2169)+1)","v":""},""]
[null,null,null,null,null,null,null,null,null,null,null,null,null,0,{"$f":"IF(N2171=0,\"\",MAX(O$15:O2170)+1)","v":""},""]
[null,null,null,null,null,null,null,null,null,null,null,null,null,0,{"$f":"IF(N2172=0,\"\",MAX(O$15:O2171)+1)","v":""},""]
[null,null,null,null,null,null,null,null,null,null,null,null,null,0,{"$f":"IF(N2173=0,\"\",MAX(O$15:O2172)+1)","v":""},""]
[null,null,null,null,null,null,null,null,null,null,null,null,null,0,{"$f":"IF(N2174=0,\"\",MAX(O$15:O2173)+1)","v":""},""]
[null,null,null,null,null,null,null,null,null,null,null,null,null,0,{"$f":"IF(N2175=0,\"\",MAX(O$15:O2174)+1)","v":""},""]
[null,null,null,null,null,null,null,null,null,null,null,null,null,0,{"$f":"IF(N2176=0,\"\",MAX(O$15:O2175)+1)","v":""},""]
[null,null,null,null,null,null,null,null,null,null,null,null,null,0,{"$f":"IF(N2177=0,\"\",MAX(O$15:O2176)+1)","v":""},""]
[null,null,null,null,null,null,null,null,null,null,null,null,null,0,{"$f":"IF(N2178=0,\"\",MAX(O$15:O2177)+1)","v":""},""]
[null,null,null,null,null,null,null,null,null,null,null,null,null,0,{"$f":"IF(N2179=0,\"\",MAX(O$15:O2178)+1)","v":""},""]
[null,null,null,null,null,null,null,null,null,null,null,null,null,0,{"$f":"IF(N2180=0,\"\",MAX(O$15:O2179)+1)","v":""},""]
[null,null,null,null,null,null,null,null,null,null,null,null,null,0,{"$f":"IF(N2181=0,\"\",MAX(O$15:O2180)+1)","v":""},""]
[null,null,null,null,null,null,null,null,null,null,null,null,null,0,{"$f":"IF(N2182=0,\"\",MAX(O$15:O2181)+1)","v":""},""]
[null,null,null,null,null,null,null,null,null,null,null,null,null,0,{"$f":"IF(N2183=0,\"\",MAX(O$15:O2182)+1)","v":""},""]
[null,null,null,null,null,null,null,null,null,null,null,null,null,0,{"$f":"IF(N2184=0,\"\",MAX(O$15:O2183)+1)","v":""},""]
[null,null,null,null,null,null,null,null,null,null,null,null,null,0,{"$f":"IF(N2185=0,\"\",MAX(O$15:O2184)+1)","v":""},""]
[null,null,null,null,null,null,null,null,null,null,null,null,null,0,{"$f":"IF(N2186=0,\"\",MAX(O$15:O2185)+1)","v":""},""]
[null,null,null,null,null,null,null,null,null,null,null,null,null,0,{"$f":"IF(N2187=0,\"\",MAX(O$15:O2186)+1)","v":""},""]
[null,null,null,null,null,null,null,null,null,null,null,null,null,0,{"$f":"IF(N2188=0,\"\",MAX(O$15:O2187)+1)","v":""},""]
[null,null,null,null,null,null,null,null,null,null,null,null,null,0,{"$f":"IF(N2189=0,\"\",MAX(O$15:O2188)+1)","v":""},""]
[null,null,null,null,null,null,null,null,null,null,null,null,null,0,{"$f":"IF(N2190=0,\"\",MAX(O$15:O2189)+1)","v":""},""]
[null,null,null,null,null,null,null,null,null,null,null,null,null,0,{"$f":"IF(N2191=0,\"\",MAX(O$15:O2190)+1)","v":""},""]
[null,null,null,null,null,null,null,null,null,null,null,null,null,0,{"$f":"IF(N2192=0,\"\",MAX(O$15:O2191)+1)","v":""},{"$f":"IFERROR(INDEX($N$15:$N$5014,MATCH(ROW()-ROW($O$14),$O$15:$O$5014,0)),\"\")","v":""}]
[null,null,null,null,null,null,null,null,null,null,null,null,null,0,{"$f":"IF(N2193=0,\"\",MAX(O$15:O2192)+1)","v":""},""]
[null,null,null,null,null,null,null,null,null,null,null,null,null,0,{"$f":"IF(N2194=0,\"\",MAX(O$15:O2193)+1)","v":""},""]
[null,null,null,null,null,null,null,null,null,null,null,null,null,0,{"$f":"IF(N2195=0,\"\",MAX(O$15:O2194)+1)","v":""},""]
[null,null,null,null,null,null,null,null,null,null,null,null,null,0,{"$f":"IF(N2196=0,\"\",MAX(O$15:O2195)+1)","v":""},""]
[null,null,null,null,null,null,null,null,null,null,null,null,null,0,{"$f":"IF(N2197=0,\"\",MAX(O$15:O2196)+1)","v":""},""]
[null,null,null,null,null,null,null,null,null,null,null,null,null,0,{"$f":"IF(N2198=0,\"\",MAX(O$15:O2197)+1)","v":""},""]
[null,null,null,null,null,null,null,null,null,null,null,null,null,0,{"$f":"IF(N2199=0,\"\",MAX(O$15:O2198)+1)","v":""},""]
[null,null,null,null,null,null,null,null,null,null,null,null,null,0,{"$f":"IF(N2200=0,\"\",MAX(O$15:O2199)+1)","v":""},""]
[null,null,null,null,null,null,null,null,null,null,null,null,null,0,{"$f":"IF(N2201=0,\"\",MAX(O$15:O2200)+1)","v":""},""]
[null,null,null,null,null,null,null,null,null,null,null,null,null,0,{"$f":"IF(N2202=0,\"\",MAX(O$15:O2201)+1)","v":""},""]
[null,null,null,null,null,null,null,null,null,null,null,null,null,0,{"$f":"IF(N2203=0,\"\",MAX(O$15:O2202)+1)","v":""},""]
[null,null,null,null,null,null,null,null,null,null,null,null,null,0,{"$f":"IF(N2204=0,\"\",MAX(O$15:O2203)+1)","v":""},""]
[null,null,null,null,null,null,null,null,null,null,null,null,null,0,{"$f":"IF(N2205=0,\"\",MAX(O$15:O2204)+1)","v":""},""]
[null,null,null,null,null,null,null,null,null,null,null,null,null,0,{"$f":"IF(N2206=0,\"\",MAX(O$15:O2205)+1)","v":""},""]
[null,null,null,null,null,null,null,null,null,null,null,null,null,0,{"$f":"IF(N2207=0,\"\",MAX(O$15:O2206)+1)","v":""},""]
[null,null,null,null,null,null,null,null,null,null,null,null,null,0,{"$f":"IF(N2208=0,\"\",MAX(O$15:O2207)+1)","v":""},""]
[null,null,null,null,null,null,null,null,null,null,null,null,null,0,{"$f":"IF(N2209=0,\"\",MAX(O$15:O2208)+1)","v":""},""]
[null,null,null,null,null,null,null,null,null,null,null,null,null,0,{"$f":"IF(N2210=0,\"\",MAX(O$15:O2209)+1)","v":""},""]
[null,null,null,null,null,null,null,null,null,null,null,null,null,0,{"$f":"IF(N2211=0,\"\",MAX(O$15:O2210)+1)","v":""},""]
[null,null,null,null,null,null,null,null,null,null,null,null,null,0,{"$f":"IF(N2212=0,\"\",MAX(O$15:O2211)+1)","v":""},""]
[null,null,null,null,null,null,null,null,null,null,null,null,null,0,{"$f":"IF(N2213=0,\"\",MAX(O$15:O2212)+1)","v":""},""]
[null,null,null,null,null,null,null,null,null,null,null,null,null,0,{"$f":"IF(N2214=0,\"\",MAX(O$15:O2213)+1)","v":""},""]
[null,null,null,null,null,null,null,null,null,null,null,null,null,0,{"$f":"IF(N2215=0,\"\",MAX(O$15:O2214)+1)","v":""},""]
[null,null,null,null,null,null,null,null,null,null,null,null,null,0,{"$f":"IF(N2216=0,\"\",MAX(O$15:O2215)+1)","v":""},""]
[null,null,null,null,null,null,null,null,null,null,null,null,null,0,{"$f":"IF(N2217=0,\"\",MAX(O$15:O2216)+1)","v":""},""]
[null,null,null,null,null,null,null,null,null,null,null,null,null,0,{"$f":"IF(N2218=0,\"\",MAX(O$15:O2217)+1)","v":""},""]
[null,null,null,null,null,null,null,null,null,null,null,null,null,0,{"$f":"IF(N2219=0,\"\",MAX(O$15:O2218)+1)","v":""},""]
[null,null,null,null,null,null,null,null,null,null,null,null,null,0,{"$f":"IF(N2220=0,\"\",MAX(O$15:O2219)+1)","v":""},""]
[null,null,null,null,null,null,null,null,null,null,null,null,null,0,{"$f":"IF(N2221=0,\"\",MAX(O$15:O2220)+1)","v":""},""]
[null,null,null,null,null,null,null,null,null,null,null,null,null,0,{"$f":"IF(N2222=0,\"\",MAX(O$15:O2221)+1)","v":""},""]
[null,null,null,null,null,null,null,null,null,null,null,null,null,0,{"$f":"IF(N2223=0,\"\",MAX(O$15:O2222)+1)","v":""},""]
[null,null,null,null,null,null,null,null,null,null,null,null,null,0,{"$f":"IF(N2224=0,\"\",MAX(O$15:O2223)+1)","v":""},""]
[null,null,null,null,null,null,null,null,null,null,null,null,null,0,{"$f":"IF(N2225=0,\"\",MAX(O$15:O2224)+1)","v":""},""]
[null,null,null,null,null,null,null,null,null,null,null,null,null,0,{"$f":"IF(N2226=0,\"\",MAX(O$15:O2225)+1)","v":""},""]
[null,null,null,null,null,null,null,null,null,null,null,null,null,0,{"$f":"IF(N2227=0,\"\",MAX(O$15:O2226)+1)","v":""},""]
[null,null,null,null,null,null,null,null,null,null,null,null,null,0,{"$f":"IF(N2228=0,\"\",MAX(O$15:O2227)+1)","v":""},""]
[null,null,null,null,null,null,null,null,null,null,null,null,null,0,{"$f":"IF(N2229=0,\"\",MAX(O$15:O2228)+1)","v":""},""]
[null,null,null,null,null,null,null,null,null,null,null,null,null,0,{"$f":"IF(N2230=0,\"\",MAX(O$15:O2229)+1)","v":""},""]
[null,null,null,null,null,null,null,null,null,null,null,null,null,0,{"$f":"IF(N2231=0,\"\",MAX(O$15:O2230)+1)","v":""},""]
[null,null,null,null,null,null,null,null,null,null,null,null,null,0,{"$f":"IF(N2232=0,\"\",MAX(O$15:O2231)+1)","v":""},""]
[null,null,null,null,null,null,null,null,null,null,null,null,null,0,{"$f":"IF(N2233=0,\"\",MAX(O$15:O2232)+1)","v":""},""]
[null,null,null,null,null,null,null,null,null,null,null,null,null,{"$f":"IFERROR(M2234*L2234/1000,\"\")","v":0},{"$f":"IF(N2234=0,\"\",MAX(O$15:O2233)+1)","v":""},""]
[null,null,null,null,null,null,null,null,null,null,null,null,null,0,{"$f":"IF(N2235=0,\"\",MAX(O$15:O2234)+1)","v":""},""]
[null,null,null,null,null,null,null,null,null,null,null,null,null,0,{"$f":"IF(N2236=0,\"\",MAX(O$15:O2235)+1)","v":""},""]
[null,null,null,null,null,null,null,null,null,null,null,null,null,0,{"$f":"IF(N2237=0,\"\",MAX(O$15:O2236)+1)","v":""},""]
[null,null,null,null,null,null,null,null,null,null,null,null,null,0,{"$f":"IF(N2238=0,\"\",MAX(O$15:O2237)+1)","v":""},""]
[null,null,null,null,null,null,null,null,null,null,null,null,null,0,{"$f":"IF(N2239=0,\"\",MAX(O$15:O2238)+1)","v":""},""]
[null,null,null,null,null,null,null,null,null,null,null,null,null,0,{"$f":"IF(N2240=0,\"\",MAX(O$15:O2239)+1)","v":""},""]
[null,null,null,null,null,null,null,null,null,null,null,null,null,0,{"$f":"IF(N2241=0,\"\",MAX(O$15:O2240)+1)","v":""},""]
[null,null,null,null,null,null,null,null,null,null,null,null,null,0,{"$f":"IF(N2242=0,\"\",MAX(O$15:O2241)+1)","v":""},""]
[null,null,null,null,null,null,null,null,null,null,null,null,null,0,{"$f":"IF(N2243=0,\"\",MAX(O$15:O2242)+1)","v":""},""]
[null,null,null,null,null,null,null,null,null,null,null,null,null,0,{"$f":"IF(N2244=0,\"\",MAX(O$15:O2243)+1)","v":""},""]
[null,null,null,null,null,null,null,null,null,null,null,null,null,0,{"$f":"IF(N2245=0,\"\",MAX(O$15:O2244)+1)","v":""},""]
[null,null,null,null,null,null,null,null,null,null,null,null,null,0,{"$f":"IF(N2246=0,\"\",MAX(O$15:O2245)+1)","v":""},""]
[null,null,null,null,null,null,null,null,null,null,null,null,null,0,{"$f":"IF(N2247=0,\"\",MAX(O$15:O2246)+1)","v":""},""]
[null,null,null,null,null,null,null,null,null,null,null,null,null,0,{"$f":"IF(N2248=0,\"\",MAX(O$15:O2247)+1)","v":""},""]
[null,null,null,null,null,null,null,null,null,null,null,null,null,0,{"$f":"IF(N2249=0,\"\",MAX(O$15:O2248)+1)","v":""},""]
[null,null,null,null,null,null,null,null,null,null,null,null,null,0,{"$f":"IF(N2250=0,\"\",MAX(O$15:O2249)+1)","v":""},""]
[null,null,null,null,null,null,null,null,null,null,null,null,null,0,{"$f":"IF(N2251=0,\"\",MAX(O$15:O2250)+1)","v":""},""]
[null,null,null,null,null,null,null,null,null,null,null,null,null,0,{"$f":"IF(N2252=0,\"\",MAX(O$15:O2251)+1)","v":""},""]
[null,null,null,null,null,null,null,null,null,null,null,null,null,0,{"$f":"IF(N2253=0,\"\",MAX(O$15:O2252)+1)","v":""},""]
[null,null,null,null,null,null,null,null,null,null,null,null,null,0,{"$f":"IF(N2254=0,\"\",MAX(O$15:O2253)+1)","v":""},""]
[null,null,null,null,null,null,null,null,null,null,null,null,null,0,{"$f":"IF(N2255=0,\"\",MAX(O$15:O2254)+1)","v":""},""]
[null,null,null,null,null,null,null,null,null,null,null,null,null,0,{"$f":"IF(N2256=0,\"\",MAX(O$15:O2255)+1)","v":""},{"$f":"IFERROR(INDEX($N$15:$N$5014,MATCH(ROW()-ROW($O$14),$O$15:$O$5014,0)),\"\")","v":""}]
[null,null,null,null,null,null,null,null,null,null,null,null,null,0,{"$f":"IF(N2257=0,\"\",MAX(O$15:O2256)+1)","v":""},""]
[null,null,null,null,null,null,null,null,null,null,null,null,null,0,{"$f":"IF(N2258=0,\"\",MAX(O$15:O2257)+1)","v":""},""]
[null,null,null,null,null,null,null,null,null,null,null,null,null,0,{"$f":"IF(N2259=0,\"\",MAX(O$15:O2258)+1)","v":""},""]
[null,null,null,null,null,null,null,null,null,null,null,null,null,0,{"$f":"IF(N2260=0,\"\",MAX(O$15:O2259)+1)","v":""},""]
[null,null,null,null,null,null,null,null,null,null,null,null,null,0,{"$f":"IF(N2261=0,\"\",MAX(O$15:O2260)+1)","v":""},""]
[null,null,null,null,null,null,null,null,null,null,null,null,null,0,{"$f":"IF(N2262=0,\"\",MAX(O$15:O2261)+1)","v":""},""]
[null,null,null,null,null,null,null,null,null,null,null,null,null,0,{"$f":"IF(N2263=0,\"\",MAX(O$15:O2262)+1)","v":""},""]
[null,null,null,null,null,null,null,null,null,null,null,null,null,0,{"$f":"IF(N2264=0,\"\",MAX(O$15:O2263)+1)","v":""},""]
[null,null,null,null,null,null,null,null,null,null,null,null,null,0,{"$f":"IF(N2265=0,\"\",MAX(O$15:O2264)+1)","v":""},""]
[null,null,null,null,null,null,null,null,null,null,null,null,null,0,{"$f":"IF(N2266=0,\"\",MAX(O$15:O2265)+1)","v":""},""]
[null,null,null,null,null,null,null,null,null,null,null,null,null,0,{"$f":"IF(N2267=0,\"\",MAX(O$15:O2266)+1)","v":""},""]
[null,null,null,null,null,null,null,null,null,null,null,null,null,0,{"$f":"IF(N2268=0,\"\",MAX(O$15:O2267)+1)","v":""},""]
[null,null,null,null,null,null,null,null,null,null,null,null,null,0,{"$f":"IF(N2269=0,\"\",MAX(O$15:O2268)+1)","v":""},""]
[null,null,null,null,null,null,null,null,null,null,null,null,null,0,{"$f":"IF(N2270=0,\"\",MAX(O$15:O2269)+1)","v":""},""]
[null,null,null,null,null,null,null,null,null,null,null,null,null,0,{"$f":"IF(N2271=0,\"\",MAX(O$15:O2270)+1)","v":""},""]
[null,null,null,null,null,null,null,null,null,null,null,null,null,0,{"$f":"IF(N2272=0,\"\",MAX(O$15:O2271)+1)","v":""},""]
[null,null,null,null,null,null,null,null,null,null,null,null,null,0,{"$f":"IF(N2273=0,\"\",MAX(O$15:O2272)+1)","v":""},""]
[null,null,null,null,null,null,null,null,null,null,null,null,null,0,{"$f":"IF(N2274=0,\"\",MAX(O$15:O2273)+1)","v":""},""]
[null,null,null,null,null,null,null,null,null,null,null,null,null,0,{"$f":"IF(N2275=0,\"\",MAX(O$15:O2274)+1)","v":""},""]
[null,null,null,null,null,null,null,null,null,null,null,null,null,0,{"$f":"IF(N2276=0,\"\",MAX(O$15:O2275)+1)","v":""},""]
[null,null,null,null,null,null,null,null,null,null,null,null,null,0,{"$f":"IF(N2277=0,\"\",MAX(O$15:O2276)+1)","v":""},""]
[null,null,null,null,null,null,null,null,null,null,null,null,null,0,{"$f":"IF(N2278=0,\"\",MAX(O$15:O2277)+1)","v":""},""]
[null,null,null,null,null,null,null,null,null,null,null,null,null,0,{"$f":"IF(N2279=0,\"\",MAX(O$15:O2278)+1)","v":""},""]
[null,null,null,null,null,null,null,null,null,null,null,null,null,0,{"$f":"IF(N2280=0,\"\",MAX(O$15:O2279)+1)","v":""},""]
[null,null,null,null,null,null,null,null,null,null,null,null,null,0,{"$f":"IF(N2281=0,\"\",MAX(O$15:O2280)+1)","v":""},""]
[null,null,null,null,null,null,null,null,null,null,null,null,null,0,{"$f":"IF(N2282=0,\"\",MAX(O$15:O2281)+1)","v":""},""]
[null,null,null,null,null,null,null,null,null,null,null,null,null,0,{"$f":"IF(N2283=0,\"\",MAX(O$15:O2282)+1)","v":""},""]
[null,null,null,null,null,null,null,null,null,null,null,null,null,0,{"$f":"IF(N2284=0,\"\",MAX(O$15:O2283)+1)","v":""},""]
[null,null,null,null,null,null,null,null,null,null,null,null,null,0,{"$f":"IF(N2285=0,\"\",MAX(O$15:O2284)+1)","v":""},""]
[null,null,null,null,null,null,null,null,null,null,null,null,null,0,{"$f":"IF(N2286=0,\"\",MAX(O$15:O2285)+1)","v":""},""]
[null,null,null,null,null,null,null,null,null,null,null,null,null,0,{"$f":"IF(N2287=0,\"\",MAX(O$15:O2286)+1)","v":""},""]
[null,null,null,null,null,null,null,null,null,null,null,null,null,0,{"$f":"IF(N2288=0,\"\",MAX(O$15:O2287)+1)","v":""},""]
[null,null,null,null,null,null,null,null,null,null,null,null,null,0,{"$f":"IF(N2289=0,\"\",MAX(O$15:O2288)+1)","v":""},""]
[null,null,null,null,null,null,null,null,null,null,null,null,null,0,{"$f":"IF(N2290=0,\"\",MAX(O$15:O2289)+1)","v":""},""]
[null,null,null,null,null,null,null,null,null,null,null,null,null,0,{"$f":"IF(N2291=0,\"\",MAX(O$15:O2290)+1)","v":""},""]
[null,null,null,null,null,null,null,null,null,null,null,null,null,0,{"$f":"IF(N2292=0,\"\",MAX(O$15:O2291)+1)","v":""},""]
[null,null,null,null,null,null,null,null,null,null,null,null,null,0,{"$f":"IF(N2293=0,\"\",MAX(O$15:O2292)+1)","v":""},""]
[null,null,null,null,null,null,null,null,null,null,null,null,null,0,{"$f":"IF(N2294=0,\"\",MAX(O$15:O2293)+1)","v":""},""]
[null,null,null,null,null,null,null,null,null,null,null,null,null,0,{"$f":"IF(N2295=0,\"\",MAX(O$15:O2294)+1)","v":""},""]
[null,null,null,null,null,null,null,null,null,null,null,null,null,0,{"$f":"IF(N2296=0,\"\",MAX(O$15:O2295)+1)","v":""},""]
[null,null,null,null,null,null,null,null,null,null,null,null,null,0,{"$f":"IF(N2297=0,\"\",MAX(O$15:O2296)+1)","v":""},""]
[null,null,null,null,null,null,null,null,null,null,null,null,null,{"$f":"IFERROR(M2298*L2298/1000,\"\")","v":0},{"$f":"IF(N2298=0,\"\",MAX(O$15:O2297)+1)","v":""},""]
[null,null,null,null,null,null,null,null,null,null,null,null,null,0,{"$f":"IF(N2299=0,\"\",MAX(O$15:O2298)+1)","v":""},""]
[null,null,null,null,null,null,null,null,null,null,null,null,null,0,{"$f":"IF(N2300=0,\"\",MAX(O$15:O2299)+1)","v":""},""]
[null,null,null,null,null,null,null,null,null,null,null,null,null,0,{"$f":"IF(N2301=0,\"\",MAX(O$15:O2300)+1)","v":""},""]
[null,null,null,null,null,null,null,null,null,null,null,null,null,0,{"$f":"IF(N2302=0,\"\",MAX(O$15:O2301)+1)","v":""},""]
[null,null,null,null,null,null,null,null,null,null,null,null,null,0,{"$f":"IF(N2303=0,\"\",MAX(O$15:O2302)+1)","v":""},""]
[null,null,null,null,null,null,null,null,null,null,null,null,null,0,{"$f":"IF(N2304=0,\"\",MAX(O$15:O2303)+1)","v":""},""]
[null,null,null,null,null,null,null,null,null,null,null,null,null,0,{"$f":"IF(N2305=0,\"\",MAX(O$15:O2304)+1)","v":""},""]
[null,null,null,null,null,null,null,null,null,null,null,null,null,0,{"$f":"IF(N2306=0,\"\",MAX(O$15:O2305)+1)","v":""},""]
[null,null,null,null,null,null,null,null,null,null,null,null,null,0,{"$f":"IF(N2307=0,\"\",MAX(O$15:O2306)+1)","v":""},""]
[null,null,null,null,null,null,null,null,null,null,null,null,null,0,{"$f":"IF(N2308=0,\"\",MAX(O$15:O2307)+1)","v":""},""]
[null,null,null,null,null,null,null,null,null,null,null,null,null,0,{"$f":"IF(N2309=0,\"\",MAX(O$15:O2308)+1)","v":""},""]
[null,null,null,null,null,null,null,null,null,null,null,null,null,0,{"$f":"IF(N2310=0,\"\",MAX(O$15:O2309)+1)","v":""},""]
[null,null,null,null,null,null,null,null,null,null,null,null,null,0,{"$f":"IF(N2311=0,\"\",MAX(O$15:O2310)+1)","v":""},""]
[null,null,null,null,null,null,null,null,null,null,null,null,null,0,{"$f":"IF(N2312=0,\"\",MAX(O$15:O2311)+1)","v":""},""]
[null,null,null,null,null,null,null,null,null,null,null,null,null,0,{"$f":"IF(N2313=0,\"\",MAX(O$15:O2312)+1)","v":""},""]
[null,null,null,null,null,null,null,null,null,null,null,null,null,0,{"$f":"IF(N2314=0,\"\",MAX(O$15:O2313)+1)","v":""},""]
[null,null,null,null,null,null,null,null,null,null,null,null,null,0,{"$f":"IF(N2315=0,\"\",MAX(O$15:O2314)+1)","v":""},""]
[null,null,null,null,null,null,null,null,null,null,null,null,null,0,{"$f":"IF(N2316=0,\"\",MAX(O$15:O2315)+1)","v":""},""]
[null,null,null,null,null,null,null,null,null,null,null,null,null,0,{"$f":"IF(N2317=0,\"\",MAX(O$15:O2316)+1)","v":""},""]
[null,null,null,null,null,null,null,null,null,null,null,null,null,0,{"$f":"IF(N2318=0,\"\",MAX(O$15:O2317)+1)","v":""},""]
[null,null,null,null,null,null,null,null,null,null,null,null,null,0,{"$f":"IF(N2319=0,\"\",MAX(O$15:O2318)+1)","v":""},""]
[null,null,null,null,null,null,null,null,null,null,null,null,null,0,{"$f":"IF(N2320=0,\"\",MAX(O$15:O2319)+1)","v":""},{"$f":"IFERROR(INDEX($N$15:$N$5014,MATCH(ROW()-ROW($O$14),$O$15:$O$5014,0)),\"\")","v":""}]
[null,null,null,null,null,null,null,null,null,null,null,null,null,0,{"$f":"IF(N2321=0,\"\",MAX(O$15:O2320)+1)","v":""},""]
[null,null,null,null,null,null,null,null,null,null,null,null,null,0,{"$f":"IF(N2322=0,\"\",MAX(O$15:O2321)+1)","v":""},""]
[null,null,null,null,null,null,null,null,null,null,null,null,null,0,{"$f":"IF(N2323=0,\"\",MAX(O$15:O2322)+1)","v":""},""]
[null,null,null,null,null,null,null,null,null,null,null,null,null,0,{"$f":"IF(N2324=0,\"\",MAX(O$15:O2323)+1)","v":""},""]
[null,null,null,null,null,null,null,null,null,null,null,null,null,0,{"$f":"IF(N2325=0,\"\",MAX(O$15:O2324)+1)","v":""},""]
[null,null,null,null,null,null,null,null,null,null,null,null,null,0,{"$f":"IF(N2326=0,\"\",MAX(O$15:O2325)+1)","v":""},""]
[null,null,null,null,null,null,null,null,null,null,null,null,null,0,{"$f":"IF(N2327=0,\"\",MAX(O$15:O2326)+1)","v":""},""]
[null,null,null,null,null,null,null,null,null,null,null,null,null,0,{"$f":"IF(N2328=0,\"\",MAX(O$15:O2327)+1)","v":""},""]
[null,null,null,null,null,null,null,null,null,null,null,null,null,0,{"$f":"IF(N2329=0,\"\",MAX(O$15:O2328)+1)","v":""},""]
[null,null,null,null,null,null,null,null,null,null,null,null,null,0,{"$f":"IF(N2330=0,\"\",MAX(O$15:O2329)+1)","v":""},""]
[null,null,null,null,null,null,null,null,null,null,null,null,null,0,{"$f":"IF(N2331=0,\"\",MAX(O$15:O2330)+1)","v":""},""]
[null,null,null,null,null,null,null,null,null,null,null,null,null,0,{"$f":"IF(N2332=0,\"\",MAX(O$15:O2331)+1)","v":""},""]
[null,null,null,null,null,null,null,null,null,null,null,null,null,0,{"$f":"IF(N2333=0,\"\",MAX(O$15:O2332)+1)","v":""},""]
[null,null,null,null,null,null,null,null,null,null,null,null,null,0,{"$f":"IF(N2334=0,\"\",MAX(O$15:O2333)+1)","v":""},""]
[null,null,null,null,null,null,null,null,null,null,null,null,null,0,{"$f":"IF(N2335=0,\"\",MAX(O$15:O2334)+1)","v":""},""]
[null,null,null,null,null,null,null,null,null,null,null,null,null,0,{"$f":"IF(N2336=0,\"\",MAX(O$15:O2335)+1)","v":""},""]
[null,null,null,null,null,null,null,null,null,null,null,null,null,0,{"$f":"IF(N2337=0,\"\",MAX(O$15:O2336)+1)","v":""},""]
[null,null,null,null,null,null,null,null,null,null,null,null,null,0,{"$f":"IF(N2338=0,\"\",MAX(O$15:O2337)+1)","v":""},""]
[null,null,null,null,null,null,null,null,null,null,null,null,null,0,{"$f":"IF(N2339=0,\"\",MAX(O$15:O2338)+1)","v":""},""]
[null,null,null,null,null,null,null,null,null,null,null,null,null,0,{"$f":"IF(N2340=0,\"\",MAX(O$15:O2339)+1)","v":""},""]
[null,null,null,null,null,null,null,null,null,null,null,null,null,0,{"$f":"IF(N2341=0,\"\",MAX(O$15:O2340)+1)","v":""},""]
[null,null,null,null,null,null,null,null,null,null,null,null,null,0,{"$f":"IF(N2342=0,\"\",MAX(O$15:O2341)+1)","v":""},""]
[null,null,null,null,null,null,null,null,null,null,null,null,null,0,{"$f":"IF(N2343=0,\"\",MAX(O$15:O2342)+1)","v":""},""]
[null,null,null,null,null,null,null,null,null,null,null,null,null,0,{"$f":"IF(N2344=0,\"\",MAX(O$15:O2343)+1)","v":""},""]
[null,null,null,null,null,null,null,null,null,null,null,null,null,0,{"$f":"IF(N2345=0,\"\",MAX(O$15:O2344)+1)","v":""},""]
[null,null,null,null,null,null,null,null,null,null,null,null,null,0,{"$f":"IF(N2346=0,\"\",MAX(O$15:O2345)+1)","v":""},""]
[null,null,null,null,null,null,null,null,null,null,null,null,null,0,{"$f":"IF(N2347=0,\"\",MAX(O$15:O2346)+1)","v":""},""]
[null,null,null,null,null,null,null,null,null,null,null,null,null,0,{"$f":"IF(N2348=0,\"\",MAX(O$15:O2347)+1)","v":""},""]
[null,null,null,null,null,null,null,null,null,null,null,null,null,0,{"$f":"IF(N2349=0,\"\",MAX(O$15:O2348)+1)","v":""},""]
[null,null,null,null,null,null,null,null,null,null,null,null,null,0,{"$f":"IF(N2350=0,\"\",MAX(O$15:O2349)+1)","v":""},""]
[null,null,null,null,null,null,null,null,null,null,null,null,null,0,{"$f":"IF(N2351=0,\"\",MAX(O$15:O2350)+1)","v":""},""]
[null,null,null,null,null,null,null,null,null,null,null,null,null,0,{"$f":"IF(N2352=0,\"\",MAX(O$15:O2351)+1)","v":""},""]
[null,null,null,null,null,null,null,null,null,null,null,null,null,0,{"$f":"IF(N2353=0,\"\",MAX(O$15:O2352)+1)","v":""},""]
[null,null,null,null,null,null,null,null,null,null,null,null,null,0,{"$f":"IF(N2354=0,\"\",MAX(O$15:O2353)+1)","v":""},""]
[null,null,null,null,null,null,null,null,null,null,null,null,null,0,{"$f":"IF(N2355=0,\"\",MAX(O$15:O2354)+1)","v":""},""]
[null,null,null,null,null,null,null,null,null,null,null,null,null,0,{"$f":"IF(N2356=0,\"\",MAX(O$15:O2355)+1)","v":""},""]
[null,null,null,null,null,null,null,null,null,null,null,null,null,0,{"$f":"IF(N2357=0,\"\",MAX(O$15:O2356)+1)","v":""},""]
[null,null,null,null,null,null,null,null,null,null,null,null,null,0,{"$f":"IF(N2358=0,\"\",MAX(O$15:O2357)+1)","v":""},""]
[null,null,null,null,null,null,null,null,null,null,null,null,null,0,{"$f":"IF(N2359=0,\"\",MAX(O$15:O2358)+1)","v":""},""]
[null,null,null,null,null,null,null,null,null,null,null,null,null,0,{"$f":"IF(N2360=0,\"\",MAX(O$15:O2359)+1)","v":""},""]
[null,null,null,null,null,null,null,null,null,null,null,null,null,0,{"$f":"IF(N2361=0,\"\",MAX(O$15:O2360)+1)","v":""},""]
[null,null,null,null,null,null,null,null,null,null,null,null,null,{"$f":"IFERROR(M2362*L2362/1000,\"\")","v":0},{"$f":"IF(N2362=0,\"\",MAX(O$15:O2361)+1)","v":""},""]
[null,null,null,null,null,null,null,null,null,null,null,null,null,0,{"$f":"IF(N2363=0,\"\",MAX(O$15:O2362)+1)","v":""},""]
[null,null,null,null,null,null,null,null,null,null,null,null,null,0,{"$f":"IF(N2364=0,\"\",MAX(O$15:O2363)+1)","v":""},""]
[null,null,null,null,null,null,null,null,null,null,null,null,null,0,{"$f":"IF(N2365=0,\"\",MAX(O$15:O2364)+1)","v":""},""]
[null,null,null,null,null,null,null,null,null,null,null,null,null,0,{"$f":"IF(N2366=0,\"\",MAX(O$15:O2365)+1)","v":""},""]
[null,null,null,null,null,null,null,null,null,null,null,null,null,0,{"$f":"IF(N2367=0,\"\",MAX(O$15:O2366)+1)","v":""},""]
[null,null,null,null,null,null,null,null,null,null,null,null,null,0,{"$f":"IF(N2368=0,\"\",MAX(O$15:O2367)+1)","v":""},""]
[null,null,null,null,null,null,null,null,null,null,null,null,null,0,{"$f":"IF(N2369=0,\"\",MAX(O$15:O2368)+1)","v":""},""]
[null,null,null,null,null,null,null,null,null,null,null,null,null,0,{"$f":"IF(N2370=0,\"\",MAX(O$15:O2369)+1)","v":""},""]
[null,null,null,null,null,null,null,null,null,null,null,null,null,0,{"$f":"IF(N2371=0,\"\",MAX(O$15:O2370)+1)","v":""},""]
[null,null,null,null,null,null,null,null,null,null,null,null,null,0,{"$f":"IF(N2372=0,\"\",MAX(O$15:O2371)+1)","v":""},""]
[null,null,null,null,null,null,null,null,null,null,null,null,null,0,{"$f":"IF(N2373=0,\"\",MAX(O$15:O2372)+1)","v":""},""]
[null,null,null,null,null,null,null,null,null,null,null,null,null,0,{"$f":"IF(N2374=0,\"\",MAX(O$15:O2373)+1)","v":""},""]
[null,null,null,null,null,null,null,null,null,null,null,null,null,0,{"$f":"IF(N2375=0,\"\",MAX(O$15:O2374)+1)","v":""},""]
[null,null,null,null,null,null,null,null,null,null,null,null,null,0,{"$f":"IF(N2376=0,\"\",MAX(O$15:O2375)+1)","v":""},""]
[null,null,null,null,null,null,null,null,null,null,null,null,null,0,{"$f":"IF(N2377=0,\"\",MAX(O$15:O2376)+1)","v":""},""]
[null,null,null,null,null,null,null,null,null,null,null,null,null,0,{"$f":"IF(N2378=0,\"\",MAX(O$15:O2377)+1)","v":""},""]
[null,null,null,null,null,null,null,null,null,null,null,null,null,0,{"$f":"IF(N2379=0,\"\",MAX(O$15:O2378)+1)","v":""},""]
[null,null,null,null,null,null,null,null,null,null,null,null,null,0,{"$f":"IF(N2380=0,\"\",MAX(O$15:O2379)+1)","v":""},""]
[null,null,null,null,null,null,null,null,null,null,null,null,null,0,{"$f":"IF(N2381=0,\"\",MAX(O$15:O2380)+1)","v":""},""]
[null,null,null,null,null,null,null,null,null,null,null,null,null,0,{"$f":"IF(N2382=0,\"\",MAX(O$15:O2381)+1)","v":""},""]
[null,null,null,null,null,null,null,null,null,null,null,null,null,0,{"$f":"IF(N2383=0,\"\",MAX(O$15:O2382)+1)","v":""},""]
[null,null,null,null,null,null,null,null,null,null,null,null,null,0,{"$f":"IF(N2384=0,\"\",MAX(O$15:O2383)+1)","v":""},{"$f":"IFERROR(INDEX($N$15:$N$5014,MATCH(ROW()-ROW($O$14),$O$15:$O$5014,0)),\"\")","v":""}]
[null,null,null,null,null,null,null,null,null,null,null,null,null,0,{"$f":"IF(N2385=0,\"\",MAX(O$15:O2384)+1)","v":""},""]
[null,null,null,null,null,null,null,null,null,null,null,null,null,0,{"$f":"IF(N2386=0,\"\",MAX(O$15:O2385)+1)","v":""},""]
[null,null,null,null,null,null,null,null,null,null,null,null,null,0,{"$f":"IF(N2387=0,\"\",MAX(O$15:O2386)+1)","v":""},""]
[null,null,null,null,null,null,null,null,null,null,null,null,null,0,{"$f":"IF(N2388=0,\"\",MAX(O$15:O2387)+1)","v":""},""]
[null,null,null,null,null,null,null,null,null,null,null,null,null,0,{"$f":"IF(N2389=0,\"\",MAX(O$15:O2388)+1)","v":""},""]
[null,null,null,null,null,null,null,null,null,null,null,null,null,0,{"$f":"IF(N2390=0,\"\",MAX(O$15:O2389)+1)","v":""},""]
[null,null,null,null,null,null,null,null,null,null,null,null,null,0,{"$f":"IF(N2391=0,\"\",MAX(O$15:O2390)+1)","v":""},""]
[null,null,null,null,null,null,null,null,null,null,null,null,null,0,{"$f":"IF(N2392=0,\"\",MAX(O$15:O2391)+1)","v":""},""]
[null,null,null,null,null,null,null,null,null,null,null,null,null,0,{"$f":"IF(N2393=0,\"\",MAX(O$15:O2392)+1)","v":""},""]
[null,null,null,null,null,null,null,null,null,null,null,null,null,0,{"$f":"IF(N2394=0,\"\",MAX(O$15:O2393)+1)","v":""},""]
[null,null,null,null,null,null,null,null,null,null,null,null,null,0,{"$f":"IF(N2395=0,\"\",MAX(O$15:O2394)+1)","v":""},""]
[null,null,null,null,null,null,null,null,null,null,null,null,null,0,{"$f":"IF(N2396=0,\"\",MAX(O$15:O2395)+1)","v":""},""]
[null,null,null,null,null,null,null,null,null,null,null,null,null,0,{"$f":"IF(N2397=0,\"\",MAX(O$15:O2396)+1)","v":""},""]
[null,null,null,null,null,null,null,null,null,null,null,null,null,0,{"$f":"IF(N2398=0,\"\",MAX(O$15:O2397)+1)","v":""},""]
[null,null,null,null,null,null,null,null,null,null,null,null,null,0,{"$f":"IF(N2399=0,\"\",MAX(O$15:O2398)+1)","v":""},""]
[null,null,null,null,null,null,null,null,null,null,null,null,null,0,{"$f":"IF(N2400=0,\"\",MAX(O$15:O2399)+1)","v":""},""]
[null,null,null,null,null,null,null,null,null,null,null,null,null,0,{"$f":"IF(N2401=0,\"\",MAX(O$15:O2400)+1)","v":""},""]
[null,null,null,null,null,null,null,null,null,null,null,null,null,0,{"$f":"IF(N2402=0,\"\",MAX(O$15:O2401)+1)","v":""},""]
[null,null,null,null,null,null,null,null,null,null,null,null,null,0,{"$f":"IF(N2403=0,\"\",MAX(O$15:O2402)+1)","v":""},""]
[null,null,null,null,null,null,null,null,null,null,null,null,null,0,{"$f":"IF(N2404=0,\"\",MAX(O$15:O2403)+1)","v":""},""]
[null,null,null,null,null,null,null,null,null,null,null,null,null,0,{"$f":"IF(N2405=0,\"\",MAX(O$15:O2404)+1)","v":""},""]
[null,null,null,null,null,null,null,null,null,null,null,null,null,0,{"$f":"IF(N2406=0,\"\",MAX(O$15:O2405)+1)","v":""},""]
[null,null,null,null,null,null,null,null,null,null,null,null,null,0,{"$f":"IF(N2407=0,\"\",MAX(O$15:O2406)+1)","v":""},""]
[null,null,null,null,null,null,null,null,null,null,null,null,null,0,{"$f":"IF(N2408=0,\"\",MAX(O$15:O2407)+1)","v":""},""]
[null,null,null,null,null,null,null,null,null,null,null,null,null,0,{"$f":"IF(N2409=0,\"\",MAX(O$15:O2408)+1)","v":""},""]
[null,null,null,null,null,null,null,null,null,null,null,null,null,0,{"$f":"IF(N2410=0,\"\",MAX(O$15:O2409)+1)","v":""},""]
[null,null,null,null,null,null,null,null,null,null,null,null,null,0,{"$f":"IF(N2411=0,\"\",MAX(O$15:O2410)+1)","v":""},""]
[null,null,null,null,null,null,null,null,null,null,null,null,null,0,{"$f":"IF(N2412=0,\"\",MAX(O$15:O2411)+1)","v":""},""]
[null,null,null,null,null,null,null,null,null,null,null,null,null,0,{"$f":"IF(N2413=0,\"\",MAX(O$15:O2412)+1)","v":""},""]
[null,null,null,null,null,null,null,null,null,null,null,null,null,0,{"$f":"IF(N2414=0,\"\",MAX(O$15:O2413)+1)","v":""},""]
[null,null,null,null,null,null,null,null,null,null,null,null,null,0,{"$f":"IF(N2415=0,\"\",MAX(O$15:O2414)+1)","v":""},""]
[null,null,null,null,null,null,null,null,null,null,null,null,null,0,{"$f":"IF(N2416=0,\"\",MAX(O$15:O2415)+1)","v":""},""]
[null,null,null,null,null,null,null,null,null,null,null,null,null,0,{"$f":"IF(N2417=0,\"\",MAX(O$15:O2416)+1)","v":""},""]
[null,null,null,null,null,null,null,null,null,null,null,null,null,0,{"$f":"IF(N2418=0,\"\",MAX(O$15:O2417)+1)","v":""},""]
[null,null,null,null,null,null,null,null,null,null,null,null,null,0,{"$f":"IF(N2419=0,\"\",MAX(O$15:O2418)+1)","v":""},""]
[null,null,null,null,null,null,null,null,null,null,null,null,null,0,{"$f":"IF(N2420=0,\"\",MAX(O$15:O2419)+1)","v":""},""]
[null,null,null,null,null,null,null,null,null,null,null,null,null,0,{"$f":"IF(N2421=0,\"\",MAX(O$15:O2420)+1)","v":""},""]
[null,null,null,null,null,null,null,null,null,null,null,null,null,0,{"$f":"IF(N2422=0,\"\",MAX(O$15:O2421)+1)","v":""},""]
[null,null,null,null,null,null,null,null,null,null,null,null,null,0,{"$f":"IF(N2423=0,\"\",MAX(O$15:O2422)+1)","v":""},""]
[null,null,null,null,null,null,null,null,null,null,null,null,null,0,{"$f":"IF(N2424=0,\"\",MAX(O$15:O2423)+1)","v":""},""]
[null,null,null,null,null,null,null,null,null,null,null,null,null,0,{"$f":"IF(N2425=0,\"\",MAX(O$15:O2424)+1)","v":""},""]
[null,null,null,null,null,null,null,null,null,null,null,null,null,{"$f":"IFERROR(M2426*L2426/1000,\"\")","v":0},{"$f":"IF(N2426=0,\"\",MAX(O$15:O2425)+1)","v":""},""]
[null,null,null,null,null,null,null,null,null,null,null,null,null,0,{"$f":"IF(N2427=0,\"\",MAX(O$15:O2426)+1)","v":""},""]
[null,null,null,null,null,null,null,null,null,null,null,null,null,0,{"$f":"IF(N2428=0,\"\",MAX(O$15:O2427)+1)","v":""},""]
[null,null,null,null,null,null,null,null,null,null,null,null,null,0,{"$f":"IF(N2429=0,\"\",MAX(O$15:O2428)+1)","v":""},""]
[null,null,null,null,null,null,null,null,null,null,null,null,null,0,{"$f":"IF(N2430=0,\"\",MAX(O$15:O2429)+1)","v":""},""]
[null,null,null,null,null,null,null,null,null,null,null,null,null,0,{"$f":"IF(N2431=0,\"\",MAX(O$15:O2430)+1)","v":""},""]
[null,null,null,null,null,null,null,null,null,null,null,null,null,0,{"$f":"IF(N2432=0,\"\",MAX(O$15:O2431)+1)","v":""},""]
[null,null,null,null,null,null,null,null,null,null,null,null,null,0,{"$f":"IF(N2433=0,\"\",MAX(O$15:O2432)+1)","v":""},""]
[null,null,null,null,null,null,null,null,null,null,null,null,null,0,{"$f":"IF(N2434=0,\"\",MAX(O$15:O2433)+1)","v":""},""]
[null,null,null,null,null,null,null,null,null,null,null,null,null,0,{"$f":"IF(N2435=0,\"\",MAX(O$15:O2434)+1)","v":""},""]
[null,null,null,null,null,null,null,null,null,null,null,null,null,0,{"$f":"IF(N2436=0,\"\",MAX(O$15:O2435)+1)","v":""},""]
[null,null,null,null,null,null,null,null,null,null,null,null,null,0,{"$f":"IF(N2437=0,\"\",MAX(O$15:O2436)+1)","v":""},""]
[null,null,null,null,null,null,null,null,null,null,null,null,null,0,{"$f":"IF(N2438=0,\"\",MAX(O$15:O2437)+1)","v":""},""]
[null,null,null,null,null,null,null,null,null,null,null,null,null,0,{"$f":"IF(N2439=0,\"\",MAX(O$15:O2438)+1)","v":""},""]
[null,null,null,null,null,null,null,null,null,null,null,null,null,0,{"$f":"IF(N2440=0,\"\",MAX(O$15:O2439)+1)","v":""},""]
[null,null,null,null,null,null,null,null,null,null,null,null,null,0,{"$f":"IF(N2441=0,\"\",MAX(O$15:O2440)+1)","v":""},""]
[null,null,null,null,null,null,null,null,null,null,null,null,null,0,{"$f":"IF(N2442=0,\"\",MAX(O$15:O2441)+1)","v":""},""]
[null,null,null,null,null,null,null,null,null,null,null,null,null,0,{"$f":"IF(N2443=0,\"\",MAX(O$15:O2442)+1)","v":""},""]
[null,null,null,null,null,null,null,null,null,null,null,null,null,0,{"$f":"IF(N2444=0,\"\",MAX(O$15:O2443)+1)","v":""},""]
[null,null,null,null,null,null,null,null,null,null,null,null,null,0,{"$f":"IF(N2445=0,\"\",MAX(O$15:O2444)+1)","v":""},""]
[null,null,null,null,null,null,null,null,null,null,null,null,null,0,{"$f":"IF(N2446=0,\"\",MAX(O$15:O2445)+1)","v":""},""]
[null,null,null,null,null,null,null,null,null,null,null,null,null,0,{"$f":"IF(N2447=0,\"\",MAX(O$15:O2446)+1)","v":""},""]
[null,null,null,null,null,null,null,null,null,null,null,null,null,0,{"$f":"IF(N2448=0,\"\",MAX(O$15:O2447)+1)","v":""},{"$f":"IFERROR(INDEX($N$15:$N$5014,MATCH(ROW()-ROW($O$14),$O$15:$O$5014,0)),\"\")","v":""}]
[null,null,null,null,null,null,null,null,null,null,null,null,null,0,{"$f":"IF(N2449=0,\"\",MAX(O$15:O2448)+1)","v":""},""]
[null,null,null,null,null,null,null,null,null,null,null,null,null,0,{"$f":"IF(N2450=0,\"\",MAX(O$15:O2449)+1)","v":""},""]
[null,null,null,null,null,null,null,null,null,null,null,null,null,0,{"$f":"IF(N2451=0,\"\",MAX(O$15:O2450)+1)","v":""},""]
[null,null,null,null,null,null,null,null,null,null,null,null,null,0,{"$f":"IF(N2452=0,\"\",MAX(O$15:O2451)+1)","v":""},""]
[null,null,null,null,null,null,null,null,null,null,null,null,null,0,{"$f":"IF(N2453=0,\"\",MAX(O$15:O2452)+1)","v":""},""]
[null,null,null,null,null,null,null,null,null,null,null,null,null,0,{"$f":"IF(N2454=0,\"\",MAX(O$15:O2453)+1)","v":""},""]
[null,null,null,null,null,null,null,null,null,null,null,null,null,0,{"$f":"IF(N2455=0,\"\",MAX(O$15:O2454)+1)","v":""},""]
[null,null,null,null,null,null,null,null,null,null,null,null,null,0,{"$f":"IF(N2456=0,\"\",MAX(O$15:O2455)+1)","v":""},""]
[null,null,null,null,null,null,null,null,null,null,null,null,null,0,{"$f":"IF(N2457=0,\"\",MAX(O$15:O2456)+1)","v":""},""]
[null,null,null,null,null,null,null,null,null,null,null,null,null,0,{"$f":"IF(N2458=0,\"\",MAX(O$15:O2457)+1)","v":""},""]
[null,null,null,null,null,null,null,null,null,null,null,null,null,0,{"$f":"IF(N2459=0,\"\",MAX(O$15:O2458)+1)","v":""},""]
[null,null,null,null,null,null,null,null,null,null,null,null,null,0,{"$f":"IF(N2460=0,\"\",MAX(O$15:O2459)+1)","v":""},""]
[null,null,null,null,null,null,null,null,null,null,null,null,null,0,{"$f":"IF(N2461=0,\"\",MAX(O$15:O2460)+1)","v":""},""]
[null,null,null,null,null,null,null,null,null,null,null,null,null,0,{"$f":"IF(N2462=0,\"\",MAX(O$15:O2461)+1)","v":""},""]
[null,null,null,null,null,null,null,null,null,null,null,null,null,0,{"$f":"IF(N2463=0,\"\",MAX(O$15:O2462)+1)","v":""},""]
[null,null,null,null,null,null,null,null,null,null,null,null,null,0,{"$f":"IF(N2464=0,\"\",MAX(O$15:O2463)+1)","v":""},""]
[null,null,null,null,null,null,null,null,null,null,null,null,null,0,{"$f":"IF(N2465=0,\"\",MAX(O$15:O2464)+1)","v":""},""]
[null,null,null,null,null,null,null,null,null,null,null,null,null,0,{"$f":"IF(N2466=0,\"\",MAX(O$15:O2465)+1)","v":""},""]
[null,null,null,null,null,null,null,null,null,null,null,null,null,0,{"$f":"IF(N2467=0,\"\",MAX(O$15:O2466)+1)","v":""},""]
[null,null,null,null,null,null,null,null,null,null,null,null,null,0,{"$f":"IF(N2468=0,\"\",MAX(O$15:O2467)+1)","v":""},""]
[null,null,null,null,null,null,null,null,null,null,null,null,null,0,{"$f":"IF(N2469=0,\"\",MAX(O$15:O2468)+1)","v":""},""]
[null,null,null,null,null,null,null,null,null,null,null,null,null,0,{"$f":"IF(N2470=0,\"\",MAX(O$15:O2469)+1)","v":""},""]
[null,null,null,null,null,null,null,null,null,null,null,null,null,0,{"$f":"IF(N2471=0,\"\",MAX(O$15:O2470)+1)","v":""},""]
[null,null,null,null,null,null,null,null,null,null,null,null,null,0,{"$f":"IF(N2472=0,\"\",MAX(O$15:O2471)+1)","v":""},""]
[null,null,null,null,null,null,null,null,null,null,null,null,null,0,{"$f":"IF(N2473=0,\"\",MAX(O$15:O2472)+1)","v":""},""]
[null,null,null,null,null,null,null,null,null,null,null,null,null,0,{"$f":"IF(N2474=0,\"\",MAX(O$15:O2473)+1)","v":""},""]
[null,null,null,null,null,null,null,null,null,null,null,null,null,0,{"$f":"IF(N2475=0,\"\",MAX(O$15:O2474)+1)","v":""},""]
[null,null,null,null,null,null,null,null,null,null,null,null,null,0,{"$f":"IF(N2476=0,\"\",MAX(O$15:O2475)+1)","v":""},""]
[null,null,null,null,null,null,null,null,null,null,null,null,null,0,{"$f":"IF(N2477=0,\"\",MAX(O$15:O2476)+1)","v":""},""]
[null,null,null,null,null,null,null,null,null,null,null,null,null,0,{"$f":"IF(N2478=0,\"\",MAX(O$15:O2477)+1)","v":""},""]
[null,null,null,null,null,null,null,null,null,null,null,null,null,0,{"$f":"IF(N2479=0,\"\",MAX(O$15:O2478)+1)","v":""},""]
[null,null,null,null,null,null,null,null,null,null,null,null,null,0,{"$f":"IF(N2480=0,\"\",MAX(O$15:O2479)+1)","v":""},""]
[null,null,null,null,null,null,null,null,null,null,null,null,null,0,{"$f":"IF(N2481=0,\"\",MAX(O$15:O2480)+1)","v":""},""]
[null,null,null,null,null,null,null,null,null,null,null,null,null,0,{"$f":"IF(N2482=0,\"\",MAX(O$15:O2481)+1)","v":""},""]
[null,null,null,null,null,null,null,null,null,null,null,null,null,0,{"$f":"IF(N2483=0,\"\",MAX(O$15:O2482)+1)","v":""},""]
[null,null,null,null,null,null,null,null,null,null,null,null,null,0,{"$f":"IF(N2484=0,\"\",MAX(O$15:O2483)+1)","v":""},""]
[null,null,null,null,null,null,null,null,null,null,null,null,null,0,{"$f":"IF(N2485=0,\"\",MAX(O$15:O2484)+1)","v":""},""]
[null,null,null,null,null,null,null,null,null,null,null,null,null,0,{"$f":"IF(N2486=0,\"\",MAX(O$15:O2485)+1)","v":""},""]
[null,null,null,null,null,null,null,null,null,null,null,null,null,0,{"$f":"IF(N2487=0,\"\",MAX(O$15:O2486)+1)","v":""},""]
[null,null,null,null,null,null,null,null,null,null,null,null,null,0,{"$f":"IF(N2488=0,\"\",MAX(O$15:O2487)+1)","v":""},""]
[null,null,null,null,null,null,null,null,null,null,null,null,null,0,{"$f":"IF(N2489=0,\"\",MAX(O$15:O2488)+1)","v":""},""]
[null,null,null,null,null,null,null,null,null,null,null,null,null,{"$f":"IFERROR(M2490*L2490/1000,\"\")","v":0},{"$f":"IF(N2490=0,\"\",MAX(O$15:O2489)+1)","v":""},""]
[null,null,null,null,null,null,null,null,null,null,null,null,null,0,{"$f":"IF(N2491=0,\"\",MAX(O$15:O2490)+1)","v":""},""]
[null,null,null,null,null,null,null,null,null,null,null,null,null,0,{"$f":"IF(N2492=0,\"\",MAX(O$15:O2491)+1)","v":""},""]
[null,null,null,null,null,null,null,null,null,null,null,null,null,0,{"$f":"IF(N2493=0,\"\",MAX(O$15:O2492)+1)","v":""},""]
[null,null,null,null,null,null,null,null,null,null,null,null,null,0,{"$f":"IF(N2494=0,\"\",MAX(O$15:O2493)+1)","v":""},""]
[null,null,null,null,null,null,null,null,null,null,null,null,null,0,{"$f":"IF(N2495=0,\"\",MAX(O$15:O2494)+1)","v":""},""]
[null,null,null,null,null,null,null,null,null,null,null,null,null,0,{"$f":"IF(N2496=0,\"\",MAX(O$15:O2495)+1)","v":""},""]
[null,null,null,null,null,null,null,null,null,null,null,null,null,0,{"$f":"IF(N2497=0,\"\",MAX(O$15:O2496)+1)","v":""},""]
[null,null,null,null,null,null,null,null,null,null,null,null,null,0,{"$f":"IF(N2498=0,\"\",MAX(O$15:O2497)+1)","v":""},""]
[null,null,null,null,null,null,null,null,null,null,null,null,null,0,{"$f":"IF(N2499=0,\"\",MAX(O$15:O2498)+1)","v":""},""]
[null,null,null,null,null,null,null,null,null,null,null,null,null,0,{"$f":"IF(N2500=0,\"\",MAX(O$15:O2499)+1)","v":""},""]
[null,null,null,null,null,null,null,null,null,null,null,null,null,0,{"$f":"IF(N2501=0,\"\",MAX(O$15:O2500)+1)","v":""},""]
[null,null,null,null,null,null,null,null,null,null,null,null,null,0,{"$f":"IF(N2502=0,\"\",MAX(O$15:O2501)+1)","v":""},""]
[null,null,null,null,null,null,null,null,null,null,null,null,null,0,{"$f":"IF(N2503=0,\"\",MAX(O$15:O2502)+1)","v":""},""]
[null,null,null,null,null,null,null,null,null,null,null,null,null,0,{"$f":"IF(N2504=0,\"\",MAX(O$15:O2503)+1)","v":""},""]
[null,null,null,null,null,null,null,null,null,null,null,null,null,0,{"$f":"IF(N2505=0,\"\",MAX(O$15:O2504)+1)","v":""},""]
[null,null,null,null,null,null,null,null,null,null,null,null,null,0,{"$f":"IF(N2506=0,\"\",MAX(O$15:O2505)+1)","v":""},""]
[null,null,null,null,null,null,null,null,null,null,null,null,null,0,{"$f":"IF(N2507=0,\"\",MAX(O$15:O2506)+1)","v":""},""]
[null,null,null,null,null,null,null,null,null,null,null,null,null,0,{"$f":"IF(N2508=0,\"\",MAX(O$15:O2507)+1)","v":""},""]
[null,null,null,null,null,null,null,null,null,null,null,null,null,0,{"$f":"IF(N2509=0,\"\",MAX(O$15:O2508)+1)","v":""},""]
[null,null,null,null,null,null,null,null,null,null,null,null,null,0,{"$f":"IF(N2510=0,\"\",MAX(O$15:O2509)+1)","v":""},""]
[null,null,null,null,null,null,null,null,null,null,null,null,null,0,{"$f":"IF(N2511=0,\"\",MAX(O$15:O2510)+1)","v":""},""]
[null,null,null,null,null,null,null,null,null,null,null,null,null,0,{"$f":"IF(N2512=0,\"\",MAX(O$15:O2511)+1)","v":""},{"$f":"IFERROR(INDEX($N$15:$N$5014,MATCH(ROW()-ROW($O$14),$O$15:$O$5014,0)),\"\")","v":""}]
[null,null,null,null,null,null,null,null,null,null,null,null,null,0,{"$f":"IF(N2513=0,\"\",MAX(O$15:O2512)+1)","v":""},""]
[null,null,null,null,null,null,null,null,null,null,null,null,null,0,{"$f":"IF(N2514=0,\"\",MAX(O$15:O2513)+1)","v":""},""]
[null,null,null,null,null,null,null,null,null,null,null,null,null,0,{"$f":"IF(N2515=0,\"\",MAX(O$15:O2514)+1)","v":""},""]
[null,null,null,null,null,null,null,null,null,null,null,null,null,0,{"$f":"IF(N2516=0,\"\",MAX(O$15:O2515)+1)","v":""},""]
[null,null,null,null,null,null,null,null,null,null,null,null,null,0,{"$f":"IF(N2517=0,\"\",MAX(O$15:O2516)+1)","v":""},""]
[null,null,null,null,null,null,null,null,null,null,null,null,null,0,{"$f":"IF(N2518=0,\"\",MAX(O$15:O2517)+1)","v":""},""]
[null,null,null,null,null,null,null,null,null,null,null,null,null,0,{"$f":"IF(N2519=0,\"\",MAX(O$15:O2518)+1)","v":""},""]
[null,null,null,null,null,null,null,null,null,null,null,null,null,0,{"$f":"IF(N2520=0,\"\",MAX(O$15:O2519)+1)","v":""},""]
[null,null,null,null,null,null,null,null,null,null,null,null,null,0,{"$f":"IF(N2521=0,\"\",MAX(O$15:O2520)+1)","v":""},""]
[null,null,null,null,null,null,null,null,null,null,null,null,null,0,{"$f":"IF(N2522=0,\"\",MAX(O$15:O2521)+1)","v":""},""]
[null,null,null,null,null,null,null,null,null,null,null,null,null,0,{"$f":"IF(N2523=0,\"\",MAX(O$15:O2522)+1)","v":""},""]
[null,null,null,null,null,null,null,null,null,null,null,null,null,0,{"$f":"IF(N2524=0,\"\",MAX(O$15:O2523)+1)","v":""},""]
[null,null,null,null,null,null,null,null,null,null,null,null,null,0,{"$f":"IF(N2525=0,\"\",MAX(O$15:O2524)+1)","v":""},""]
[null,null,null,null,null,null,null,null,null,null,null,null,null,0,{"$f":"IF(N2526=0,\"\",MAX(O$15:O2525)+1)","v":""},""]
[null,null,null,null,null,null,null,null,null,null,null,null,null,0,{"$f":"IF(N2527=0,\"\",MAX(O$15:O2526)+1)","v":""},""]
[null,null,null,null,null,null,null,null,null,null,null,null,null,0,{"$f":"IF(N2528=0,\"\",MAX(O$15:O2527)+1)","v":""},""]
[null,null,null,null,null,null,null,null,null,null,null,null,null,0,{"$f":"IF(N2529=0,\"\",MAX(O$15:O2528)+1)","v":""},""]
[null,null,null,null,null,null,null,null,null,null,null,null,null,0,{"$f":"IF(N2530=0,\"\",MAX(O$15:O2529)+1)","v":""},""]
[null,null,null,null,null,null,null,null,null,null,null,null,null,0,{"$f":"IF(N2531=0,\"\",MAX(O$15:O2530)+1)","v":""},""]
[null,null,null,null,null,null,null,null,null,null,null,null,null,0,{"$f":"IF(N2532=0,\"\",MAX(O$15:O2531)+1)","v":""},""]
[null,null,null,null,null,null,null,null,null,null,null,null,null,0,{"$f":"IF(N2533=0,\"\",MAX(O$15:O2532)+1)","v":""},""]
[null,null,null,null,null,null,null,null,null,null,null,null,null,0,{"$f":"IF(N2534=0,\"\",MAX(O$15:O2533)+1)","v":""},""]
[null,null,null,null,null,null,null,null,null,null,null,null,null,0,{"$f":"IF(N2535=0,\"\",MAX(O$15:O2534)+1)","v":""},""]
[null,null,null,null,null,null,null,null,null,null,null,null,null,0,{"$f":"IF(N2536=0,\"\",MAX(O$15:O2535)+1)","v":""},""]
[null,null,null,null,null,null,null,null,null,null,null,null,null,0,{"$f":"IF(N2537=0,\"\",MAX(O$15:O2536)+1)","v":""},""]
[null,null,null,null,null,null,null,null,null,null,null,null,null,0,{"$f":"IF(N2538=0,\"\",MAX(O$15:O2537)+1)","v":""},""]
[null,null,null,null,null,null,null,null,null,null,null,null,null,0,{"$f":"IF(N2539=0,\"\",MAX(O$15:O2538)+1)","v":""},""]
[null,null,null,null,null,null,null,null,null,null,null,null,null,0,{"$f":"IF(N2540=0,\"\",MAX(O$15:O2539)+1)","v":""},""]
[null,null,null,null,null,null,null,null,null,null,null,null,null,0,{"$f":"IF(N2541=0,\"\",MAX(O$15:O2540)+1)","v":""},""]
[null,null,null,null,null,null,null,null,null,null,null,null,null,0,{"$f":"IF(N2542=0,\"\",MAX(O$15:O2541)+1)","v":""},""]
[null,null,null,null,null,null,null,null,null,null,null,null,null,0,{"$f":"IF(N2543=0,\"\",MAX(O$15:O2542)+1)","v":""},""]
[null,null,null,null,null,null,null,null,null,null,null,null,null,0,{"$f":"IF(N2544=0,\"\",MAX(O$15:O2543)+1)","v":""},""]
[null,null,null,null,null,null,null,null,null,null,null,null,null,0,{"$f":"IF(N2545=0,\"\",MAX(O$15:O2544)+1)","v":""},""]
[null,null,null,null,null,null,null,null,null,null,null,null,null,0,{"$f":"IF(N2546=0,\"\",MAX(O$15:O2545)+1)","v":""},""]
[null,null,null,null,null,null,null,null,null,null,null,null,null,0,{"$f":"IF(N2547=0,\"\",MAX(O$15:O2546)+1)","v":""},""]
[null,null,null,null,null,null,null,null,null,null,null,null,null,0,{"$f":"IF(N2548=0,\"\",MAX(O$15:O2547)+1)","v":""},""]
[null,null,null,null,null,null,null,null,null,null,null,null,null,0,{"$f":"IF(N2549=0,\"\",MAX(O$15:O2548)+1)","v":""},""]
[null,null,null,null,null,null,null,null,null,null,null,null,null,0,{"$f":"IF(N2550=0,\"\",MAX(O$15:O2549)+1)","v":""},""]
[null,null,null,null,null,null,null,null,null,null,null,null,null,0,{"$f":"IF(N2551=0,\"\",MAX(O$15:O2550)+1)","v":""},""]
[null,null,null,null,null,null,null,null,null,null,null,null,null,0,{"$f":"IF(N2552=0,\"\",MAX(O$15:O2551)+1)","v":""},""]
[null,null,null,null,null,null,null,null,null,null,null,null,null,0,{"$f":"IF(N2553=0,\"\",MAX(O$15:O2552)+1)","v":""},""]
[null,null,null,null,null,null,null,null,null,null,null,null,null,{"$f":"IFERROR(M2554*L2554/1000,\"\")","v":0},{"$f":"IF(N2554=0,\"\",MAX(O$15:O2553)+1)","v":""},""]
[null,null,null,null,null,null,null,null,null,null,null,null,null,0,{"$f":"IF(N2555=0,\"\",MAX(O$15:O2554)+1)","v":""},""]
[null,null,null,null,null,null,null,null,null,null,null,null,null,0,{"$f":"IF(N2556=0,\"\",MAX(O$15:O2555)+1)","v":""},""]
[null,null,null,null,null,null,null,null,null,null,null,null,null,0,{"$f":"IF(N2557=0,\"\",MAX(O$15:O2556)+1)","v":""},""]
[null,null,null,null,null,null,null,null,null,null,null,null,null,0,{"$f":"IF(N2558=0,\"\",MAX(O$15:O2557)+1)","v":""},""]
[null,null,null,null,null,null,null,null,null,null,null,null,null,0,{"$f":"IF(N2559=0,\"\",MAX(O$15:O2558)+1)","v":""},""]
[null,null,null,null,null,null,null,null,null,null,null,null,null,0,{"$f":"IF(N2560=0,\"\",MAX(O$15:O2559)+1)","v":""},""]
[null,null,null,null,null,null,null,null,null,null,null,null,null,0,{"$f":"IF(N2561=0,\"\",MAX(O$15:O2560)+1)","v":""},""]
[null,null,null,null,null,null,null,null,null,null,null,null,null,0,{"$f":"IF(N2562=0,\"\",MAX(O$15:O2561)+1)","v":""},""]
[null,null,null,null,null,null,null,null,null,null,null,null,null,0,{"$f":"IF(N2563=0,\"\",MAX(O$15:O2562)+1)","v":""},""]
[null,null,null,null,null,null,null,null,null,null,null,null,null,0,{"$f":"IF(N2564=0,\"\",MAX(O$15:O2563)+1)","v":""},""]
[null,null,null,null,null,null,null,null,null,null,null,null,null,0,{"$f":"IF(N2565=0,\"\",MAX(O$15:O2564)+1)","v":""},""]
[null,null,null,null,null,null,null,null,null,null,null,null,null,0,{"$f":"IF(N2566=0,\"\",MAX(O$15:O2565)+1)","v":""},""]
[null,null,null,null,null,null,null,null,null,null,null,null,null,0,{"$f":"IF(N2567=0,\"\",MAX(O$15:O2566)+1)","v":""},""]
[null,null,null,null,null,null,null,null,null,null,null,null,null,0,{"$f":"IF(N2568=0,\"\",MAX(O$15:O2567)+1)","v":""},""]
[null,null,null,null,null,null,null,null,null,null,null,null,null,0,{"$f":"IF(N2569=0,\"\",MAX(O$15:O2568)+1)","v":""},""]
[null,null,null,null,null,null,null,null,null,null,null,null,null,0,{"$f":"IF(N2570=0,\"\",MAX(O$15:O2569)+1)","v":""},""]
[null,null,null,null,null,null,null,null,null,null,null,null,null,0,{"$f":"IF(N2571=0,\"\",MAX(O$15:O2570)+1)","v":""},""]
[null,null,null,null,null,null,null,null,null,null,null,null,null,0,{"$f":"IF(N2572=0,\"\",MAX(O$15:O2571)+1)","v":""},""]
[null,null,null,null,null,null,null,null,null,null,null,null,null,0,{"$f":"IF(N2573=0,\"\",MAX(O$15:O2572)+1)","v":""},""]
[null,null,null,null,null,null,null,null,null,null,null,null,null,0,{"$f":"IF(N2574=0,\"\",MAX(O$15:O2573)+1)","v":""},""]
[null,null,null,null,null,null,null,null,null,null,null,null,null,0,{"$f":"IF(N2575=0,\"\",MAX(O$15:O2574)+1)","v":""},""]
[null,null,null,null,null,null,null,null,null,null,null,null,null,0,{"$f":"IF(N2576=0,\"\",MAX(O$15:O2575)+1)","v":""},{"$f":"IFERROR(INDEX($N$15:$N$5014,MATCH(ROW()-ROW($O$14),$O$15:$O$5014,0)),\"\")","v":""}]
[null,null,null,null,null,null,null,null,null,null,null,null,null,0,{"$f":"IF(N2577=0,\"\",MAX(O$15:O2576)+1)","v":""},""]
[null,null,null,null,null,null,null,null,null,null,null,null,null,0,{"$f":"IF(N2578=0,\"\",MAX(O$15:O2577)+1)","v":""},""]
[null,null,null,null,null,null,null,null,null,null,null,null,null,0,{"$f":"IF(N2579=0,\"\",MAX(O$15:O2578)+1)","v":""},""]
[null,null,null,null,null,null,null,null,null,null,null,null,null,0,{"$f":"IF(N2580=0,\"\",MAX(O$15:O2579)+1)","v":""},""]
[null,null,null,null,null,null,null,null,null,null,null,null,null,0,{"$f":"IF(N2581=0,\"\",MAX(O$15:O2580)+1)","v":""},""]
[null,null,null,null,null,null,null,null,null,null,null,null,null,0,{"$f":"IF(N2582=0,\"\",MAX(O$15:O2581)+1)","v":""},""]
[null,null,null,null,null,null,null,null,null,null,null,null,null,0,{"$f":"IF(N2583=0,\"\",MAX(O$15:O2582)+1)","v":""},""]
[null,null,null,null,null,null,null,null,null,null,null,null,null,0,{"$f":"IF(N2584=0,\"\",MAX(O$15:O2583)+1)","v":""},""]
[null,null,null,null,null,null,null,null,null,null,null,null,null,0,{"$f":"IF(N2585=0,\"\",MAX(O$15:O2584)+1)","v":""},""]
[null,null,null,null,null,null,null,null,null,null,null,null,null,0,{"$f":"IF(N2586=0,\"\",MAX(O$15:O2585)+1)","v":""},""]
[null,null,null,null,null,null,null,null,null,null,null,null,null,0,{"$f":"IF(N2587=0,\"\",MAX(O$15:O2586)+1)","v":""},""]
[null,null,null,null,null,null,null,null,null,null,null,null,null,0,{"$f":"IF(N2588=0,\"\",MAX(O$15:O2587)+1)","v":""},""]
[null,null,null,null,null,null,null,null,null,null,null,null,null,0,{"$f":"IF(N2589=0,\"\",MAX(O$15:O2588)+1)","v":""},""]
[null,null,null,null,null,null,null,null,null,null,null,null,null,0,{"$f":"IF(N2590=0,\"\",MAX(O$15:O2589)+1)","v":""},""]
[null,null,null,null,null,null,null,null,null,null,null,null,null,0,{"$f":"IF(N2591=0,\"\",MAX(O$15:O2590)+1)","v":""},""]
[null,null,null,null,null,null,null,null,null,null,null,null,null,0,{"$f":"IF(N2592=0,\"\",MAX(O$15:O2591)+1)","v":""},""]
[null,null,null,null,null,null,null,null,null,null,null,null,null,0,{"$f":"IF(N2593=0,\"\",MAX(O$15:O2592)+1)","v":""},""]
[null,null,null,null,null,null,null,null,null,null,null,null,null,0,{"$f":"IF(N2594=0,\"\",MAX(O$15:O2593)+1)","v":""},""]
[null,null,null,null,null,null,null,null,null,null,null,null,null,0,{"$f":"IF(N2595=0,\"\",MAX(O$15:O2594)+1)","v":""},""]
[null,null,null,null,null,null,null,null,null,null,null,null,null,0,{"$f":"IF(N2596=0,\"\",MAX(O$15:O2595)+1)","v":""},""]
[null,null,null,null,null,null,null,null,null,null,null,null,null,0,{"$f":"IF(N2597=0,\"\",MAX(O$15:O2596)+1)","v":""},""]
[null,null,null,null,null,null,null,null,null,null,null,null,null,0,{"$f":"IF(N2598=0,\"\",MAX(O$15:O2597)+1)","v":""},""]
[null,null,null,null,null,null,null,null,null,null,null,null,null,0,{"$f":"IF(N2599=0,\"\",MAX(O$15:O2598)+1)","v":""},""]
[null,null,null,null,null,null,null,null,null,null,null,null,null,0,{"$f":"IF(N2600=0,\"\",MAX(O$15:O2599)+1)","v":""},""]
[null,null,null,null,null,null,null,null,null,null,null,null,null,0,{"$f":"IF(N2601=0,\"\",MAX(O$15:O2600)+1)","v":""},""]
[null,null,null,null,null,null,null,null,null,null,null,null,null,0,{"$f":"IF(N2602=0,\"\",MAX(O$15:O2601)+1)","v":""},""]
[null,null,null,null,null,null,null,null,null,null,null,null,null,0,{"$f":"IF(N2603=0,\"\",MAX(O$15:O2602)+1)","v":""},""]
[null,null,null,null,null,null,null,null,null,null,null,null,null,0,{"$f":"IF(N2604=0,\"\",MAX(O$15:O2603)+1)","v":""},""]
[null,null,null,null,null,null,null,null,null,null,null,null,null,0,{"$f":"IF(N2605=0,\"\",MAX(O$15:O2604)+1)","v":""},""]
[null,null,null,null,null,null,null,null,null,null,null,null,null,0,{"$f":"IF(N2606=0,\"\",MAX(O$15:O2605)+1)","v":""},""]
[null,null,null,null,null,null,null,null,null,null,null,null,null,0,{"$f":"IF(N2607=0,\"\",MAX(O$15:O2606)+1)","v":""},""]
[null,null,null,null,null,null,null,null,null,null,null,null,null,0,{"$f":"IF(N2608=0,\"\",MAX(O$15:O2607)+1)","v":""},""]
[null,null,null,null,null,null,null,null,null,null,null,null,null,0,{"$f":"IF(N2609=0,\"\",MAX(O$15:O2608)+1)","v":""},""]
[null,null,null,null,null,null,null,null,null,null,null,null,null,0,{"$f":"IF(N2610=0,\"\",MAX(O$15:O2609)+1)","v":""},""]
[null,null,null,null,null,null,null,null,null,null,null,null,null,0,{"$f":"IF(N2611=0,\"\",MAX(O$15:O2610)+1)","v":""},""]
[null,null,null,null,null,null,null,null,null,null,null,null,null,0,{"$f":"IF(N2612=0,\"\",MAX(O$15:O2611)+1)","v":""},""]
[null,null,null,null,null,null,null,null,null,null,null,null,null,0,{"$f":"IF(N2613=0,\"\",MAX(O$15:O2612)+1)","v":""},""]
[null,null,null,null,null,null,null,null,null,null,null,null,null,0,{"$f":"IF(N2614=0,\"\",MAX(O$15:O2613)+1)","v":""},""]
[null,null,null,null,null,null,null,null,null,null,null,null,null,0,{"$f":"IF(N2615=0,\"\",MAX(O$15:O2614)+1)","v":""},""]
[null,null,null,null,null,null,null,null,null,null,null,null,null,0,{"$f":"IF(N2616=0,\"\",MAX(O$15:O2615)+1)","v":""},""]
[null,null,null,null,null,null,null,null,null,null,null,null,null,0,{"$f":"IF(N2617=0,\"\",MAX(O$15:O2616)+1)","v":""},""]
[null,null,null,null,null,null,null,null,null,null,null,null,null,{"$f":"IFERROR(M2618*L2618/1000,\"\")","v":0},{"$f":"IF(N2618=0,\"\",MAX(O$15:O2617)+1)","v":""},""]
[null,null,null,null,null,null,null,null,null,null,null,null,null,0,{"$f":"IF(N2619=0,\"\",MAX(O$15:O2618)+1)","v":""},""]
[null,null,null,null,null,null,null,null,null,null,null,null,null,0,{"$f":"IF(N2620=0,\"\",MAX(O$15:O2619)+1)","v":""},""]
[null,null,null,null,null,null,null,null,null,null,null,null,null,0,{"$f":"IF(N2621=0,\"\",MAX(O$15:O2620)+1)","v":""},""]
[null,null,null,null,null,null,null,null,null,null,null,null,null,0,{"$f":"IF(N2622=0,\"\",MAX(O$15:O2621)+1)","v":""},""]
[null,null,null,null,null,null,null,null,null,null,null,null,null,0,{"$f":"IF(N2623=0,\"\",MAX(O$15:O2622)+1)","v":""},""]
[null,null,null,null,null,null,null,null,null,null,null,null,null,0,{"$f":"IF(N2624=0,\"\",MAX(O$15:O2623)+1)","v":""},""]
[null,null,null,null,null,null,null,null,null,null,null,null,null,0,{"$f":"IF(N2625=0,\"\",MAX(O$15:O2624)+1)","v":""},""]
[null,null,null,null,null,null,null,null,null,null,null,null,null,0,{"$f":"IF(N2626=0,\"\",MAX(O$15:O2625)+1)","v":""},""]
[null,null,null,null,null,null,null,null,null,null,null,null,null,0,{"$f":"IF(N2627=0,\"\",MAX(O$15:O2626)+1)","v":""},""]
[null,null,null,null,null,null,null,null,null,null,null,null,null,0,{"$f":"IF(N2628=0,\"\",MAX(O$15:O2627)+1)","v":""},""]
[null,null,null,null,null,null,null,null,null,null,null,null,null,0,{"$f":"IF(N2629=0,\"\",MAX(O$15:O2628)+1)","v":""},""]
[null,null,null,null,null,null,null,null,null,null,null,null,null,0,{"$f":"IF(N2630=0,\"\",MAX(O$15:O2629)+1)","v":""},""]
[null,null,null,null,null,null,null,null,null,null,null,null,null,0,{"$f":"IF(N2631=0,\"\",MAX(O$15:O2630)+1)","v":""},""]
[null,null,null,null,null,null,null,null,null,null,null,null,null,0,{"$f":"IF(N2632=0,\"\",MAX(O$15:O2631)+1)","v":""},""]
[null,null,null,null,null,null,null,null,null,null,null,null,null,0,{"$f":"IF(N2633=0,\"\",MAX(O$15:O2632)+1)","v":""},""]
[null,null,null,null,null,null,null,null,null,null,null,null,null,0,{"$f":"IF(N2634=0,\"\",MAX(O$15:O2633)+1)","v":""},""]
[null,null,null,null,null,null,null,null,null,null,null,null,null,0,{"$f":"IF(N2635=0,\"\",MAX(O$15:O2634)+1)","v":""},""]
[null,null,null,null,null,null,null,null,null,null,null,null,null,0,{"$f":"IF(N2636=0,\"\",MAX(O$15:O2635)+1)","v":""},""]
[null,null,null,null,null,null,null,null,null,null,null,null,null,0,{"$f":"IF(N2637=0,\"\",MAX(O$15:O2636)+1)","v":""},""]
[null,null,null,null,null,null,null,null,null,null,null,null,null,0,{"$f":"IF(N2638=0,\"\",MAX(O$15:O2637)+1)","v":""},""]
[null,null,null,null,null,null,null,null,null,null,null,null,null,0,{"$f":"IF(N2639=0,\"\",MAX(O$15:O2638)+1)","v":""},""]
[null,null,null,null,null,null,null,null,null,null,null,null,null,0,{"$f":"IF(N2640=0,\"\",MAX(O$15:O2639)+1)","v":""},{"$f":"IFERROR(INDEX($N$15:$N$5014,MATCH(ROW()-ROW($O$14),$O$15:$O$5014,0)),\"\")","v":""}]
[null,null,null,null,null,null,null,null,null,null,null,null,null,0,{"$f":"IF(N2641=0,\"\",MAX(O$15:O2640)+1)","v":""},""]
[null,null,null,null,null,null,null,null,null,null,null,null,null,0,{"$f":"IF(N2642=0,\"\",MAX(O$15:O2641)+1)","v":""},""]
[null,null,null,null,null,null,null,null,null,null,null,null,null,0,{"$f":"IF(N2643=0,\"\",MAX(O$15:O2642)+1)","v":""},""]
[null,null,null,null,null,null,null,null,null,null,null,null,null,0,{"$f":"IF(N2644=0,\"\",MAX(O$15:O2643)+1)","v":""},""]
[null,null,null,null,null,null,null,null,null,null,null,null,null,0,{"$f":"IF(N2645=0,\"\",MAX(O$15:O2644)+1)","v":""},""]
[null,null,null,null,null,null,null,null,null,null,null,null,null,0,{"$f":"IF(N2646=0,\"\",MAX(O$15:O2645)+1)","v":""},""]
[null,null,null,null,null,null,null,null,null,null,null,null,null,0,{"$f":"IF(N2647=0,\"\",MAX(O$15:O2646)+1)","v":""},""]
[null,null,null,null,null,null,null,null,null,null,null,null,null,0,{"$f":"IF(N2648=0,\"\",MAX(O$15:O2647)+1)","v":""},""]
[null,null,null,null,null,null,null,null,null,null,null,null,null,0,{"$f":"IF(N2649=0,\"\",MAX(O$15:O2648)+1)","v":""},""]
[null,null,null,null,null,null,null,null,null,null,null,null,null,0,{"$f":"IF(N2650=0,\"\",MAX(O$15:O2649)+1)","v":""},""]
[null,null,null,null,null,null,null,null,null,null,null,null,null,0,{"$f":"IF(N2651=0,\"\",MAX(O$15:O2650)+1)","v":""},""]
[null,null,null,null,null,null,null,null,null,null,null,null,null,0,{"$f":"IF(N2652=0,\"\",MAX(O$15:O2651)+1)","v":""},""]
[null,null,null,null,null,null,null,null,null,null,null,null,null,0,{"$f":"IF(N2653=0,\"\",MAX(O$15:O2652)+1)","v":""},""]
[null,null,null,null,null,null,null,null,null,null,null,null,null,0,{"$f":"IF(N2654=0,\"\",MAX(O$15:O2653)+1)","v":""},""]
[null,null,null,null,null,null,null,null,null,null,null,null,null,0,{"$f":"IF(N2655=0,\"\",MAX(O$15:O2654)+1)","v":""},""]
[null,null,null,null,null,null,null,null,null,null,null,null,null,0,{"$f":"IF(N2656=0,\"\",MAX(O$15:O2655)+1)","v":""},""]
[null,null,null,null,null,null,null,null,null,null,null,null,null,0,{"$f":"IF(N2657=0,\"\",MAX(O$15:O2656)+1)","v":""},""]
[null,null,null,null,null,null,null,null,null,null,null,null,null,0,{"$f":"IF(N2658=0,\"\",MAX(O$15:O2657)+1)","v":""},""]
[null,null,null,null,null,null,null,null,null,null,null,null,null,0,{"$f":"IF(N2659=0,\"\",MAX(O$15:O2658)+1)","v":""},""]
[null,null,null,null,null,null,null,null,null,null,null,null,null,0,{"$f":"IF(N2660=0,\"\",MAX(O$15:O2659)+1)","v":""},""]
[null,null,null,null,null,null,null,null,null,null,null,null,null,0,{"$f":"IF(N2661=0,\"\",MAX(O$15:O2660)+1)","v":""},""]
[null,null,null,null,null,null,null,null,null,null,null,null,null,0,{"$f":"IF(N2662=0,\"\",MAX(O$15:O2661)+1)","v":""},""]
[null,null,null,null,null,null,null,null,null,null,null,null,null,0,{"$f":"IF(N2663=0,\"\",MAX(O$15:O2662)+1)","v":""},""]
[null,null,null,null,null,null,null,null,null,null,null,null,null,0,{"$f":"IF(N2664=0,\"\",MAX(O$15:O2663)+1)","v":""},""]
[null,null,null,null,null,null,null,null,null,null,null,null,null,0,{"$f":"IF(N2665=0,\"\",MAX(O$15:O2664)+1)","v":""},""]
[null,null,null,null,null,null,null,null,null,null,null,null,null,0,{"$f":"IF(N2666=0,\"\",MAX(O$15:O2665)+1)","v":""},""]
[null,null,null,null,null,null,null,null,null,null,null,null,null,0,{"$f":"IF(N2667=0,\"\",MAX(O$15:O2666)+1)","v":""},""]
[null,null,null,null,null,null,null,null,null,null,null,null,null,0,{"$f":"IF(N2668=0,\"\",MAX(O$15:O2667)+1)","v":""},""]
[null,null,null,null,null,null,null,null,null,null,null,null,null,0,{"$f":"IF(N2669=0,\"\",MAX(O$15:O2668)+1)","v":""},""]
[null,null,null,null,null,null,null,null,null,null,null,null,null,0,{"$f":"IF(N2670=0,\"\",MAX(O$15:O2669)+1)","v":""},""]
[null,null,null,null,null,null,null,null,null,null,null,null,null,0,{"$f":"IF(N2671=0,\"\",MAX(O$15:O2670)+1)","v":""},""]
[null,null,null,null,null,null,null,null,null,null,null,null,null,0,{"$f":"IF(N2672=0,\"\",MAX(O$15:O2671)+1)","v":""},""]
[null,null,null,null,null,null,null,null,null,null,null,null,null,0,{"$f":"IF(N2673=0,\"\",MAX(O$15:O2672)+1)","v":""},""]
[null,null,null,null,null,null,null,null,null,null,null,null,null,0,{"$f":"IF(N2674=0,\"\",MAX(O$15:O2673)+1)","v":""},""]
[null,null,null,null,null,null,null,null,null,null,null,null,null,0,{"$f":"IF(N2675=0,\"\",MAX(O$15:O2674)+1)","v":""},""]
[null,null,null,null,null,null,null,null,null,null,null,null,null,0,{"$f":"IF(N2676=0,\"\",MAX(O$15:O2675)+1)","v":""},""]
[null,null,null,null,null,null,null,null,null,null,null,null,null,0,{"$f":"IF(N2677=0,\"\",MAX(O$15:O2676)+1)","v":""},""]
[null,null,null,null,null,null,null,null,null,null,null,null,null,0,{"$f":"IF(N2678=0,\"\",MAX(O$15:O2677)+1)","v":""},""]
[null,null,null,null,null,null,null,null,null,null,null,null,null,0,{"$f":"IF(N2679=0,\"\",MAX(O$15:O2678)+1)","v":""},""]
[null,null,null,null,null,null,null,null,null,null,null,null,null,0,{"$f":"IF(N2680=0,\"\",MAX(O$15:O2679)+1)","v":""},""]
[null,null,null,null,null,null,null,null,null,null,null,null,null,0,{"$f":"IF(N2681=0,\"\",MAX(O$15:O2680)+1)","v":""},""]
[null,null,null,null,null,null,null,null,null,null,null,null,null,{"$f":"IFERROR(M2682*L2682/1000,\"\")","v":0},{"$f":"IF(N2682=0,\"\",MAX(O$15:O2681)+1)","v":""},""]
[null,null,null,null,null,null,null,null,null,null,null,null,null,0,{"$f":"IF(N2683=0,\"\",MAX(O$15:O2682)+1)","v":""},""]
[null,null,null,null,null,null,null,null,null,null,null,null,null,0,{"$f":"IF(N2684=0,\"\",MAX(O$15:O2683)+1)","v":""},""]
[null,null,null,null,null,null,null,null,null,null,null,null,null,0,{"$f":"IF(N2685=0,\"\",MAX(O$15:O2684)+1)","v":""},""]
[null,null,null,null,null,null,null,null,null,null,null,null,null,0,{"$f":"IF(N2686=0,\"\",MAX(O$15:O2685)+1)","v":""},""]
[null,null,null,null,null,null,null,null,null,null,null,null,null,0,{"$f":"IF(N2687=0,\"\",MAX(O$15:O2686)+1)","v":""},""]
[null,null,null,null,null,null,null,null,null,null,null,null,null,0,{"$f":"IF(N2688=0,\"\",MAX(O$15:O2687)+1)","v":""},""]
[null,null,null,null,null,null,null,null,null,null,null,null,null,0,{"$f":"IF(N2689=0,\"\",MAX(O$15:O2688)+1)","v":""},""]
[null,null,null,null,null,null,null,null,null,null,null,null,null,0,{"$f":"IF(N2690=0,\"\",MAX(O$15:O2689)+1)","v":""},""]
[null,null,null,null,null,null,null,null,null,null,null,null,null,0,{"$f":"IF(N2691=0,\"\",MAX(O$15:O2690)+1)","v":""},""]
[null,null,null,null,null,null,null,null,null,null,null,null,null,0,{"$f":"IF(N2692=0,\"\",MAX(O$15:O2691)+1)","v":""},""]
[null,null,null,null,null,null,null,null,null,null,null,null,null,0,{"$f":"IF(N2693=0,\"\",MAX(O$15:O2692)+1)","v":""},""]
[null,null,null,null,null,null,null,null,null,null,null,null,null,0,{"$f":"IF(N2694=0,\"\",MAX(O$15:O2693)+1)","v":""},""]
[null,null,null,null,null,null,null,null,null,null,null,null,null,0,{"$f":"IF(N2695=0,\"\",MAX(O$15:O2694)+1)","v":""},""]
[null,null,null,null,null,null,null,null,null,null,null,null,null,0,{"$f":"IF(N2696=0,\"\",MAX(O$15:O2695)+1)","v":""},""]
[null,null,null,null,null,null,null,null,null,null,null,null,null,0,{"$f":"IF(N2697=0,\"\",MAX(O$15:O2696)+1)","v":""},""]
[null,null,null,null,null,null,null,null,null,null,null,null,null,0,{"$f":"IF(N2698=0,\"\",MAX(O$15:O2697)+1)","v":""},""]
[null,null,null,null,null,null,null,null,null,null,null,null,null,0,{"$f":"IF(N2699=0,\"\",MAX(O$15:O2698)+1)","v":""},""]
[null,null,null,null,null,null,null,null,null,null,null,null,null,0,{"$f":"IF(N2700=0,\"\",MAX(O$15:O2699)+1)","v":""},""]
[null,null,null,null,null,null,null,null,null,null,null,null,null,0,{"$f":"IF(N2701=0,\"\",MAX(O$15:O2700)+1)","v":""},""]
[null,null,null,null,null,null,null,null,null,null,null,null,null,0,{"$f":"IF(N2702=0,\"\",MAX(O$15:O2701)+1)","v":""},""]
[null,null,null,null,null,null,null,null,null,null,null,null,null,0,{"$f":"IF(N2703=0,\"\",MAX(O$15:O2702)+1)","v":""},""]
[null,null,null,null,null,null,null,null,null,null,null,null,null,0,{"$f":"IF(N2704=0,\"\",MAX(O$15:O2703)+1)","v":""},{"$f":"IFERROR(INDEX($N$15:$N$5014,MATCH(ROW()-ROW($O$14),$O$15:$O$5014,0)),\"\")","v":""}]
[null,null,null,null,null,null,null,null,null,null,null,null,null,0,{"$f":"IF(N2705=0,\"\",MAX(O$15:O2704)+1)","v":""},""]
[null,null,null,null,null,null,null,null,null,null,null,null,null,0,{"$f":"IF(N2706=0,\"\",MAX(O$15:O2705)+1)","v":""},""]
[null,null,null,null,null,null,null,null,null,null,null,null,null,0,{"$f":"IF(N2707=0,\"\",MAX(O$15:O2706)+1)","v":""},""]
[null,null,null,null,null,null,null,null,null,null,null,null,null,0,{"$f":"IF(N2708=0,\"\",MAX(O$15:O2707)+1)","v":""},""]
[null,null,null,null,null,null,null,null,null,null,null,null,null,0,{"$f":"IF(N2709=0,\"\",MAX(O$15:O2708)+1)","v":""},""]
[null,null,null,null,null,null,null,null,null,null,null,null,null,0,{"$f":"IF(N2710=0,\"\",MAX(O$15:O2709)+1)","v":""},""]
[null,null,null,null,null,null,null,null,null,null,null,null,null,0,{"$f":"IF(N2711=0,\"\",MAX(O$15:O2710)+1)","v":""},""]
[null,null,null,null,null,null,null,null,null,null,null,null,null,0,{"$f":"IF(N2712=0,\"\",MAX(O$15:O2711)+1)","v":""},""]
[null,null,null,null,null,null,null,null,null,null,null,null,null,0,{"$f":"IF(N2713=0,\"\",MAX(O$15:O2712)+1)","v":""},""]
[null,null,null,null,null,null,null,null,null,null,null,null,null,0,{"$f":"IF(N2714=0,\"\",MAX(O$15:O2713)+1)","v":""},""]
[null,null,null,null,null,null,null,null,null,null,null,null,null,0,{"$f":"IF(N2715=0,\"\",MAX(O$15:O2714)+1)","v":""},""]
[null,null,null,null,null,null,null,null,null,null,null,null,null,0,{"$f":"IF(N2716=0,\"\",MAX(O$15:O2715)+1)","v":""},""]
[null,null,null,null,null,null,null,null,null,null,null,null,null,0,{"$f":"IF(N2717=0,\"\",MAX(O$15:O2716)+1)","v":""},""]
[null,null,null,null,null,null,null,null,null,null,null,null,null,0,{"$f":"IF(N2718=0,\"\",MAX(O$15:O2717)+1)","v":""},""]
[null,null,null,null,null,null,null,null,null,null,null,null,null,0,{"$f":"IF(N2719=0,\"\",MAX(O$15:O2718)+1)","v":""},""]
[null,null,null,null,null,null,null,null,null,null,null,null,null,0,{"$f":"IF(N2720=0,\"\",MAX(O$15:O2719)+1)","v":""},""]
[null,null,null,null,null,null,null,null,null,null,null,null,null,0,{"$f":"IF(N2721=0,\"\",MAX(O$15:O2720)+1)","v":""},""]
[null,null,null,null,null,null,null,null,null,null,null,null,null,0,{"$f":"IF(N2722=0,\"\",MAX(O$15:O2721)+1)","v":""},""]
[null,null,null,null,null,null,null,null,null,null,null,null,null,0,{"$f":"IF(N2723=0,\"\",MAX(O$15:O2722)+1)","v":""},""]
[null,null,null,null,null,null,null,null,null,null,null,null,null,0,{"$f":"IF(N2724=0,\"\",MAX(O$15:O2723)+1)","v":""},""]
[null,null,null,null,null,null,null,null,null,null,null,null,null,0,{"$f":"IF(N2725=0,\"\",MAX(O$15:O2724)+1)","v":""},""]
[null,null,null,null,null,null,null,null,null,null,null,null,null,0,{"$f":"IF(N2726=0,\"\",MAX(O$15:O2725)+1)","v":""},""]
[null,null,null,null,null,null,null,null,null,null,null,null,null,0,{"$f":"IF(N2727=0,\"\",MAX(O$15:O2726)+1)","v":""},""]
[null,null,null,null,null,null,null,null,null,null,null,null,null,0,{"$f":"IF(N2728=0,\"\",MAX(O$15:O2727)+1)","v":""},""]
[null,null,null,null,null,null,null,null,null,null,null,null,null,0,{"$f":"IF(N2729=0,\"\",MAX(O$15:O2728)+1)","v":""},""]
[null,null,null,null,null,null,null,null,null,null,null,null,null,0,{"$f":"IF(N2730=0,\"\",MAX(O$15:O2729)+1)","v":""},""]
[null,null,null,null,null,null,null,null,null,null,null,null,null,0,{"$f":"IF(N2731=0,\"\",MAX(O$15:O2730)+1)","v":""},""]
[null,null,null,null,null,null,null,null,null,null,null,null,null,0,{"$f":"IF(N2732=0,\"\",MAX(O$15:O2731)+1)","v":""},""]
[null,null,null,null,null,null,null,null,null,null,null,null,null,0,{"$f":"IF(N2733=0,\"\",MAX(O$15:O2732)+1)","v":""},""]
[null,null,null,null,null,null,null,null,null,null,null,null,null,0,{"$f":"IF(N2734=0,\"\",MAX(O$15:O2733)+1)","v":""},""]
[null,null,null,null,null,null,null,null,null,null,null,null,null,0,{"$f":"IF(N2735=0,\"\",MAX(O$15:O2734)+1)","v":""},""]
[null,null,null,null,null,null,null,null,null,null,null,null,null,0,{"$f":"IF(N2736=0,\"\",MAX(O$15:O2735)+1)","v":""},""]
[null,null,null,null,null,null,null,null,null,null,null,null,null,0,{"$f":"IF(N2737=0,\"\",MAX(O$15:O2736)+1)","v":""},""]
[null,null,null,null,null,null,null,null,null,null,null,null,null,0,{"$f":"IF(N2738=0,\"\",MAX(O$15:O2737)+1)","v":""},""]
[null,null,null,null,null,null,null,null,null,null,null,null,null,0,{"$f":"IF(N2739=0,\"\",MAX(O$15:O2738)+1)","v":""},""]
[null,null,null,null,null,null,null,null,null,null,null,null,null,0,{"$f":"IF(N2740=0,\"\",MAX(O$15:O2739)+1)","v":""},""]
[null,null,null,null,null,null,null,null,null,null,null,null,null,0,{"$f":"IF(N2741=0,\"\",MAX(O$15:O2740)+1)","v":""},""]
[null,null,null,null,null,null,null,null,null,null,null,null,null,0,{"$f":"IF(N2742=0,\"\",MAX(O$15:O2741)+1)","v":""},""]
[null,null,null,null,null,null,null,null,null,null,null,null,null,0,{"$f":"IF(N2743=0,\"\",MAX(O$15:O2742)+1)","v":""},""]
[null,null,null,null,null,null,null,null,null,null,null,null,null,0,{"$f":"IF(N2744=0,\"\",MAX(O$15:O2743)+1)","v":""},""]
[null,null,null,null,null,null,null,null,null,null,null,null,null,0,{"$f":"IF(N2745=0,\"\",MAX(O$15:O2744)+1)","v":""},""]
[null,null,null,null,null,null,null,null,null,null,null,null,null,{"$f":"IFERROR(M2746*L2746/1000,\"\")","v":0},{"$f":"IF(N2746=0,\"\",MAX(O$15:O2745)+1)","v":""},""]
[null,null,null,null,null,null,null,null,null,null,null,null,null,0,{"$f":"IF(N2747=0,\"\",MAX(O$15:O2746)+1)","v":""},""]
[null,null,null,null,null,null,null,null,null,null,null,null,null,0,{"$f":"IF(N2748=0,\"\",MAX(O$15:O2747)+1)","v":""},""]
[null,null,null,null,null,null,null,null,null,null,null,null,null,0,{"$f":"IF(N2749=0,\"\",MAX(O$15:O2748)+1)","v":""},""]
[null,null,null,null,null,null,null,null,null,null,null,null,null,0,{"$f":"IF(N2750=0,\"\",MAX(O$15:O2749)+1)","v":""},""]
[null,null,null,null,null,null,null,null,null,null,null,null,null,0,{"$f":"IF(N2751=0,\"\",MAX(O$15:O2750)+1)","v":""},""]
[null,null,null,null,null,null,null,null,null,null,null,null,null,0,{"$f":"IF(N2752=0,\"\",MAX(O$15:O2751)+1)","v":""},""]
[null,null,null,null,null,null,null,null,null,null,null,null,null,0,{"$f":"IF(N2753=0,\"\",MAX(O$15:O2752)+1)","v":""},""]
[null,null,null,null,null,null,null,null,null,null,null,null,null,0,{"$f":"IF(N2754=0,\"\",MAX(O$15:O2753)+1)","v":""},""]
[null,null,null,null,null,null,null,null,null,null,null,null,null,0,{"$f":"IF(N2755=0,\"\",MAX(O$15:O2754)+1)","v":""},""]
[null,null,null,null,null,null,null,null,null,null,null,null,null,0,{"$f":"IF(N2756=0,\"\",MAX(O$15:O2755)+1)","v":""},""]
[null,null,null,null,null,null,null,null,null,null,null,null,null,0,{"$f":"IF(N2757=0,\"\",MAX(O$15:O2756)+1)","v":""},""]
[null,null,null,null,null,null,null,null,null,null,null,null,null,0,{"$f":"IF(N2758=0,\"\",MAX(O$15:O2757)+1)","v":""},""]
[null,null,null,null,null,null,null,null,null,null,null,null,null,0,{"$f":"IF(N2759=0,\"\",MAX(O$15:O2758)+1)","v":""},""]
[null,null,null,null,null,null,null,null,null,null,null,null,null,0,{"$f":"IF(N2760=0,\"\",MAX(O$15:O2759)+1)","v":""},""]
[null,null,null,null,null,null,null,null,null,null,null,null,null,0,{"$f":"IF(N2761=0,\"\",MAX(O$15:O2760)+1)","v":""},""]
[null,null,null,null,null,null,null,null,null,null,null,null,null,0,{"$f":"IF(N2762=0,\"\",MAX(O$15:O2761)+1)","v":""},""]
[null,null,null,null,null,null,null,null,null,null,null,null,null,0,{"$f":"IF(N2763=0,\"\",MAX(O$15:O2762)+1)","v":""},""]
[null,null,null,null,null,null,null,null,null,null,null,null,null,0,{"$f":"IF(N2764=0,\"\",MAX(O$15:O2763)+1)","v":""},""]
[null,null,null,null,null,null,null,null,null,null,null,null,null,0,{"$f":"IF(N2765=0,\"\",MAX(O$15:O2764)+1)","v":""},""]
[null,null,null,null,null,null,null,null,null,null,null,null,null,0,{"$f":"IF(N2766=0,\"\",MAX(O$15:O2765)+1)","v":""},""]
[null,null,null,null,null,null,null,null,null,null,null,null,null,0,{"$f":"IF(N2767=0,\"\",MAX(O$15:O2766)+1)","v":""},""]
[null,null,null,null,null,null,null,null,null,null,null,null,null,0,{"$f":"IF(N2768=0,\"\",MAX(O$15:O2767)+1)","v":""},{"$f":"IFERROR(INDEX($N$15:$N$5014,MATCH(ROW()-ROW($O$14),$O$15:$O$5014,0)),\"\")","v":""}]
[null,null,null,null,null,null,null,null,null,null,null,null,null,0,{"$f":"IF(N2769=0,\"\",MAX(O$15:O2768)+1)","v":""},""]
[null,null,null,null,null,null,null,null,null,null,null,null,null,0,{"$f":"IF(N2770=0,\"\",MAX(O$15:O2769)+1)","v":""},""]
[null,null,null,null,null,null,null,null,null,null,null,null,null,0,{"$f":"IF(N2771=0,\"\",MAX(O$15:O2770)+1)","v":""},""]
[null,null,null,null,null,null,null,null,null,null,null,null,null,0,{"$f":"IF(N2772=0,\"\",MAX(O$15:O2771)+1)","v":""},""]
[null,null,null,null,null,null,null,null,null,null,null,null,null,0,{"$f":"IF(N2773=0,\"\",MAX(O$15:O2772)+1)","v":""},""]
[null,null,null,null,null,null,null,null,null,null,null,null,null,0,{"$f":"IF(N2774=0,\"\",MAX(O$15:O2773)+1)","v":""},""]
[null,null,null,null,null,null,null,null,null,null,null,null,null,0,{"$f":"IF(N2775=0,\"\",MAX(O$15:O2774)+1)","v":""},""]
[null,null,null,null,null,null,null,null,null,null,null,null,null,0,{"$f":"IF(N2776=0,\"\",MAX(O$15:O2775)+1)","v":""},""]
[null,null,null,null,null,null,null,null,null,null,null,null,null,0,{"$f":"IF(N2777=0,\"\",MAX(O$15:O2776)+1)","v":""},""]
[null,null,null,null,null,null,null,null,null,null,null,null,null,0,{"$f":"IF(N2778=0,\"\",MAX(O$15:O2777)+1)","v":""},""]
[null,null,null,null,null,null,null,null,null,null,null,null,null,0,{"$f":"IF(N2779=0,\"\",MAX(O$15:O2778)+1)","v":""},""]
[null,null,null,null,null,null,null,null,null,null,null,null,null,0,{"$f":"IF(N2780=0,\"\",MAX(O$15:O2779)+1)","v":""},""]
[null,null,null,null,null,null,null,null,null,null,null,null,null,0,{"$f":"IF(N2781=0,\"\",MAX(O$15:O2780)+1)","v":""},""]
[null,null,null,null,null,null,null,null,null,null,null,null,null,0,{"$f":"IF(N2782=0,\"\",MAX(O$15:O2781)+1)","v":""},""]
[null,null,null,null,null,null,null,null,null,null,null,null,null,0,{"$f":"IF(N2783=0,\"\",MAX(O$15:O2782)+1)","v":""},""]
[null,null,null,null,null,null,null,null,null,null,null,null,null,0,{"$f":"IF(N2784=0,\"\",MAX(O$15:O2783)+1)","v":""},""]
[null,null,null,null,null,null,null,null,null,null,null,null,null,0,{"$f":"IF(N2785=0,\"\",MAX(O$15:O2784)+1)","v":""},""]
[null,null,null,null,null,null,null,null,null,null,null,null,null,0,{"$f":"IF(N2786=0,\"\",MAX(O$15:O2785)+1)","v":""},""]
[null,null,null,null,null,null,null,null,null,null,null,null,null,0,{"$f":"IF(N2787=0,\"\",MAX(O$15:O2786)+1)","v":""},""]
[null,null,null,null,null,null,null,null,null,null,null,null,null,0,{"$f":"IF(N2788=0,\"\",MAX(O$15:O2787)+1)","v":""},""]
[null,null,null,null,null,null,null,null,null,null,null,null,null,0,{"$f":"IF(N2789=0,\"\",MAX(O$15:O2788)+1)","v":""},""]
[null,null,null,null,null,null,null,null,null,null,null,null,null,0,{"$f":"IF(N2790=0,\"\",MAX(O$15:O2789)+1)","v":""},""]
[null,null,null,null,null,null,null,null,null,null,null,null,null,0,{"$f":"IF(N2791=0,\"\",MAX(O$15:O2790)+1)","v":""},""]
[null,null,null,null,null,null,null,null,null,null,null,null,null,0,{"$f":"IF(N2792=0,\"\",MAX(O$15:O2791)+1)","v":""},""]
[null,null,null,null,null,null,null,null,null,null,null,null,null,0,{"$f":"IF(N2793=0,\"\",MAX(O$15:O2792)+1)","v":""},""]
[null,null,null,null,null,null,null,null,null,null,null,null,null,0,{"$f":"IF(N2794=0,\"\",MAX(O$15:O2793)+1)","v":""},""]
[null,null,null,null,null,null,null,null,null,null,null,null,null,0,{"$f":"IF(N2795=0,\"\",MAX(O$15:O2794)+1)","v":""},""]
[null,null,null,null,null,null,null,null,null,null,null,null,null,0,{"$f":"IF(N2796=0,\"\",MAX(O$15:O2795)+1)","v":""},""]
[null,null,null,null,null,null,null,null,null,null,null,null,null,0,{"$f":"IF(N2797=0,\"\",MAX(O$15:O2796)+1)","v":""},""]
[null,null,null,null,null,null,null,null,null,null,null,null,null,0,{"$f":"IF(N2798=0,\"\",MAX(O$15:O2797)+1)","v":""},""]
[null,null,null,null,null,null,null,null,null,null,null,null,null,0,{"$f":"IF(N2799=0,\"\",MAX(O$15:O2798)+1)","v":""},""]
[null,null,null,null,null,null,null,null,null,null,null,null,null,0,{"$f":"IF(N2800=0,\"\",MAX(O$15:O2799)+1)","v":""},""]
[null,null,null,null,null,null,null,null,null,null,null,null,null,0,{"$f":"IF(N2801=0,\"\",MAX(O$15:O2800)+1)","v":""},""]
[null,null,null,null,null,null,null,null,null,null,null,null,null,0,{"$f":"IF(N2802=0,\"\",MAX(O$15:O2801)+1)","v":""},""]
[null,null,null,null,null,null,null,null,null,null,null,null,null,0,{"$f":"IF(N2803=0,\"\",MAX(O$15:O2802)+1)","v":""},""]
[null,null,null,null,null,null,null,null,null,null,null,null,null,0,{"$f":"IF(N2804=0,\"\",MAX(O$15:O2803)+1)","v":""},""]
[null,null,null,null,null,null,null,null,null,null,null,null,null,0,{"$f":"IF(N2805=0,\"\",MAX(O$15:O2804)+1)","v":""},""]
[null,null,null,null,null,null,null,null,null,null,null,null,null,0,{"$f":"IF(N2806=0,\"\",MAX(O$15:O2805)+1)","v":""},""]
[null,null,null,null,null,null,null,null,null,null,null,null,null,0,{"$f":"IF(N2807=0,\"\",MAX(O$15:O2806)+1)","v":""},""]
[null,null,null,null,null,null,null,null,null,null,null,null,null,0,{"$f":"IF(N2808=0,\"\",MAX(O$15:O2807)+1)","v":""},""]
[null,null,null,null,null,null,null,null,null,null,null,null,null,0,{"$f":"IF(N2809=0,\"\",MAX(O$15:O2808)+1)","v":""},""]
[null,null,null,null,null,null,null,null,null,null,null,null,null,{"$f":"IFERROR(M2810*L2810/1000,\"\")","v":0},{"$f":"IF(N2810=0,\"\",MAX(O$15:O2809)+1)","v":""},""]
[null,null,null,null,null,null,null,null,null,null,null,null,null,0,{"$f":"IF(N2811=0,\"\",MAX(O$15:O2810)+1)","v":""},""]
[null,null,null,null,null,null,null,null,null,null,null,null,null,0,{"$f":"IF(N2812=0,\"\",MAX(O$15:O2811)+1)","v":""},""]
[null,null,null,null,null,null,null,null,null,null,null,null,null,0,{"$f":"IF(N2813=0,\"\",MAX(O$15:O2812)+1)","v":""},""]
[null,null,null,null,null,null,null,null,null,null,null,null,null,0,{"$f":"IF(N2814=0,\"\",MAX(O$15:O2813)+1)","v":""},""]
[null,null,null,null,null,null,null,null,null,null,null,null,null,0,{"$f":"IF(N2815=0,\"\",MAX(O$15:O2814)+1)","v":""},""]
[null,null,null,null,null,null,null,null,null,null,null,null,null,0,{"$f":"IF(N2816=0,\"\",MAX(O$15:O2815)+1)","v":""},""]
[null,null,null,null,null,null,null,null,null,null,null,null,null,0,{"$f":"IF(N2817=0,\"\",MAX(O$15:O2816)+1)","v":""},""]
[null,null,null,null,null,null,null,null,null,null,null,null,null,0,{"$f":"IF(N2818=0,\"\",MAX(O$15:O2817)+1)","v":""},""]
[null,null,null,null,null,null,null,null,null,null,null,null,null,0,{"$f":"IF(N2819=0,\"\",MAX(O$15:O2818)+1)","v":""},""]
[null,null,null,null,null,null,null,null,null,null,null,null,null,0,{"$f":"IF(N2820=0,\"\",MAX(O$15:O2819)+1)","v":""},""]
[null,null,null,null,null,null,null,null,null,null,null,null,null,0,{"$f":"IF(N2821=0,\"\",MAX(O$15:O2820)+1)","v":""},""]
[null,null,null,null,null,null,null,null,null,null,null,null,null,0,{"$f":"IF(N2822=0,\"\",MAX(O$15:O2821)+1)","v":""},""]
[null,null,null,null,null,null,null,null,null,null,null,null,null,0,{"$f":"IF(N2823=0,\"\",MAX(O$15:O2822)+1)","v":""},""]
[null,null,null,null,null,null,null,null,null,null,null,null,null,0,{"$f":"IF(N2824=0,\"\",MAX(O$15:O2823)+1)","v":""},""]
[null,null,null,null,null,null,null,null,null,null,null,null,null,0,{"$f":"IF(N2825=0,\"\",MAX(O$15:O2824)+1)","v":""},""]
[null,null,null,null,null,null,null,null,null,null,null,null,null,0,{"$f":"IF(N2826=0,\"\",MAX(O$15:O2825)+1)","v":""},""]
[null,null,null,null,null,null,null,null,null,null,null,null,null,0,{"$f":"IF(N2827=0,\"\",MAX(O$15:O2826)+1)","v":""},""]
[null,null,null,null,null,null,null,null,null,null,null,null,null,0,{"$f":"IF(N2828=0,\"\",MAX(O$15:O2827)+1)","v":""},""]
[null,null,null,null,null,null,null,null,null,null,null,null,null,0,{"$f":"IF(N2829=0,\"\",MAX(O$15:O2828)+1)","v":""},""]
[null,null,null,null,null,null,null,null,null,null,null,null,null,0,{"$f":"IF(N2830=0,\"\",MAX(O$15:O2829)+1)","v":""},""]
[null,null,null,null,null,null,null,null,null,null,null,null,null,0,{"$f":"IF(N2831=0,\"\",MAX(O$15:O2830)+1)","v":""},""]
[null,null,null,null,null,null,null,null,null,null,null,null,null,0,{"$f":"IF(N2832=0,\"\",MAX(O$15:O2831)+1)","v":""},{"$f":"IFERROR(INDEX($N$15:$N$5014,MATCH(ROW()-ROW($O$14),$O$15:$O$5014,0)),\"\")","v":""}]
[null,null,null,null,null,null,null,null,null,null,null,null,null,0,{"$f":"IF(N2833=0,\"\",MAX(O$15:O2832)+1)","v":""},""]
[null,null,null,null,null,null,null,null,null,null,null,null,null,0,{"$f":"IF(N2834=0,\"\",MAX(O$15:O2833)+1)","v":""},""]
[null,null,null,null,null,null,null,null,null,null,null,null,null,0,{"$f":"IF(N2835=0,\"\",MAX(O$15:O2834)+1)","v":""},""]
[null,null,null,null,null,null,null,null,null,null,null,null,null,0,{"$f":"IF(N2836=0,\"\",MAX(O$15:O2835)+1)","v":""},""]
[null,null,null,null,null,null,null,null,null,null,null,null,null,0,{"$f":"IF(N2837=0,\"\",MAX(O$15:O2836)+1)","v":""},""]
[null,null,null,null,null,null,null,null,null,null,null,null,null,0,{"$f":"IF(N2838=0,\"\",MAX(O$15:O2837)+1)","v":""},""]
[null,null,null,null,null,null,null,null,null,null,null,null,null,0,{"$f":"IF(N2839=0,\"\",MAX(O$15:O2838)+1)","v":""},""]
[null,null,null,null,null,null,null,null,null,null,null,null,null,0,{"$f":"IF(N2840=0,\"\",MAX(O$15:O2839)+1)","v":""},""]
[null,null,null,null,null,null,null,null,null,null,null,null,null,0,{"$f":"IF(N2841=0,\"\",MAX(O$15:O2840)+1)","v":""},""]
[null,null,null,null,null,null,null,null,null,null,null,null,null,0,{"$f":"IF(N2842=0,\"\",MAX(O$15:O2841)+1)","v":""},""]
[null,null,null,null,null,null,null,null,null,null,null,null,null,0,{"$f":"IF(N2843=0,\"\",MAX(O$15:O2842)+1)","v":""},""]
[null,null,null,null,null,null,null,null,null,null,null,null,null,0,{"$f":"IF(N2844=0,\"\",MAX(O$15:O2843)+1)","v":""},""]
[null,null,null,null,null,null,null,null,null,null,null,null,null,0,{"$f":"IF(N2845=0,\"\",MAX(O$15:O2844)+1)","v":""},""]
[null,null,null,null,null,null,null,null,null,null,null,null,null,0,{"$f":"IF(N2846=0,\"\",MAX(O$15:O2845)+1)","v":""},""]
[null,null,null,null,null,null,null,null,null,null,null,null,null,0,{"$f":"IF(N2847=0,\"\",MAX(O$15:O2846)+1)","v":""},""]
[null,null,null,null,null,null,null,null,null,null,null,null,null,0,{"$f":"IF(N2848=0,\"\",MAX(O$15:O2847)+1)","v":""},""]
[null,null,null,null,null,null,null,null,null,null,null,null,null,0,{"$f":"IF(N2849=0,\"\",MAX(O$15:O2848)+1)","v":""},""]
[null,null,null,null,null,null,null,null,null,null,null,null,null,0,{"$f":"IF(N2850=0,\"\",MAX(O$15:O2849)+1)","v":""},""]
[null,null,null,null,null,null,null,null,null,null,null,null,null,0,{"$f":"IF(N2851=0,\"\",MAX(O$15:O2850)+1)","v":""},""]
[null,null,null,null,null,null,null,null,null,null,null,null,null,0,{"$f":"IF(N2852=0,\"\",MAX(O$15:O2851)+1)","v":""},""]
[null,null,null,null,null,null,null,null,null,null,null,null,null,0,{"$f":"IF(N2853=0,\"\",MAX(O$15:O2852)+1)","v":""},""]
[null,null,null,null,null,null,null,null,null,null,null,null,null,0,{"$f":"IF(N2854=0,\"\",MAX(O$15:O2853)+1)","v":""},""]
[null,null,null,null,null,null,null,null,null,null,null,null,null,0,{"$f":"IF(N2855=0,\"\",MAX(O$15:O2854)+1)","v":""},""]
[null,null,null,null,null,null,null,null,null,null,null,null,null,0,{"$f":"IF(N2856=0,\"\",MAX(O$15:O2855)+1)","v":""},""]
[null,null,null,null,null,null,null,null,null,null,null,null,null,0,{"$f":"IF(N2857=0,\"\",MAX(O$15:O2856)+1)","v":""},""]
[null,null,null,null,null,null,null,null,null,null,null,null,null,0,{"$f":"IF(N2858=0,\"\",MAX(O$15:O2857)+1)","v":""},""]
[null,null,null,null,null,null,null,null,null,null,null,null,null,0,{"$f":"IF(N2859=0,\"\",MAX(O$15:O2858)+1)","v":""},""]
[null,null,null,null,null,null,null,null,null,null,null,null,null,0,{"$f":"IF(N2860=0,\"\",MAX(O$15:O2859)+1)","v":""},""]
[null,null,null,null,null,null,null,null,null,null,null,null,null,0,{"$f":"IF(N2861=0,\"\",MAX(O$15:O2860)+1)","v":""},""]
[null,null,null,null,null,null,null,null,null,null,null,null,null,0,{"$f":"IF(N2862=0,\"\",MAX(O$15:O2861)+1)","v":""},""]
[null,null,null,null,null,null,null,null,null,null,null,null,null,0,{"$f":"IF(N2863=0,\"\",MAX(O$15:O2862)+1)","v":""},""]
[null,null,null,null,null,null,null,null,null,null,null,null,null,0,{"$f":"IF(N2864=0,\"\",MAX(O$15:O2863)+1)","v":""},""]
[null,null,null,null,null,null,null,null,null,null,null,null,null,0,{"$f":"IF(N2865=0,\"\",MAX(O$15:O2864)+1)","v":""},""]
[null,null,null,null,null,null,null,null,null,null,null,null,null,0,{"$f":"IF(N2866=0,\"\",MAX(O$15:O2865)+1)","v":""},""]
[null,null,null,null,null,null,null,null,null,null,null,null,null,0,{"$f":"IF(N2867=0,\"\",MAX(O$15:O2866)+1)","v":""},""]
[null,null,null,null,null,null,null,null,null,null,null,null,null,0,{"$f":"IF(N2868=0,\"\",MAX(O$15:O2867)+1)","v":""},""]
[null,null,null,null,null,null,null,null,null,null,null,null,null,0,{"$f":"IF(N2869=0,\"\",MAX(O$15:O2868)+1)","v":""},""]
[null,null,null,null,null,null,null,null,null,null,null,null,null,0,{"$f":"IF(N2870=0,\"\",MAX(O$15:O2869)+1)","v":""},""]
[null,null,null,null,null,null,null,null,null,null,null,null,null,0,{"$f":"IF(N2871=0,\"\",MAX(O$15:O2870)+1)","v":""},""]
[null,null,null,null,null,null,null,null,null,null,null,null,null,0,{"$f":"IF(N2872=0,\"\",MAX(O$15:O2871)+1)","v":""},""]
[null,null,null,null,null,null,null,null,null,null,null,null,null,0,{"$f":"IF(N2873=0,\"\",MAX(O$15:O2872)+1)","v":""},""]
[null,null,null,null,null,null,null,null,null,null,null,null,null,{"$f":"IFERROR(M2874*L2874/1000,\"\")","v":0},{"$f":"IF(N2874=0,\"\",MAX(O$15:O2873)+1)","v":""},""]
[null,null,null,null,null,null,null,null,null,null,null,null,null,0,{"$f":"IF(N2875=0,\"\",MAX(O$15:O2874)+1)","v":""},""]
[null,null,null,null,null,null,null,null,null,null,null,null,null,0,{"$f":"IF(N2876=0,\"\",MAX(O$15:O2875)+1)","v":""},""]
[null,null,null,null,null,null,null,null,null,null,null,null,null,0,{"$f":"IF(N2877=0,\"\",MAX(O$15:O2876)+1)","v":""},""]
[null,null,null,null,null,null,null,null,null,null,null,null,null,0,{"$f":"IF(N2878=0,\"\",MAX(O$15:O2877)+1)","v":""},""]
[null,null,null,null,null,null,null,null,null,null,null,null,null,0,{"$f":"IF(N2879=0,\"\",MAX(O$15:O2878)+1)","v":""},""]
[null,null,null,null,null,null,null,null,null,null,null,null,null,0,{"$f":"IF(N2880=0,\"\",MAX(O$15:O2879)+1)","v":""},""]
[null,null,null,null,null,null,null,null,null,null,null,null,null,0,{"$f":"IF(N2881=0,\"\",MAX(O$15:O2880)+1)","v":""},""]
[null,null,null,null,null,null,null,null,null,null,null,null,null,0,{"$f":"IF(N2882=0,\"\",MAX(O$15:O2881)+1)","v":""},""]
[null,null,null,null,null,null,null,null,null,null,null,null,null,0,{"$f":"IF(N2883=0,\"\",MAX(O$15:O2882)+1)","v":""},""]
[null,null,null,null,null,null,null,null,null,null,null,null,null,0,{"$f":"IF(N2884=0,\"\",MAX(O$15:O2883)+1)","v":""},""]
[null,null,null,null,null,null,null,null,null,null,null,null,null,0,{"$f":"IF(N2885=0,\"\",MAX(O$15:O2884)+1)","v":""},""]
[null,null,null,null,null,null,null,null,null,null,null,null,null,0,{"$f":"IF(N2886=0,\"\",MAX(O$15:O2885)+1)","v":""},""]
[null,null,null,null,null,null,null,null,null,null,null,null,null,0,{"$f":"IF(N2887=0,\"\",MAX(O$15:O2886)+1)","v":""},""]
[null,null,null,null,null,null,null,null,null,null,null,null,null,0,{"$f":"IF(N2888=0,\"\",MAX(O$15:O2887)+1)","v":""},""]
[null,null,null,null,null,null,null,null,null,null,null,null,null,0,{"$f":"IF(N2889=0,\"\",MAX(O$15:O2888)+1)","v":""},""]
[null,null,null,null,null,null,null,null,null,null,null,null,null,0,{"$f":"IF(N2890=0,\"\",MAX(O$15:O2889)+1)","v":""},""]
[null,null,null,null,null,null,null,null,null,null,null,null,null,0,{"$f":"IF(N2891=0,\"\",MAX(O$15:O2890)+1)","v":""},""]
[null,null,null,null,null,null,null,null,null,null,null,null,null,0,{"$f":"IF(N2892=0,\"\",MAX(O$15:O2891)+1)","v":""},""]
[null,null,null,null,null,null,null,null,null,null,null,null,null,0,{"$f":"IF(N2893=0,\"\",MAX(O$15:O2892)+1)","v":""},""]
[null,null,null,null,null,null,null,null,null,null,null,null,null,0,{"$f":"IF(N2894=0,\"\",MAX(O$15:O2893)+1)","v":""},""]
[null,null,null,null,null,null,null,null,null,null,null,null,null,0,{"$f":"IF(N2895=0,\"\",MAX(O$15:O2894)+1)","v":""},""]
[null,null,null,null,null,null,null,null,null,null,null,null,null,0,{"$f":"IF(N2896=0,\"\",MAX(O$15:O2895)+1)","v":""},{"$f":"IFERROR(INDEX($N$15:$N$5014,MATCH(ROW()-ROW($O$14),$O$15:$O$5014,0)),\"\")","v":""}]
[null,null,null,null,null,null,null,null,null,null,null,null,null,0,{"$f":"IF(N2897=0,\"\",MAX(O$15:O2896)+1)","v":""},""]
[null,null,null,null,null,null,null,null,null,null,null,null,null,0,{"$f":"IF(N2898=0,\"\",MAX(O$15:O2897)+1)","v":""},""]
[null,null,null,null,null,null,null,null,null,null,null,null,null,0,{"$f":"IF(N2899=0,\"\",MAX(O$15:O2898)+1)","v":""},""]
[null,null,null,null,null,null,null,null,null,null,null,null,null,0,{"$f":"IF(N2900=0,\"\",MAX(O$15:O2899)+1)","v":""},""]
[null,null,null,null,null,null,null,null,null,null,null,null,null,0,{"$f":"IF(N2901=0,\"\",MAX(O$15:O2900)+1)","v":""},""]
[null,null,null,null,null,null,null,null,null,null,null,null,null,0,{"$f":"IF(N2902=0,\"\",MAX(O$15:O2901)+1)","v":""},""]
[null,null,null,null,null,null,null,null,null,null,null,null,null,0,{"$f":"IF(N2903=0,\"\",MAX(O$15:O2902)+1)","v":""},""]
[null,null,null,null,null,null,null,null,null,null,null,null,null,0,{"$f":"IF(N2904=0,\"\",MAX(O$15:O2903)+1)","v":""},""]
[null,null,null,null,null,null,null,null,null,null,null,null,null,0,{"$f":"IF(N2905=0,\"\",MAX(O$15:O2904)+1)","v":""},""]
[null,null,null,null,null,null,null,null,null,null,null,null,null,0,{"$f":"IF(N2906=0,\"\",MAX(O$15:O2905)+1)","v":""},""]
[null,null,null,null,null,null,null,null,null,null,null,null,null,0,{"$f":"IF(N2907=0,\"\",MAX(O$15:O2906)+1)","v":""},""]
[null,null,null,null,null,null,null,null,null,null,null,null,null,0,{"$f":"IF(N2908=0,\"\",MAX(O$15:O2907)+1)","v":""},""]
[null,null,null,null,null,null,null,null,null,null,null,null,null,0,{"$f":"IF(N2909=0,\"\",MAX(O$15:O2908)+1)","v":""},""]
[null,null,null,null,null,null,null,null,null,null,null,null,null,0,{"$f":"IF(N2910=0,\"\",MAX(O$15:O2909)+1)","v":""},""]
[null,null,null,null,null,null,null,null,null,null,null,null,null,0,{"$f":"IF(N2911=0,\"\",MAX(O$15:O2910)+1)","v":""},""]
[null,null,null,null,null,null,null,null,null,null,null,null,null,0,{"$f":"IF(N2912=0,\"\",MAX(O$15:O2911)+1)","v":""},""]
[null,null,null,null,null,null,null,null,null,null,null,null,null,0,{"$f":"IF(N2913=0,\"\",MAX(O$15:O2912)+1)","v":""},""]
[null,null,null,null,null,null,null,null,null,null,null,null,null,0,{"$f":"IF(N2914=0,\"\",MAX(O$15:O2913)+1)","v":""},""]
[null,null,null,null,null,null,null,null,null,null,null,null,null,0,{"$f":"IF(N2915=0,\"\",MAX(O$15:O2914)+1)","v":""},""]
[null,null,null,null,null,null,null,null,null,null,null,null,null,0,{"$f":"IF(N2916=0,\"\",MAX(O$15:O2915)+1)","v":""},""]
[null,null,null,null,null,null,null,null,null,null,null,null,null,0,{"$f":"IF(N2917=0,\"\",MAX(O$15:O2916)+1)","v":""},""]
[null,null,null,null,null,null,null,null,null,null,null,null,null,0,{"$f":"IF(N2918=0,\"\",MAX(O$15:O2917)+1)","v":""},""]
[null,null,null,null,null,null,null,null,null,null,null,null,null,0,{"$f":"IF(N2919=0,\"\",MAX(O$15:O2918)+1)","v":""},""]
[null,null,null,null,null,null,null,null,null,null,null,null,null,0,{"$f":"IF(N2920=0,\"\",MAX(O$15:O2919)+1)","v":""},""]
[null,null,null,null,null,null,null,null,null,null,null,null,null,0,{"$f":"IF(N2921=0,\"\",MAX(O$15:O2920)+1)","v":""},""]
[null,null,null,null,null,null,null,null,null,null,null,null,null,0,{"$f":"IF(N2922=0,\"\",MAX(O$15:O2921)+1)","v":""},""]
[null,null,null,null,null,null,null,null,null,null,null,null,null,0,{"$f":"IF(N2923=0,\"\",MAX(O$15:O2922)+1)","v":""},""]
[null,null,null,null,null,null,null,null,null,null,null,null,null,0,{"$f":"IF(N2924=0,\"\",MAX(O$15:O2923)+1)","v":""},""]
[null,null,null,null,null,null,null,null,null,null,null,null,null,0,{"$f":"IF(N2925=0,\"\",MAX(O$15:O2924)+1)","v":""},""]
[null,null,null,null,null,null,null,null,null,null,null,null,null,0,{"$f":"IF(N2926=0,\"\",MAX(O$15:O2925)+1)","v":""},""]
[null,null,null,null,null,null,null,null,null,null,null,null,null,0,{"$f":"IF(N2927=0,\"\",MAX(O$15:O2926)+1)","v":""},""]
[null,null,null,null,null,null,null,null,null,null,null,null,null,0,{"$f":"IF(N2928=0,\"\",MAX(O$15:O2927)+1)","v":""},""]
[null,null,null,null,null,null,null,null,null,null,null,null,null,0,{"$f":"IF(N2929=0,\"\",MAX(O$15:O2928)+1)","v":""},""]
[null,null,null,null,null,null,null,null,null,null,null,null,null,0,{"$f":"IF(N2930=0,\"\",MAX(O$15:O2929)+1)","v":""},""]
[null,null,null,null,null,null,null,null,null,null,null,null,null,0,{"$f":"IF(N2931=0,\"\",MAX(O$15:O2930)+1)","v":""},""]
[null,null,null,null,null,null,null,null,null,null,null,null,null,0,{"$f":"IF(N2932=0,\"\",MAX(O$15:O2931)+1)","v":""},""]
[null,null,null,null,null,null,null,null,null,null,null,null,null,0,{"$f":"IF(N2933=0,\"\",MAX(O$15:O2932)+1)","v":""},""]
[null,null,null,null,null,null,null,null,null,null,null,null,null,0,{"$f":"IF(N2934=0,\"\",MAX(O$15:O2933)+1)","v":""},""]
[null,null,null,null,null,null,null,null,null,null,null,null,null,0,{"$f":"IF(N2935=0,\"\",MAX(O$15:O2934)+1)","v":""},""]
[null,null,null,null,null,null,null,null,null,null,null,null,null,0,{"$f":"IF(N2936=0,\"\",MAX(O$15:O2935)+1)","v":""},""]
[null,null,null,null,null,null,null,null,null,null,null,null,null,0,{"$f":"IF(N2937=0,\"\",MAX(O$15:O2936)+1)","v":""},""]
[null,null,null,null,null,null,null,null,null,null,null,null,null,{"$f":"IFERROR(M2938*L2938/1000,\"\")","v":0},{"$f":"IF(N2938=0,\"\",MAX(O$15:O2937)+1)","v":""},""]
[null,null,null,null,null,null,null,null,null,null,null,null,null,0,{"$f":"IF(N2939=0,\"\",MAX(O$15:O2938)+1)","v":""},""]
[null,null,null,null,null,null,null,null,null,null,null,null,null,0,{"$f":"IF(N2940=0,\"\",MAX(O$15:O2939)+1)","v":""},""]
[null,null,null,null,null,null,null,null,null,null,null,null,null,0,{"$f":"IF(N2941=0,\"\",MAX(O$15:O2940)+1)","v":""},""]
[null,null,null,null,null,null,null,null,null,null,null,null,null,0,{"$f":"IF(N2942=0,\"\",MAX(O$15:O2941)+1)","v":""},""]
[null,null,null,null,null,null,null,null,null,null,null,null,null,0,{"$f":"IF(N2943=0,\"\",MAX(O$15:O2942)+1)","v":""},""]
[null,null,null,null,null,null,null,null,null,null,null,null,null,0,{"$f":"IF(N2944=0,\"\",MAX(O$15:O2943)+1)","v":""},""]
[null,null,null,null,null,null,null,null,null,null,null,null,null,0,{"$f":"IF(N2945=0,\"\",MAX(O$15:O2944)+1)","v":""},""]
[null,null,null,null,null,null,null,null,null,null,null,null,null,0,{"$f":"IF(N2946=0,\"\",MAX(O$15:O2945)+1)","v":""},""]
[null,null,null,null,null,null,null,null,null,null,null,null,null,0,{"$f":"IF(N2947=0,\"\",MAX(O$15:O2946)+1)","v":""},""]
[null,null,null,null,null,null,null,null,null,null,null,null,null,0,{"$f":"IF(N2948=0,\"\",MAX(O$15:O2947)+1)","v":""},""]
[null,null,null,null,null,null,null,null,null,null,null,null,null,0,{"$f":"IF(N2949=0,\"\",MAX(O$15:O2948)+1)","v":""},""]
[null,null,null,null,null,null,null,null,null,null,null,null,null,0,{"$f":"IF(N2950=0,\"\",MAX(O$15:O2949)+1)","v":""},""]
[null,null,null,null,null,null,null,null,null,null,null,null,null,0,{"$f":"IF(N2951=0,\"\",MAX(O$15:O2950)+1)","v":""},""]
[null,null,null,null,null,null,null,null,null,null,null,null,null,0,{"$f":"IF(N2952=0,\"\",MAX(O$15:O2951)+1)","v":""},""]
[null,null,null,null,null,null,null,null,null,null,null,null,null,0,{"$f":"IF(N2953=0,\"\",MAX(O$15:O2952)+1)","v":""},""]
[null,null,null,null,null,null,null,null,null,null,null,null,null,0,{"$f":"IF(N2954=0,\"\",MAX(O$15:O2953)+1)","v":""},""]
[null,null,null,null,null,null,null,null,null,null,null,null,null,0,{"$f":"IF(N2955=0,\"\",MAX(O$15:O2954)+1)","v":""},""]
[null,null,null,null,null,null,null,null,null,null,null,null,null,0,{"$f":"IF(N2956=0,\"\",MAX(O$15:O2955)+1)","v":""},""]
[null,null,null,null,null,null,null,null,null,null,null,null,null,0,{"$f":"IF(N2957=0,\"\",MAX(O$15:O2956)+1)","v":""},""]
[null,null,null,null,null,null,null,null,null,null,null,null,null,0,{"$f":"IF(N2958=0,\"\",MAX(O$15:O2957)+1)","v":""},""]
[null,null,null,null,null,null,null,null,null,null,null,null,null,0,{"$f":"IF(N2959=0,\"\",MAX(O$15:O2958)+1)","v":""},""]
[null,null,null,null,null,null,null,null,null,null,null,null,null,0,{"$f":"IF(N2960=0,\"\",MAX(O$15:O2959)+1)","v":""},{"$f":"IFERROR(INDEX($N$15:$N$5014,MATCH(ROW()-ROW($O$14),$O$15:$O$5014,0)),\"\")","v":""}]
[null,null,null,null,null,null,null,null,null,null,null,null,null,0,{"$f":"IF(N2961=0,\"\",MAX(O$15:O2960)+1)","v":""},""]
[null,null,null,null,null,null,null,null,null,null,null,null,null,0,{"$f":"IF(N2962=0,\"\",MAX(O$15:O2961)+1)","v":""},""]
[null,null,null,null,null,null,null,null,null,null,null,null,null,0,{"$f":"IF(N2963=0,\"\",MAX(O$15:O2962)+1)","v":""},""]
[null,null,null,null,null,null,null,null,null,null,null,null,null,0,{"$f":"IF(N2964=0,\"\",MAX(O$15:O2963)+1)","v":""},""]
[null,null,null,null,null,null,null,null,null,null,null,null,null,0,{"$f":"IF(N2965=0,\"\",MAX(O$15:O2964)+1)","v":""},""]
[null,null,null,null,null,null,null,null,null,null,null,null,null,0,{"$f":"IF(N2966=0,\"\",MAX(O$15:O2965)+1)","v":""},""]
[null,null,null,null,null,null,null,null,null,null,null,null,null,0,{"$f":"IF(N2967=0,\"\",MAX(O$15:O2966)+1)","v":""},""]
[null,null,null,null,null,null,null,null,null,null,null,null,null,0,{"$f":"IF(N2968=0,\"\",MAX(O$15:O2967)+1)","v":""},""]
[null,null,null,null,null,null,null,null,null,null,null,null,null,0,{"$f":"IF(N2969=0,\"\",MAX(O$15:O2968)+1)","v":""},""]
[null,null,null,null,null,null,null,null,null,null,null,null,null,0,{"$f":"IF(N2970=0,\"\",MAX(O$15:O2969)+1)","v":""},""]
[null,null,null,null,null,null,null,null,null,null,null,null,null,0,{"$f":"IF(N2971=0,\"\",MAX(O$15:O2970)+1)","v":""},""]
[null,null,null,null,null,null,null,null,null,null,null,null,null,0,{"$f":"IF(N2972=0,\"\",MAX(O$15:O2971)+1)","v":""},""]
[null,null,null,null,null,null,null,null,null,null,null,null,null,0,{"$f":"IF(N2973=0,\"\",MAX(O$15:O2972)+1)","v":""},""]
[null,null,null,null,null,null,null,null,null,null,null,null,null,0,{"$f":"IF(N2974=0,\"\",MAX(O$15:O2973)+1)","v":""},""]
[null,null,null,null,null,null,null,null,null,null,null,null,null,0,{"$f":"IF(N2975=0,\"\",MAX(O$15:O2974)+1)","v":""},""]
[null,null,null,null,null,null,null,null,null,null,null,null,null,0,{"$f":"IF(N2976=0,\"\",MAX(O$15:O2975)+1)","v":""},""]
[null,null,null,null,null,null,null,null,null,null,null,null,null,0,{"$f":"IF(N2977=0,\"\",MAX(O$15:O2976)+1)","v":""},""]
[null,null,null,null,null,null,null,null,null,null,null,null,null,0,{"$f":"IF(N2978=0,\"\",MAX(O$15:O2977)+1)","v":""},""]
[null,null,null,null,null,null,null,null,null,null,null,null,null,0,{"$f":"IF(N2979=0,\"\",MAX(O$15:O2978)+1)","v":""},""]
[null,null,null,null,null,null,null,null,null,null,null,null,null,0,{"$f":"IF(N2980=0,\"\",MAX(O$15:O2979)+1)","v":""},""]
[null,null,null,null,null,null,null,null,null,null,null,null,null,0,{"$f":"IF(N2981=0,\"\",MAX(O$15:O2980)+1)","v":""},""]
[null,null,null,null,null,null,null,null,null,null,null,null,null,0,{"$f":"IF(N2982=0,\"\",MAX(O$15:O2981)+1)","v":""},""]
[null,null,null,null,null,null,null,null,null,null,null,null,null,0,{"$f":"IF(N2983=0,\"\",MAX(O$15:O2982)+1)","v":""},""]
[null,null,null,null,null,null,null,null,null,null,null,null,null,0,{"$f":"IF(N2984=0,\"\",MAX(O$15:O2983)+1)","v":""},""]
[null,null,null,null,null,null,null,null,null,null,null,null,null,0,{"$f":"IF(N2985=0,\"\",MAX(O$15:O2984)+1)","v":""},""]
[null,null,null,null,null,null,null,null,null,null,null,null,null,0,{"$f":"IF(N2986=0,\"\",MAX(O$15:O2985)+1)","v":""},""]
[null,null,null,null,null,null,null,null,null,null,null,null,null,0,{"$f":"IF(N2987=0,\"\",MAX(O$15:O2986)+1)","v":""},""]
[null,null,null,null,null,null,null,null,null,null,null,null,null,0,{"$f":"IF(N2988=0,\"\",MAX(O$15:O2987)+1)","v":""},""]
[null,null,null,null,null,null,null,null,null,null,null,null,null,0,{"$f":"IF(N2989=0,\"\",MAX(O$15:O2988)+1)","v":""},""]
[null,null,null,null,null,null,null,null,null,null,null,null,null,0,{"$f":"IF(N2990=0,\"\",MAX(O$15:O2989)+1)","v":""},""]
[null,null,null,null,null,null,null,null,null,null,null,null,null,0,{"$f":"IF(N2991=0,\"\",MAX(O$15:O2990)+1)","v":""},""]
[null,null,null,null,null,null,null,null,null,null,null,null,null,0,{"$f":"IF(N2992=0,\"\",MAX(O$15:O2991)+1)","v":""},""]
[null,null,null,null,null,null,null,null,null,null,null,null,null,0,{"$f":"IF(N2993=0,\"\",MAX(O$15:O2992)+1)","v":""},""]
[null,null,null,null,null,null,null,null,null,null,null,null,null,0,{"$f":"IF(N2994=0,\"\",MAX(O$15:O2993)+1)","v":""},""]
[null,null,null,null,null,null,null,null,null,null,null,null,null,0,{"$f":"IF(N2995=0,\"\",MAX(O$15:O2994)+1)","v":""},""]
[null,null,null,null,null,null,null,null,null,null,null,null,null,0,{"$f":"IF(N2996=0,\"\",MAX(O$15:O2995)+1)","v":""},""]
[null,null,null,null,null,null,null,null,null,null,null,null,null,0,{"$f":"IF(N2997=0,\"\",MAX(O$15:O2996)+1)","v":""},""]
[null,null,null,null,null,null,null,null,null,null,null,null,null,0,{"$f":"IF(N2998=0,\"\",MAX(O$15:O2997)+1)","v":""},""]
[null,null,null,null,null,null,null,null,null,null,null,null,null,0,{"$f":"IF(N2999=0,\"\",MAX(O$15:O2998)+1)","v":""},""]
[null,null,null,null,null,null,null,null,null,null,null,null,null,0,{"$f":"IF(N3000=0,\"\",MAX(O$15:O2999)+1)","v":""},""]
[null,null,null,null,null,null,null,null,null,null,null,null,null,0,{"$f":"IF(N3001=0,\"\",MAX(O$15:O3000)+1)","v":""},""]
[null,null,null,null,null,null,null,null,null,null,null,null,null,{"$f":"IFERROR(M3002*L3002/1000,\"\")","v":0},{"$f":"IF(N3002=0,\"\",MAX(O$15:O3001)+1)","v":""},""]
[null,null,null,null,null,null,null,null,null,null,null,null,null,0,{"$f":"IF(N3003=0,\"\",MAX(O$15:O3002)+1)","v":""},""]
[null,null,null,null,null,null,null,null,null,null,null,null,null,0,{"$f":"IF(N3004=0,\"\",MAX(O$15:O3003)+1)","v":""},""]
[null,null,null,null,null,null,null,null,null,null,null,null,null,0,{"$f":"IF(N3005=0,\"\",MAX(O$15:O3004)+1)","v":""},""]
[null,null,null,null,null,null,null,null,null,null,null,null,null,0,{"$f":"IF(N3006=0,\"\",MAX(O$15:O3005)+1)","v":""},""]
[null,null,null,null,null,null,null,null,null,null,null,null,null,0,{"$f":"IF(N3007=0,\"\",MAX(O$15:O3006)+1)","v":""},""]
[null,null,null,null,null,null,null,null,null,null,null,null,null,0,{"$f":"IF(N3008=0,\"\",MAX(O$15:O3007)+1)","v":""},""]
[null,null,null,null,null,null,null,null,null,null,null,null,null,0,{"$f":"IF(N3009=0,\"\",MAX(O$15:O3008)+1)","v":""},""]
[null,null,null,null,null,null,null,null,null,null,null,null,null,0,{"$f":"IF(N3010=0,\"\",MAX(O$15:O3009)+1)","v":""},""]
[null,null,null,null,null,null,null,null,null,null,null,null,null,0,{"$f":"IF(N3011=0,\"\",MAX(O$15:O3010)+1)","v":""},""]
[null,null,null,null,null,null,null,null,null,null,null,null,null,0,{"$f":"IF(N3012=0,\"\",MAX(O$15:O3011)+1)","v":""},""]
[null,null,null,null,null,null,null,null,null,null,null,null,null,0,{"$f":"IF(N3013=0,\"\",MAX(O$15:O3012)+1)","v":""},""]
[null,null,null,null,null,null,null,null,null,null,null,null,null,0,{"$f":"IF(N3014=0,\"\",MAX(O$15:O3013)+1)","v":""},""]
[null,null,null,null,null,null,null,null,null,null,null,null,null,0,{"$f":"IF(N3015=0,\"\",MAX(O$15:O3014)+1)","v":""},""]
[null,null,null,null,null,null,null,null,null,null,null,null,null,0,{"$f":"IF(N3016=0,\"\",MAX(O$15:O3015)+1)","v":""},""]
[null,null,null,null,null,null,null,null,null,null,null,null,null,0,{"$f":"IF(N3017=0,\"\",MAX(O$15:O3016)+1)","v":""},""]
[null,null,null,null,null,null,null,null,null,null,null,null,null,0,{"$f":"IF(N3018=0,\"\",MAX(O$15:O3017)+1)","v":""},""]
[null,null,null,null,null,null,null,null,null,null,null,null,null,0,{"$f":"IF(N3019=0,\"\",MAX(O$15:O3018)+1)","v":""},""]
[null,null,null,null,null,null,null,null,null,null,null,null,null,0,{"$f":"IF(N3020=0,\"\",MAX(O$15:O3019)+1)","v":""},""]
[null,null,null,null,null,null,null,null,null,null,null,null,null,0,{"$f":"IF(N3021=0,\"\",MAX(O$15:O3020)+1)","v":""},""]
[null,null,null,null,null,null,null,null,null,null,null,null,null,0,{"$f":"IF(N3022=0,\"\",MAX(O$15:O3021)+1)","v":""},""]
[null,null,null,null,null,null,null,null,null,null,null,null,null,0,{"$f":"IF(N3023=0,\"\",MAX(O$15:O3022)+1)","v":""},""]
[null,null,null,null,null,null,null,null,null,null,null,null,null,0,{"$f":"IF(N3024=0,\"\",MAX(O$15:O3023)+1)","v":""},{"$f":"IFERROR(INDEX($N$15:$N$5014,MATCH(ROW()-ROW($O$14),$O$15:$O$5014,0)),\"\")","v":""}]
[null,null,null,null,null,null,null,null,null,null,null,null,null,0,{"$f":"IF(N3025=0,\"\",MAX(O$15:O3024)+1)","v":""},""]
[null,null,null,null,null,null,null,null,null,null,null,null,null,0,{"$f":"IF(N3026=0,\"\",MAX(O$15:O3025)+1)","v":""},""]
[null,null,null,null,null,null,null,null,null,null,null,null,null,0,{"$f":"IF(N3027=0,\"\",MAX(O$15:O3026)+1)","v":""},""]
[null,null,null,null,null,null,null,null,null,null,null,null,null,0,{"$f":"IF(N3028=0,\"\",MAX(O$15:O3027)+1)","v":""},""]
[null,null,null,null,null,null,null,null,null,null,null,null,null,0,{"$f":"IF(N3029=0,\"\",MAX(O$15:O3028)+1)","v":""},""]
[null,null,null,null,null,null,null,null,null,null,null,null,null,0,{"$f":"IF(N3030=0,\"\",MAX(O$15:O3029)+1)","v":""},""]
[null,null,null,null,null,null,null,null,null,null,null,null,null,0,{"$f":"IF(N3031=0,\"\",MAX(O$15:O3030)+1)","v":""},""]
[null,null,null,null,null,null,null,null,null,null,null,null,null,0,{"$f":"IF(N3032=0,\"\",MAX(O$15:O3031)+1)","v":""},""]
[null,null,null,null,null,null,null,null,null,null,null,null,null,0,{"$f":"IF(N3033=0,\"\",MAX(O$15:O3032)+1)","v":""},""]
[null,null,null,null,null,null,null,null,null,null,null,null,null,0,{"$f":"IF(N3034=0,\"\",MAX(O$15:O3033)+1)","v":""},""]
[null,null,null,null,null,null,null,null,null,null,null,null,null,0,{"$f":"IF(N3035=0,\"\",MAX(O$15:O3034)+1)","v":""},""]
[null,null,null,null,null,null,null,null,null,null,null,null,null,0,{"$f":"IF(N3036=0,\"\",MAX(O$15:O3035)+1)","v":""},""]
[null,null,null,null,null,null,null,null,null,null,null,null,null,0,{"$f":"IF(N3037=0,\"\",MAX(O$15:O3036)+1)","v":""},""]
[null,null,null,null,null,null,null,null,null,null,null,null,null,0,{"$f":"IF(N3038=0,\"\",MAX(O$15:O3037)+1)","v":""},""]
[null,null,null,null,null,null,null,null,null,null,null,null,null,0,{"$f":"IF(N3039=0,\"\",MAX(O$15:O3038)+1)","v":""},""]
[null,null,null,null,null,null,null,null,null,null,null,null,null,0,{"$f":"IF(N3040=0,\"\",MAX(O$15:O3039)+1)","v":""},""]
[null,null,null,null,null,null,null,null,null,null,null,null,null,0,{"$f":"IF(N3041=0,\"\",MAX(O$15:O3040)+1)","v":""},""]
[null,null,null,null,null,null,null,null,null,null,null,null,null,0,{"$f":"IF(N3042=0,\"\",MAX(O$15:O3041)+1)","v":""},""]
[null,null,null,null,null,null,null,null,null,null,null,null,null,0,{"$f":"IF(N3043=0,\"\",MAX(O$15:O3042)+1)","v":""},""]
[null,null,null,null,null,null,null,null,null,null,null,null,null,0,{"$f":"IF(N3044=0,\"\",MAX(O$15:O3043)+1)","v":""},""]
[null,null,null,null,null,null,null,null,null,null,null,null,null,0,{"$f":"IF(N3045=0,\"\",MAX(O$15:O3044)+1)","v":""},""]
[null,null,null,null,null,null,null,null,null,null,null,null,null,0,{"$f":"IF(N3046=0,\"\",MAX(O$15:O3045)+1)","v":""},""]
[null,null,null,null,null,null,null,null,null,null,null,null,null,0,{"$f":"IF(N3047=0,\"\",MAX(O$15:O3046)+1)","v":""},""]
[null,null,null,null,null,null,null,null,null,null,null,null,null,0,{"$f":"IF(N3048=0,\"\",MAX(O$15:O3047)+1)","v":""},""]
[null,null,null,null,null,null,null,null,null,null,null,null,null,0,{"$f":"IF(N3049=0,\"\",MAX(O$15:O3048)+1)","v":""},""]
[null,null,null,null,null,null,null,null,null,null,null,null,null,0,{"$f":"IF(N3050=0,\"\",MAX(O$15:O3049)+1)","v":""},""]
[null,null,null,null,null,null,null,null,null,null,null,null,null,0,{"$f":"IF(N3051=0,\"\",MAX(O$15:O3050)+1)","v":""},""]
[null,null,null,null,null,null,null,null,null,null,null,null,null,0,{"$f":"IF(N3052=0,\"\",MAX(O$15:O3051)+1)","v":""},""]
[null,null,null,null,null,null,null,null,null,null,null,null,null,0,{"$f":"IF(N3053=0,\"\",MAX(O$15:O3052)+1)","v":""},""]
[null,null,null,null,null,null,null,null,null,null,null,null,null,0,{"$f":"IF(N3054=0,\"\",MAX(O$15:O3053)+1)","v":""},""]
[null,null,null,null,null,null,null,null,null,null,null,null,null,0,{"$f":"IF(N3055=0,\"\",MAX(O$15:O3054)+1)","v":""},""]
[null,null,null,null,null,null,null,null,null,null,null,null,null,0,{"$f":"IF(N3056=0,\"\",MAX(O$15:O3055)+1)","v":""},""]
[null,null,null,null,null,null,null,null,null,null,null,null,null,0,{"$f":"IF(N3057=0,\"\",MAX(O$15:O3056)+1)","v":""},""]
[null,null,null,null,null,null,null,null,null,null,null,null,null,0,{"$f":"IF(N3058=0,\"\",MAX(O$15:O3057)+1)","v":""},""]
[null,null,null,null,null,null,null,null,null,null,null,null,null,0,{"$f":"IF(N3059=0,\"\",MAX(O$15:O3058)+1)","v":""},""]
[null,null,null,null,null,null,null,null,null,null,null,null,null,0,{"$f":"IF(N3060=0,\"\",MAX(O$15:O3059)+1)","v":""},""]
[null,null,null,null,null,null,null,null,null,null,null,null,null,0,{"$f":"IF(N3061=0,\"\",MAX(O$15:O3060)+1)","v":""},""]
[null,null,null,null,null,null,null,null,null,null,null,null,null,0,{"$f":"IF(N3062=0,\"\",MAX(O$15:O3061)+1)","v":""},""]
[null,null,null,null,null,null,null,null,null,null,null,null,null,0,{"$f":"IF(N3063=0,\"\",MAX(O$15:O3062)+1)","v":""},""]
[null,null,null,null,null,null,null,null,null,null,null,null,null,0,{"$f":"IF(N3064=0,\"\",MAX(O$15:O3063)+1)","v":""},""]
[null,null,null,null,null,null,null,null,null,null,null,null,null,0,{"$f":"IF(N3065=0,\"\",MAX(O$15:O3064)+1)","v":""},""]
[null,null,null,null,null,null,null,null,null,null,null,null,null,{"$f":"IFERROR(M3066*L3066/1000,\"\")","v":0},{"$f":"IF(N3066=0,\"\",MAX(O$15:O3065)+1)","v":""},""]
[null,null,null,null,null,null,null,null,null,null,null,null,null,0,{"$f":"IF(N3067=0,\"\",MAX(O$15:O3066)+1)","v":""},""]
[null,null,null,null,null,null,null,null,null,null,null,null,null,0,{"$f":"IF(N3068=0,\"\",MAX(O$15:O3067)+1)","v":""},""]
[null,null,null,null,null,null,null,null,null,null,null,null,null,0,{"$f":"IF(N3069=0,\"\",MAX(O$15:O3068)+1)","v":""},""]
[null,null,null,null,null,null,null,null,null,null,null,null,null,0,{"$f":"IF(N3070=0,\"\",MAX(O$15:O3069)+1)","v":""},""]
[null,null,null,null,null,null,null,null,null,null,null,null,null,0,{"$f":"IF(N3071=0,\"\",MAX(O$15:O3070)+1)","v":""},""]
[null,null,null,null,null,null,null,null,null,null,null,null,null,0,{"$f":"IF(N3072=0,\"\",MAX(O$15:O3071)+1)","v":""},""]
[null,null,null,null,null,null,null,null,null,null,null,null,null,0,{"$f":"IF(N3073=0,\"\",MAX(O$15:O3072)+1)","v":""},""]
[null,null,null,null,null,null,null,null,null,null,null,null,null,0,{"$f":"IF(N3074=0,\"\",MAX(O$15:O3073)+1)","v":""},""]
[null,null,null,null,null,null,null,null,null,null,null,null,null,0,{"$f":"IF(N3075=0,\"\",MAX(O$15:O3074)+1)","v":""},""]
[null,null,null,null,null,null,null,null,null,null,null,null,null,0,{"$f":"IF(N3076=0,\"\",MAX(O$15:O3075)+1)","v":""},""]
[null,null,null,null,null,null,null,null,null,null,null,null,null,0,{"$f":"IF(N3077=0,\"\",MAX(O$15:O3076)+1)","v":""},""]
[null,null,null,null,null,null,null,null,null,null,null,null,null,0,{"$f":"IF(N3078=0,\"\",MAX(O$15:O3077)+1)","v":""},""]
[null,null,null,null,null,null,null,null,null,null,null,null,null,0,{"$f":"IF(N3079=0,\"\",MAX(O$15:O3078)+1)","v":""},""]
[null,null,null,null,null,null,null,null,null,null,null,null,null,0,{"$f":"IF(N3080=0,\"\",MAX(O$15:O3079)+1)","v":""},""]
[null,null,null,null,null,null,null,null,null,null,null,null,null,0,{"$f":"IF(N3081=0,\"\",MAX(O$15:O3080)+1)","v":""},""]
[null,null,null,null,null,null,null,null,null,null,null,null,null,0,{"$f":"IF(N3082=0,\"\",MAX(O$15:O3081)+1)","v":""},""]
[null,null,null,null,null,null,null,null,null,null,null,null,null,0,{"$f":"IF(N3083=0,\"\",MAX(O$15:O3082)+1)","v":""},""]
[null,null,null,null,null,null,null,null,null,null,null,null,null,0,{"$f":"IF(N3084=0,\"\",MAX(O$15:O3083)+1)","v":""},""]
[null,null,null,null,null,null,null,null,null,null,null,null,null,0,{"$f":"IF(N3085=0,\"\",MAX(O$15:O3084)+1)","v":""},""]
[null,null,null,null,null,null,null,null,null,null,null,null,null,0,{"$f":"IF(N3086=0,\"\",MAX(O$15:O3085)+1)","v":""},""]
[null,null,null,null,null,null,null,null,null,null,null,null,null,0,{"$f":"IF(N3087=0,\"\",MAX(O$15:O3086)+1)","v":""},""]
[null,null,null,null,null,null,null,null,null,null,null,null,null,0,{"$f":"IF(N3088=0,\"\",MAX(O$15:O3087)+1)","v":""},{"$f":"IFERROR(INDEX($N$15:$N$5014,MATCH(ROW()-ROW($O$14),$O$15:$O$5014,0)),\"\")","v":""}]
[null,null,null,null,null,null,null,null,null,null,null,null,null,0,{"$f":"IF(N3089=0,\"\",MAX(O$15:O3088)+1)","v":""},""]
[null,null,null,null,null,null,null,null,null,null,null,null,null,0,{"$f":"IF(N3090=0,\"\",MAX(O$15:O3089)+1)","v":""},""]
[null,null,null,null,null,null,null,null,null,null,null,null,null,0,{"$f":"IF(N3091=0,\"\",MAX(O$15:O3090)+1)","v":""},""]
[null,null,null,null,null,null,null,null,null,null,null,null,null,0,{"$f":"IF(N3092=0,\"\",MAX(O$15:O3091)+1)","v":""},""]
[null,null,null,null,null,null,null,null,null,null,null,null,null,0,{"$f":"IF(N3093=0,\"\",MAX(O$15:O3092)+1)","v":""},""]
[null,null,null,null,null,null,null,null,null,null,null,null,null,0,{"$f":"IF(N3094=0,\"\",MAX(O$15:O3093)+1)","v":""},""]
[null,null,null,null,null,null,null,null,null,null,null,null,null,0,{"$f":"IF(N3095=0,\"\",MAX(O$15:O3094)+1)","v":""},""]
[null,null,null,null,null,null,null,null,null,null,null,null,null,0,{"$f":"IF(N3096=0,\"\",MAX(O$15:O3095)+1)","v":""},""]
[null,null,null,null,null,null,null,null,null,null,null,null,null,0,{"$f":"IF(N3097=0,\"\",MAX(O$15:O3096)+1)","v":""},""]
[null,null,null,null,null,null,null,null,null,null,null,null,null,0,{"$f":"IF(N3098=0,\"\",MAX(O$15:O3097)+1)","v":""},""]
[null,null,null,null,null,null,null,null,null,null,null,null,null,0,{"$f":"IF(N3099=0,\"\",MAX(O$15:O3098)+1)","v":""},""]
[null,null,null,null,null,null,null,null,null,null,null,null,null,0,{"$f":"IF(N3100=0,\"\",MAX(O$15:O3099)+1)","v":""},""]
[null,null,null,null,null,null,null,null,null,null,null,null,null,0,{"$f":"IF(N3101=0,\"\",MAX(O$15:O3100)+1)","v":""},""]
[null,null,null,null,null,null,null,null,null,null,null,null,null,0,{"$f":"IF(N3102=0,\"\",MAX(O$15:O3101)+1)","v":""},""]
[null,null,null,null,null,null,null,null,null,null,null,null,null,0,{"$f":"IF(N3103=0,\"\",MAX(O$15:O3102)+1)","v":""},""]
[null,null,null,null,null,null,null,null,null,null,null,null,null,0,{"$f":"IF(N3104=0,\"\",MAX(O$15:O3103)+1)","v":""},""]
[null,null,null,null,null,null,null,null,null,null,null,null,null,0,{"$f":"IF(N3105=0,\"\",MAX(O$15:O3104)+1)","v":""},""]
[null,null,null,null,null,null,null,null,null,null,null,null,null,0,{"$f":"IF(N3106=0,\"\",MAX(O$15:O3105)+1)","v":""},""]
[null,null,null,null,null,null,null,null,null,null,null,null,null,0,{"$f":"IF(N3107=0,\"\",MAX(O$15:O3106)+1)","v":""},""]
[null,null,null,null,null,null,null,null,null,null,null,null,null,0,{"$f":"IF(N3108=0,\"\",MAX(O$15:O3107)+1)","v":""},""]
[null,null,null,null,null,null,null,null,null,null,null,null,null,0,{"$f":"IF(N3109=0,\"\",MAX(O$15:O3108)+1)","v":""},""]
[null,null,null,null,null,null,null,null,null,null,null,null,null,0,{"$f":"IF(N3110=0,\"\",MAX(O$15:O3109)+1)","v":""},""]
[null,null,null,null,null,null,null,null,null,null,null,null,null,0,{"$f":"IF(N3111=0,\"\",MAX(O$15:O3110)+1)","v":""},""]
[null,null,null,null,null,null,null,null,null,null,null,null,null,0,{"$f":"IF(N3112=0,\"\",MAX(O$15:O3111)+1)","v":""},""]
[null,null,null,null,null,null,null,null,null,null,null,null,null,0,{"$f":"IF(N3113=0,\"\",MAX(O$15:O3112)+1)","v":""},""]
[null,null,null,null,null,null,null,null,null,null,null,null,null,0,{"$f":"IF(N3114=0,\"\",MAX(O$15:O3113)+1)","v":""},""]
[null,null,null,null,null,null,null,null,null,null,null,null,null,0,{"$f":"IF(N3115=0,\"\",MAX(O$15:O3114)+1)","v":""},""]
[null,null,null,null,null,null,null,null,null,null,null,null,null,0,{"$f":"IF(N3116=0,\"\",MAX(O$15:O3115)+1)","v":""},""]
[null,null,null,null,null,null,null,null,null,null,null,null,null,0,{"$f":"IF(N3117=0,\"\",MAX(O$15:O3116)+1)","v":""},""]
[null,null,null,null,null,null,null,null,null,null,null,null,null,0,{"$f":"IF(N3118=0,\"\",MAX(O$15:O3117)+1)","v":""},""]
[null,null,null,null,null,null,null,null,null,null,null,null,null,0,{"$f":"IF(N3119=0,\"\",MAX(O$15:O3118)+1)","v":""},""]
[null,null,null,null,null,null,null,null,null,null,null,null,null,0,{"$f":"IF(N3120=0,\"\",MAX(O$15:O3119)+1)","v":""},""]
[null,null,null,null,null,null,null,null,null,null,null,null,null,0,{"$f":"IF(N3121=0,\"\",MAX(O$15:O3120)+1)","v":""},""]
[null,null,null,null,null,null,null,null,null,null,null,null,null,0,{"$f":"IF(N3122=0,\"\",MAX(O$15:O3121)+1)","v":""},""]
[null,null,null,null,null,null,null,null,null,null,null,null,null,0,{"$f":"IF(N3123=0,\"\",MAX(O$15:O3122)+1)","v":""},""]
[null,null,null,null,null,null,null,null,null,null,null,null,null,0,{"$f":"IF(N3124=0,\"\",MAX(O$15:O3123)+1)","v":""},""]
[null,null,null,null,null,null,null,null,null,null,null,null,null,0,{"$f":"IF(N3125=0,\"\",MAX(O$15:O3124)+1)","v":""},""]
[null,null,null,null,null,null,null,null,null,null,null,null,null,0,{"$f":"IF(N3126=0,\"\",MAX(O$15:O3125)+1)","v":""},""]
[null,null,null,null,null,null,null,null,null,null,null,null,null,0,{"$f":"IF(N3127=0,\"\",MAX(O$15:O3126)+1)","v":""},""]
[null,null,null,null,null,null,null,null,null,null,null,null,null,0,{"$f":"IF(N3128=0,\"\",MAX(O$15:O3127)+1)","v":""},""]
[null,null,null,null,null,null,null,null,null,null,null,null,null,0,{"$f":"IF(N3129=0,\"\",MAX(O$15:O3128)+1)","v":""},""]
[null,null,null,null,null,null,null,null,null,null,null,null,null,{"$f":"IFERROR(M3130*L3130/1000,\"\")","v":0},{"$f":"IF(N3130=0,\"\",MAX(O$15:O3129)+1)","v":""},""]
[null,null,null,null,null,null,null,null,null,null,null,null,null,0,{"$f":"IF(N3131=0,\"\",MAX(O$15:O3130)+1)","v":""},""]
[null,null,null,null,null,null,null,null,null,null,null,null,null,0,{"$f":"IF(N3132=0,\"\",MAX(O$15:O3131)+1)","v":""},""]
[null,null,null,null,null,null,null,null,null,null,null,null,null,0,{"$f":"IF(N3133=0,\"\",MAX(O$15:O3132)+1)","v":""},""]
[null,null,null,null,null,null,null,null,null,null,null,null,null,0,{"$f":"IF(N3134=0,\"\",MAX(O$15:O3133)+1)","v":""},""]
[null,null,null,null,null,null,null,null,null,null,null,null,null,0,{"$f":"IF(N3135=0,\"\",MAX(O$15:O3134)+1)","v":""},""]
[null,null,null,null,null,null,null,null,null,null,null,null,null,0,{"$f":"IF(N3136=0,\"\",MAX(O$15:O3135)+1)","v":""},""]
[null,null,null,null,null,null,null,null,null,null,null,null,null,0,{"$f":"IF(N3137=0,\"\",MAX(O$15:O3136)+1)","v":""},""]
[null,null,null,null,null,null,null,null,null,null,null,null,null,0,{"$f":"IF(N3138=0,\"\",MAX(O$15:O3137)+1)","v":""},""]
[null,null,null,null,null,null,null,null,null,null,null,null,null,0,{"$f":"IF(N3139=0,\"\",MAX(O$15:O3138)+1)","v":""},""]
[null,null,null,null,null,null,null,null,null,null,null,null,null,0,{"$f":"IF(N3140=0,\"\",MAX(O$15:O3139)+1)","v":""},""]
[null,null,null,null,null,null,null,null,null,null,null,null,null,0,{"$f":"IF(N3141=0,\"\",MAX(O$15:O3140)+1)","v":""},""]
[null,null,null,null,null,null,null,null,null,null,null,null,null,0,{"$f":"IF(N3142=0,\"\",MAX(O$15:O3141)+1)","v":""},""]
[null,null,null,null,null,null,null,null,null,null,null,null,null,0,{"$f":"IF(N3143=0,\"\",MAX(O$15:O3142)+1)","v":""},""]
[null,null,null,null,null,null,null,null,null,null,null,null,null,0,{"$f":"IF(N3144=0,\"\",MAX(O$15:O3143)+1)","v":""},""]
[null,null,null,null,null,null,null,null,null,null,null,null,null,0,{"$f":"IF(N3145=0,\"\",MAX(O$15:O3144)+1)","v":""},""]
[null,null,null,null,null,null,null,null,null,null,null,null,null,0,{"$f":"IF(N3146=0,\"\",MAX(O$15:O3145)+1)","v":""},""]
[null,null,null,null,null,null,null,null,null,null,null,null,null,0,{"$f":"IF(N3147=0,\"\",MAX(O$15:O3146)+1)","v":""},""]
[null,null,null,null,null,null,null,null,null,null,null,null,null,0,{"$f":"IF(N3148=0,\"\",MAX(O$15:O3147)+1)","v":""},""]
[null,null,null,null,null,null,null,null,null,null,null,null,null,0,{"$f":"IF(N3149=0,\"\",MAX(O$15:O3148)+1)","v":""},""]
[null,null,null,null,null,null,null,null,null,null,null,null,null,0,{"$f":"IF(N3150=0,\"\",MAX(O$15:O3149)+1)","v":""},""]
[null,null,null,null,null,null,null,null,null,null,null,null,null,0,{"$f":"IF(N3151=0,\"\",MAX(O$15:O3150)+1)","v":""},""]
[null,null,null,null,null,null,null,null,null,null,null,null,null,0,{"$f":"IF(N3152=0,\"\",MAX(O$15:O3151)+1)","v":""},{"$f":"IFERROR(INDEX($N$15:$N$5014,MATCH(ROW()-ROW($O$14),$O$15:$O$5014,0)),\"\")","v":""}]
[null,null,null,null,null,null,null,null,null,null,null,null,null,0,{"$f":"IF(N3153=0,\"\",MAX(O$15:O3152)+1)","v":""},""]
[null,null,null,null,null,null,null,null,null,null,null,null,null,0,{"$f":"IF(N3154=0,\"\",MAX(O$15:O3153)+1)","v":""},""]
[null,null,null,null,null,null,null,null,null,null,null,null,null,0,{"$f":"IF(N3155=0,\"\",MAX(O$15:O3154)+1)","v":""},""]
[null,null,null,null,null,null,null,null,null,null,null,null,null,0,{"$f":"IF(N3156=0,\"\",MAX(O$15:O3155)+1)","v":""},""]
[null,null,null,null,null,null,null,null,null,null,null,null,null,0,{"$f":"IF(N3157=0,\"\",MAX(O$15:O3156)+1)","v":""},""]
[null,null,null,null,null,null,null,null,null,null,null,null,null,0,{"$f":"IF(N3158=0,\"\",MAX(O$15:O3157)+1)","v":""},""]
[null,null,null,null,null,null,null,null,null,null,null,null,null,0,{"$f":"IF(N3159=0,\"\",MAX(O$15:O3158)+1)","v":""},""]
[null,null,null,null,null,null,null,null,null,null,null,null,null,0,{"$f":"IF(N3160=0,\"\",MAX(O$15:O3159)+1)","v":""},""]
[null,null,null,null,null,null,null,null,null,null,null,null,null,0,{"$f":"IF(N3161=0,\"\",MAX(O$15:O3160)+1)","v":""},""]
[null,null,null,null,null,null,null,null,null,null,null,null,null,0,{"$f":"IF(N3162=0,\"\",MAX(O$15:O3161)+1)","v":""},""]
[null,null,null,null,null,null,null,null,null,null,null,null,null,0,{"$f":"IF(N3163=0,\"\",MAX(O$15:O3162)+1)","v":""},""]
[null,null,null,null,null,null,null,null,null,null,null,null,null,0,{"$f":"IF(N3164=0,\"\",MAX(O$15:O3163)+1)","v":""},""]
[null,null,null,null,null,null,null,null,null,null,null,null,null,0,{"$f":"IF(N3165=0,\"\",MAX(O$15:O3164)+1)","v":""},""]
[null,null,null,null,null,null,null,null,null,null,null,null,null,0,{"$f":"IF(N3166=0,\"\",MAX(O$15:O3165)+1)","v":""},""]
[null,null,null,null,null,null,null,null,null,null,null,null,null,0,{"$f":"IF(N3167=0,\"\",MAX(O$15:O3166)+1)","v":""},""]
[null,null,null,null,null,null,null,null,null,null,null,null,null,0,{"$f":"IF(N3168=0,\"\",MAX(O$15:O3167)+1)","v":""},""]
[null,null,null,null,null,null,null,null,null,null,null,null,null,0,{"$f":"IF(N3169=0,\"\",MAX(O$15:O3168)+1)","v":""},""]
[null,null,null,null,null,null,null,null,null,null,null,null,null,0,{"$f":"IF(N3170=0,\"\",MAX(O$15:O3169)+1)","v":""},""]
[null,null,null,null,null,null,null,null,null,null,null,null,null,0,{"$f":"IF(N3171=0,\"\",MAX(O$15:O3170)+1)","v":""},""]
[null,null,null,null,null,null,null,null,null,null,null,null,null,0,{"$f":"IF(N3172=0,\"\",MAX(O$15:O3171)+1)","v":""},""]
[null,null,null,null,null,null,null,null,null,null,null,null,null,0,{"$f":"IF(N3173=0,\"\",MAX(O$15:O3172)+1)","v":""},""]
[null,null,null,null,null,null,null,null,null,null,null,null,null,0,{"$f":"IF(N3174=0,\"\",MAX(O$15:O3173)+1)","v":""},""]
[null,null,null,null,null,null,null,null,null,null,null,null,null,0,{"$f":"IF(N3175=0,\"\",MAX(O$15:O3174)+1)","v":""},""]
[null,null,null,null,null,null,null,null,null,null,null,null,null,0,{"$f":"IF(N3176=0,\"\",MAX(O$15:O3175)+1)","v":""},""]
[null,null,null,null,null,null,null,null,null,null,null,null,null,0,{"$f":"IF(N3177=0,\"\",MAX(O$15:O3176)+1)","v":""},""]
[null,null,null,null,null,null,null,null,null,null,null,null,null,0,{"$f":"IF(N3178=0,\"\",MAX(O$15:O3177)+1)","v":""},""]
[null,null,null,null,null,null,null,null,null,null,null,null,null,0,{"$f":"IF(N3179=0,\"\",MAX(O$15:O3178)+1)","v":""},""]
[null,null,null,null,null,null,null,null,null,null,null,null,null,0,{"$f":"IF(N3180=0,\"\",MAX(O$15:O3179)+1)","v":""},""]
[null,null,null,null,null,null,null,null,null,null,null,null,null,0,{"$f":"IF(N3181=0,\"\",MAX(O$15:O3180)+1)","v":""},""]
[null,null,null,null,null,null,null,null,null,null,null,null,null,0,{"$f":"IF(N3182=0,\"\",MAX(O$15:O3181)+1)","v":""},""]
[null,null,null,null,null,null,null,null,null,null,null,null,null,0,{"$f":"IF(N3183=0,\"\",MAX(O$15:O3182)+1)","v":""},""]
[null,null,null,null,null,null,null,null,null,null,null,null,null,0,{"$f":"IF(N3184=0,\"\",MAX(O$15:O3183)+1)","v":""},""]
[null,null,null,null,null,null,null,null,null,null,null,null,null,0,{"$f":"IF(N3185=0,\"\",MAX(O$15:O3184)+1)","v":""},""]
[null,null,null,null,null,null,null,null,null,null,null,null,null,0,{"$f":"IF(N3186=0,\"\",MAX(O$15:O3185)+1)","v":""},""]
[null,null,null,null,null,null,null,null,null,null,null,null,null,0,{"$f":"IF(N3187=0,\"\",MAX(O$15:O3186)+1)","v":""},""]
[null,null,null,null,null,null,null,null,null,null,null,null,null,0,{"$f":"IF(N3188=0,\"\",MAX(O$15:O3187)+1)","v":""},""]
[null,null,null,null,null,null,null,null,null,null,null,null,null,0,{"$f":"IF(N3189=0,\"\",MAX(O$15:O3188)+1)","v":""},""]
[null,null,null,null,null,null,null,null,null,null,null,null,null,0,{"$f":"IF(N3190=0,\"\",MAX(O$15:O3189)+1)","v":""},""]
[null,null,null,null,null,null,null,null,null,null,null,null,null,0,{"$f":"IF(N3191=0,\"\",MAX(O$15:O3190)+1)","v":""},""]
[null,null,null,null,null,null,null,null,null,null,null,null,null,0,{"$f":"IF(N3192=0,\"\",MAX(O$15:O3191)+1)","v":""},""]
[null,null,null,null,null,null,null,null,null,null,null,null,null,0,{"$f":"IF(N3193=0,\"\",MAX(O$15:O3192)+1)","v":""},""]
[null,null,null,null,null,null,null,null,null,null,null,null,null,{"$f":"IFERROR(M3194*L3194/1000,\"\")","v":0},{"$f":"IF(N3194=0,\"\",MAX(O$15:O3193)+1)","v":""},""]
[null,null,null,null,null,null,null,null,null,null,null,null,null,0,{"$f":"IF(N3195=0,\"\",MAX(O$15:O3194)+1)","v":""},""]
[null,null,null,null,null,null,null,null,null,null,null,null,null,0,{"$f":"IF(N3196=0,\"\",MAX(O$15:O3195)+1)","v":""},""]
[null,null,null,null,null,null,null,null,null,null,null,null,null,0,{"$f":"IF(N3197=0,\"\",MAX(O$15:O3196)+1)","v":""},""]
[null,null,null,null,null,null,null,null,null,null,null,null,null,0,{"$f":"IF(N3198=0,\"\",MAX(O$15:O3197)+1)","v":""},""]
[null,null,null,null,null,null,null,null,null,null,null,null,null,0,{"$f":"IF(N3199=0,\"\",MAX(O$15:O3198)+1)","v":""},""]
[null,null,null,null,null,null,null,null,null,null,null,null,null,0,{"$f":"IF(N3200=0,\"\",MAX(O$15:O3199)+1)","v":""},""]
[null,null,null,null,null,null,null,null,null,null,null,null,null,0,{"$f":"IF(N3201=0,\"\",MAX(O$15:O3200)+1)","v":""},""]
[null,null,null,null,null,null,null,null,null,null,null,null,null,0,{"$f":"IF(N3202=0,\"\",MAX(O$15:O3201)+1)","v":""},""]
[null,null,null,null,null,null,null,null,null,null,null,null,null,0,{"$f":"IF(N3203=0,\"\",MAX(O$15:O3202)+1)","v":""},""]
[null,null,null,null,null,null,null,null,null,null,null,null,null,0,{"$f":"IF(N3204=0,\"\",MAX(O$15:O3203)+1)","v":""},""]
[null,null,null,null,null,null,null,null,null,null,null,null,null,0,{"$f":"IF(N3205=0,\"\",MAX(O$15:O3204)+1)","v":""},""]
[null,null,null,null,null,null,null,null,null,null,null,null,null,0,{"$f":"IF(N3206=0,\"\",MAX(O$15:O3205)+1)","v":""},""]
[null,null,null,null,null,null,null,null,null,null,null,null,null,0,{"$f":"IF(N3207=0,\"\",MAX(O$15:O3206)+1)","v":""},""]
[null,null,null,null,null,null,null,null,null,null,null,null,null,0,{"$f":"IF(N3208=0,\"\",MAX(O$15:O3207)+1)","v":""},""]
[null,null,null,null,null,null,null,null,null,null,null,null,null,0,{"$f":"IF(N3209=0,\"\",MAX(O$15:O3208)+1)","v":""},""]
[null,null,null,null,null,null,null,null,null,null,null,null,null,0,{"$f":"IF(N3210=0,\"\",MAX(O$15:O3209)+1)","v":""},""]
[null,null,null,null,null,null,null,null,null,null,null,null,null,0,{"$f":"IF(N3211=0,\"\",MAX(O$15:O3210)+1)","v":""},""]
[null,null,null,null,null,null,null,null,null,null,null,null,null,0,{"$f":"IF(N3212=0,\"\",MAX(O$15:O3211)+1)","v":""},""]
[null,null,null,null,null,null,null,null,null,null,null,null,null,0,{"$f":"IF(N3213=0,\"\",MAX(O$15:O3212)+1)","v":""},""]
[null,null,null,null,null,null,null,null,null,null,null,null,null,0,{"$f":"IF(N3214=0,\"\",MAX(O$15:O3213)+1)","v":""},""]
[null,null,null,null,null,null,null,null,null,null,null,null,null,0,{"$f":"IF(N3215=0,\"\",MAX(O$15:O3214)+1)","v":""},""]
[null,null,null,null,null,null,null,null,null,null,null,null,null,0,{"$f":"IF(N3216=0,\"\",MAX(O$15:O3215)+1)","v":""},{"$f":"IFERROR(INDEX($N$15:$N$5014,MATCH(ROW()-ROW($O$14),$O$15:$O$5014,0)),\"\")","v":""}]
[null,null,null,null,null,null,null,null,null,null,null,null,null,0,{"$f":"IF(N3217=0,\"\",MAX(O$15:O3216)+1)","v":""},""]
[null,null,null,null,null,null,null,null,null,null,null,null,null,0,{"$f":"IF(N3218=0,\"\",MAX(O$15:O3217)+1)","v":""},""]
[null,null,null,null,null,null,null,null,null,null,null,null,null,0,{"$f":"IF(N3219=0,\"\",MAX(O$15:O3218)+1)","v":""},""]
[null,null,null,null,null,null,null,null,null,null,null,null,null,0,{"$f":"IF(N3220=0,\"\",MAX(O$15:O3219)+1)","v":""},""]
[null,null,null,null,null,null,null,null,null,null,null,null,null,0,{"$f":"IF(N3221=0,\"\",MAX(O$15:O3220)+1)","v":""},""]
[null,null,null,null,null,null,null,null,null,null,null,null,null,0,{"$f":"IF(N3222=0,\"\",MAX(O$15:O3221)+1)","v":""},""]
[null,null,null,null,null,null,null,null,null,null,null,null,null,0,{"$f":"IF(N3223=0,\"\",MAX(O$15:O3222)+1)","v":""},""]
[null,null,null,null,null,null,null,null,null,null,null,null,null,0,{"$f":"IF(N3224=0,\"\",MAX(O$15:O3223)+1)","v":""},""]
[null,null,null,null,null,null,null,null,null,null,null,null,null,0,{"$f":"IF(N3225=0,\"\",MAX(O$15:O3224)+1)","v":""},""]
[null,null,null,null,null,null,null,null,null,null,null,null,null,0,{"$f":"IF(N3226=0,\"\",MAX(O$15:O3225)+1)","v":""},""]
[null,null,null,null,null,null,null,null,null,null,null,null,null,0,{"$f":"IF(N3227=0,\"\",MAX(O$15:O3226)+1)","v":""},""]
[null,null,null,null,null,null,null,null,null,null,null,null,null,0,{"$f":"IF(N3228=0,\"\",MAX(O$15:O3227)+1)","v":""},""]
[null,null,null,null,null,null,null,null,null,null,null,null,null,0,{"$f":"IF(N3229=0,\"\",MAX(O$15:O3228)+1)","v":""},""]
[null,null,null,null,null,null,null,null,null,null,null,null,null,0,{"$f":"IF(N3230=0,\"\",MAX(O$15:O3229)+1)","v":""},""]
[null,null,null,null,null,null,null,null,null,null,null,null,null,0,{"$f":"IF(N3231=0,\"\",MAX(O$15:O3230)+1)","v":""},""]
[null,null,null,null,null,null,null,null,null,null,null,null,null,0,{"$f":"IF(N3232=0,\"\",MAX(O$15:O3231)+1)","v":""},""]
[null,null,null,null,null,null,null,null,null,null,null,null,null,0,{"$f":"IF(N3233=0,\"\",MAX(O$15:O3232)+1)","v":""},""]
[null,null,null,null,null,null,null,null,null,null,null,null,null,0,{"$f":"IF(N3234=0,\"\",MAX(O$15:O3233)+1)","v":""},""]
[null,null,null,null,null,null,null,null,null,null,null,null,null,0,{"$f":"IF(N3235=0,\"\",MAX(O$15:O3234)+1)","v":""},""]
[null,null,null,null,null,null,null,null,null,null,null,null,null,0,{"$f":"IF(N3236=0,\"\",MAX(O$15:O3235)+1)","v":""},""]
[null,null,null,null,null,null,null,null,null,null,null,null,null,0,{"$f":"IF(N3237=0,\"\",MAX(O$15:O3236)+1)","v":""},""]
[null,null,null,null,null,null,null,null,null,null,null,null,null,0,{"$f":"IF(N3238=0,\"\",MAX(O$15:O3237)+1)","v":""},""]
[null,null,null,null,null,null,null,null,null,null,null,null,null,0,{"$f":"IF(N3239=0,\"\",MAX(O$15:O3238)+1)","v":""},""]
[null,null,null,null,null,null,null,null,null,null,null,null,null,0,{"$f":"IF(N3240=0,\"\",MAX(O$15:O3239)+1)","v":""},""]
[null,null,null,null,null,null,null,null,null,null,null,null,null,0,{"$f":"IF(N3241=0,\"\",MAX(O$15:O3240)+1)","v":""},""]
[null,null,null,null,null,null,null,null,null,null,null,null,null,0,{"$f":"IF(N3242=0,\"\",MAX(O$15:O3241)+1)","v":""},""]
[null,null,null,null,null,null,null,null,null,null,null,null,null,0,{"$f":"IF(N3243=0,\"\",MAX(O$15:O3242)+1)","v":""},""]
[null,null,null,null,null,null,null,null,null,null,null,null,null,0,{"$f":"IF(N3244=0,\"\",MAX(O$15:O3243)+1)","v":""},""]
[null,null,null,null,null,null,null,null,null,null,null,null,null,0,{"$f":"IF(N3245=0,\"\",MAX(O$15:O3244)+1)","v":""},""]
[null,null,null,null,null,null,null,null,null,null,null,null,null,0,{"$f":"IF(N3246=0,\"\",MAX(O$15:O3245)+1)","v":""},""]
[null,null,null,null,null,null,null,null,null,null,null,null,null,0,{"$f":"IF(N3247=0,\"\",MAX(O$15:O3246)+1)","v":""},""]
[null,null,null,null,null,null,null,null,null,null,null,null,null,0,{"$f":"IF(N3248=0,\"\",MAX(O$15:O3247)+1)","v":""},""]
[null,null,null,null,null,null,null,null,null,null,null,null,null,0,{"$f":"IF(N3249=0,\"\",MAX(O$15:O3248)+1)","v":""},""]
[null,null,null,null,null,null,null,null,null,null,null,null,null,0,{"$f":"IF(N3250=0,\"\",MAX(O$15:O3249)+1)","v":""},""]
[null,null,null,null,null,null,null,null,null,null,null,null,null,0,{"$f":"IF(N3251=0,\"\",MAX(O$15:O3250)+1)","v":""},""]
[null,null,null,null,null,null,null,null,null,null,null,null,null,0,{"$f":"IF(N3252=0,\"\",MAX(O$15:O3251)+1)","v":""},""]
[null,null,null,null,null,null,null,null,null,null,null,null,null,0,{"$f":"IF(N3253=0,\"\",MAX(O$15:O3252)+1)","v":""},""]
[null,null,null,null,null,null,null,null,null,null,null,null,null,0,{"$f":"IF(N3254=0,\"\",MAX(O$15:O3253)+1)","v":""},""]
[null,null,null,null,null,null,null,null,null,null,null,null,null,0,{"$f":"IF(N3255=0,\"\",MAX(O$15:O3254)+1)","v":""},""]
[null,null,null,null,null,null,null,null,null,null,null,null,null,0,{"$f":"IF(N3256=0,\"\",MAX(O$15:O3255)+1)","v":""},""]
[null,null,null,null,null,null,null,null,null,null,null,null,null,0,{"$f":"IF(N3257=0,\"\",MAX(O$15:O3256)+1)","v":""},""]
[null,null,null,null,null,null,null,null,null,null,null,null,null,{"$f":"IFERROR(M3258*L3258/1000,\"\")","v":0},{"$f":"IF(N3258=0,\"\",MAX(O$15:O3257)+1)","v":""},""]
[null,null,null,null,null,null,null,null,null,null,null,null,null,0,{"$f":"IF(N3259=0,\"\",MAX(O$15:O3258)+1)","v":""},""]
[null,null,null,null,null,null,null,null,null,null,null,null,null,0,{"$f":"IF(N3260=0,\"\",MAX(O$15:O3259)+1)","v":""},""]
[null,null,null,null,null,null,null,null,null,null,null,null,null,0,{"$f":"IF(N3261=0,\"\",MAX(O$15:O3260)+1)","v":""},""]
[null,null,null,null,null,null,null,null,null,null,null,null,null,0,{"$f":"IF(N3262=0,\"\",MAX(O$15:O3261)+1)","v":""},""]
[null,null,null,null,null,null,null,null,null,null,null,null,null,0,{"$f":"IF(N3263=0,\"\",MAX(O$15:O3262)+1)","v":""},""]
[null,null,null,null,null,null,null,null,null,null,null,null,null,0,{"$f":"IF(N3264=0,\"\",MAX(O$15:O3263)+1)","v":""},""]
[null,null,null,null,null,null,null,null,null,null,null,null,null,0,{"$f":"IF(N3265=0,\"\",MAX(O$15:O3264)+1)","v":""},""]
[null,null,null,null,null,null,null,null,null,null,null,null,null,0,{"$f":"IF(N3266=0,\"\",MAX(O$15:O3265)+1)","v":""},""]
[null,null,null,null,null,null,null,null,null,null,null,null,null,0,{"$f":"IF(N3267=0,\"\",MAX(O$15:O3266)+1)","v":""},""]
[null,null,null,null,null,null,null,null,null,null,null,null,null,0,{"$f":"IF(N3268=0,\"\",MAX(O$15:O3267)+1)","v":""},""]
[null,null,null,null,null,null,null,null,null,null,null,null,null,0,{"$f":"IF(N3269=0,\"\",MAX(O$15:O3268)+1)","v":""},""]
[null,null,null,null,null,null,null,null,null,null,null,null,null,0,{"$f":"IF(N3270=0,\"\",MAX(O$15:O3269)+1)","v":""},""]
[null,null,null,null,null,null,null,null,null,null,null,null,null,0,{"$f":"IF(N3271=0,\"\",MAX(O$15:O3270)+1)","v":""},""]
[null,null,null,null,null,null,null,null,null,null,null,null,null,0,{"$f":"IF(N3272=0,\"\",MAX(O$15:O3271)+1)","v":""},""]
[null,null,null,null,null,null,null,null,null,null,null,null,null,0,{"$f":"IF(N3273=0,\"\",MAX(O$15:O3272)+1)","v":""},""]
[null,null,null,null,null,null,null,null,null,null,null,null,null,0,{"$f":"IF(N3274=0,\"\",MAX(O$15:O3273)+1)","v":""},""]
[null,null,null,null,null,null,null,null,null,null,null,null,null,0,{"$f":"IF(N3275=0,\"\",MAX(O$15:O3274)+1)","v":""},""]
[null,null,null,null,null,null,null,null,null,null,null,null,null,0,{"$f":"IF(N3276=0,\"\",MAX(O$15:O3275)+1)","v":""},""]
[null,null,null,null,null,null,null,null,null,null,null,null,null,0,{"$f":"IF(N3277=0,\"\",MAX(O$15:O3276)+1)","v":""},""]
[null,null,null,null,null,null,null,null,null,null,null,null,null,0,{"$f":"IF(N3278=0,\"\",MAX(O$15:O3277)+1)","v":""},""]
[null,null,null,null,null,null,null,null,null,null,null,null,null,0,{"$f":"IF(N3279=0,\"\",MAX(O$15:O3278)+1)","v":""},""]
[null,null,null,null,null,null,null,null,null,null,null,null,null,0,{"$f":"IF(N3280=0,\"\",MAX(O$15:O3279)+1)","v":""},{"$f":"IFERROR(INDEX($N$15:$N$5014,MATCH(ROW()-ROW($O$14),$O$15:$O$5014,0)),\"\")","v":""}]
[null,null,null,null,null,null,null,null,null,null,null,null,null,0,{"$f":"IF(N3281=0,\"\",MAX(O$15:O3280)+1)","v":""},""]
[null,null,null,null,null,null,null,null,null,null,null,null,null,0,{"$f":"IF(N3282=0,\"\",MAX(O$15:O3281)+1)","v":""},""]
[null,null,null,null,null,null,null,null,null,null,null,null,null,0,{"$f":"IF(N3283=0,\"\",MAX(O$15:O3282)+1)","v":""},""]
[null,null,null,null,null,null,null,null,null,null,null,null,null,0,{"$f":"IF(N3284=0,\"\",MAX(O$15:O3283)+1)","v":""},""]
[null,null,null,null,null,null,null,null,null,null,null,null,null,0,{"$f":"IF(N3285=0,\"\",MAX(O$15:O3284)+1)","v":""},""]
[null,null,null,null,null,null,null,null,null,null,null,null,null,0,{"$f":"IF(N3286=0,\"\",MAX(O$15:O3285)+1)","v":""},""]
[null,null,null,null,null,null,null,null,null,null,null,null,null,0,{"$f":"IF(N3287=0,\"\",MAX(O$15:O3286)+1)","v":""},""]
[null,null,null,null,null,null,null,null,null,null,null,null,null,0,{"$f":"IF(N3288=0,\"\",MAX(O$15:O3287)+1)","v":""},""]
[null,null,null,null,null,null,null,null,null,null,null,null,null,0,{"$f":"IF(N3289=0,\"\",MAX(O$15:O3288)+1)","v":""},""]
[null,null,null,null,null,null,null,null,null,null,null,null,null,0,{"$f":"IF(N3290=0,\"\",MAX(O$15:O3289)+1)","v":""},""]
[null,null,null,null,null,null,null,null,null,null,null,null,null,0,{"$f":"IF(N3291=0,\"\",MAX(O$15:O3290)+1)","v":""},""]
[null,null,null,null,null,null,null,null,null,null,null,null,null,0,{"$f":"IF(N3292=0,\"\",MAX(O$15:O3291)+1)","v":""},""]
[null,null,null,null,null,null,null,null,null,null,null,null,null,0,{"$f":"IF(N3293=0,\"\",MAX(O$15:O3292)+1)","v":""},""]
[null,null,null,null,null,null,null,null,null,null,null,null,null,0,{"$f":"IF(N3294=0,\"\",MAX(O$15:O3293)+1)","v":""},""]
[null,null,null,null,null,null,null,null,null,null,null,null,null,0,{"$f":"IF(N3295=0,\"\",MAX(O$15:O3294)+1)","v":""},""]
[null,null,null,null,null,null,null,null,null,null,null,null,null,0,{"$f":"IF(N3296=0,\"\",MAX(O$15:O3295)+1)","v":""},""]
[null,null,null,null,null,null,null,null,null,null,null,null,null,0,{"$f":"IF(N3297=0,\"\",MAX(O$15:O3296)+1)","v":""},""]
[null,null,null,null,null,null,null,null,null,null,null,null,null,0,{"$f":"IF(N3298=0,\"\",MAX(O$15:O3297)+1)","v":""},""]
[null,null,null,null,null,null,null,null,null,null,null,null,null,0,{"$f":"IF(N3299=0,\"\",MAX(O$15:O3298)+1)","v":""},""]
[null,null,null,null,null,null,null,null,null,null,null,null,null,0,{"$f":"IF(N3300=0,\"\",MAX(O$15:O3299)+1)","v":""},""]
[null,null,null,null,null,null,null,null,null,null,null,null,null,0,{"$f":"IF(N3301=0,\"\",MAX(O$15:O3300)+1)","v":""},""]
[null,null,null,null,null,null,null,null,null,null,null,null,null,0,{"$f":"IF(N3302=0,\"\",MAX(O$15:O3301)+1)","v":""},""]
[null,null,null,null,null,null,null,null,null,null,null,null,null,0,{"$f":"IF(N3303=0,\"\",MAX(O$15:O3302)+1)","v":""},""]
[null,null,null,null,null,null,null,null,null,null,null,null,null,0,{"$f":"IF(N3304=0,\"\",MAX(O$15:O3303)+1)","v":""},""]
[null,null,null,null,null,null,null,null,null,null,null,null,null,0,{"$f":"IF(N3305=0,\"\",MAX(O$15:O3304)+1)","v":""},""]
[null,null,null,null,null,null,null,null,null,null,null,null,null,0,{"$f":"IF(N3306=0,\"\",MAX(O$15:O3305)+1)","v":""},""]
[null,null,null,null,null,null,null,null,null,null,null,null,null,0,{"$f":"IF(N3307=0,\"\",MAX(O$15:O3306)+1)","v":""},""]
[null,null,null,null,null,null,null,null,null,null,null,null,null,0,{"$f":"IF(N3308=0,\"\",MAX(O$15:O3307)+1)","v":""},""]
[null,null,null,null,null,null,null,null,null,null,null,null,null,0,{"$f":"IF(N3309=0,\"\",MAX(O$15:O3308)+1)","v":""},""]
[null,null,null,null,null,null,null,null,null,null,null,null,null,0,{"$f":"IF(N3310=0,\"\",MAX(O$15:O3309)+1)","v":""},""]
[null,null,null,null,null,null,null,null,null,null,null,null,null,0,{"$f":"IF(N3311=0,\"\",MAX(O$15:O3310)+1)","v":""},""]
[null,null,null,null,null,null,null,null,null,null,null,null,null,0,{"$f":"IF(N3312=0,\"\",MAX(O$15:O3311)+1)","v":""},""]
[null,null,null,null,null,null,null,null,null,null,null,null,null,0,{"$f":"IF(N3313=0,\"\",MAX(O$15:O3312)+1)","v":""},""]
[null,null,null,null,null,null,null,null,null,null,null,null,null,0,{"$f":"IF(N3314=0,\"\",MAX(O$15:O3313)+1)","v":""},""]
[null,null,null,null,null,null,null,null,null,null,null,null,null,0,{"$f":"IF(N3315=0,\"\",MAX(O$15:O3314)+1)","v":""},""]
[null,null,null,null,null,null,null,null,null,null,null,null,null,0,{"$f":"IF(N3316=0,\"\",MAX(O$15:O3315)+1)","v":""},""]
[null,null,null,null,null,null,null,null,null,null,null,null,null,0,{"$f":"IF(N3317=0,\"\",MAX(O$15:O3316)+1)","v":""},""]
[null,null,null,null,null,null,null,null,null,null,null,null,null,0,{"$f":"IF(N3318=0,\"\",MAX(O$15:O3317)+1)","v":""},""]
[null,null,null,null,null,null,null,null,null,null,null,null,null,0,{"$f":"IF(N3319=0,\"\",MAX(O$15:O3318)+1)","v":""},""]
[null,null,null,null,null,null,null,null,null,null,null,null,null,0,{"$f":"IF(N3320=0,\"\",MAX(O$15:O3319)+1)","v":""},""]
[null,null,null,null,null,null,null,null,null,null,null,null,null,0,{"$f":"IF(N3321=0,\"\",MAX(O$15:O3320)+1)","v":""},""]
[null,null,null,null,null,null,null,null,null,null,null,null,null,{"$f":"IFERROR(M3322*L3322/1000,\"\")","v":0},{"$f":"IF(N3322=0,\"\",MAX(O$15:O3321)+1)","v":""},""]
[null,null,null,null,null,null,null,null,null,null,null,null,null,0,{"$f":"IF(N3323=0,\"\",MAX(O$15:O3322)+1)","v":""},""]
[null,null,null,null,null,null,null,null,null,null,null,null,null,0,{"$f":"IF(N3324=0,\"\",MAX(O$15:O3323)+1)","v":""},""]
[null,null,null,null,null,null,null,null,null,null,null,null,null,0,{"$f":"IF(N3325=0,\"\",MAX(O$15:O3324)+1)","v":""},""]
[null,null,null,null,null,null,null,null,null,null,null,null,null,0,{"$f":"IF(N3326=0,\"\",MAX(O$15:O3325)+1)","v":""},""]
[null,null,null,null,null,null,null,null,null,null,null,null,null,0,{"$f":"IF(N3327=0,\"\",MAX(O$15:O3326)+1)","v":""},""]
[null,null,null,null,null,null,null,null,null,null,null,null,null,0,{"$f":"IF(N3328=0,\"\",MAX(O$15:O3327)+1)","v":""},""]
[null,null,null,null,null,null,null,null,null,null,null,null,null,0,{"$f":"IF(N3329=0,\"\",MAX(O$15:O3328)+1)","v":""},""]
[null,null,null,null,null,null,null,null,null,null,null,null,null,0,{"$f":"IF(N3330=0,\"\",MAX(O$15:O3329)+1)","v":""},""]
[null,null,null,null,null,null,null,null,null,null,null,null,null,0,{"$f":"IF(N3331=0,\"\",MAX(O$15:O3330)+1)","v":""},""]
[null,null,null,null,null,null,null,null,null,null,null,null,null,0,{"$f":"IF(N3332=0,\"\",MAX(O$15:O3331)+1)","v":""},""]
[null,null,null,null,null,null,null,null,null,null,null,null,null,0,{"$f":"IF(N3333=0,\"\",MAX(O$15:O3332)+1)","v":""},""]
[null,null,null,null,null,null,null,null,null,null,null,null,null,0,{"$f":"IF(N3334=0,\"\",MAX(O$15:O3333)+1)","v":""},""]
[null,null,null,null,null,null,null,null,null,null,null,null,null,0,{"$f":"IF(N3335=0,\"\",MAX(O$15:O3334)+1)","v":""},""]
[null,null,null,null,null,null,null,null,null,null,null,null,null,0,{"$f":"IF(N3336=0,\"\",MAX(O$15:O3335)+1)","v":""},""]
[null,null,null,null,null,null,null,null,null,null,null,null,null,0,{"$f":"IF(N3337=0,\"\",MAX(O$15:O3336)+1)","v":""},""]
[null,null,null,null,null,null,null,null,null,null,null,null,null,0,{"$f":"IF(N3338=0,\"\",MAX(O$15:O3337)+1)","v":""},""]
[null,null,null,null,null,null,null,null,null,null,null,null,null,0,{"$f":"IF(N3339=0,\"\",MAX(O$15:O3338)+1)","v":""},""]
[null,null,null,null,null,null,null,null,null,null,null,null,null,0,{"$f":"IF(N3340=0,\"\",MAX(O$15:O3339)+1)","v":""},""]
[null,null,null,null,null,null,null,null,null,null,null,null,null,0,{"$f":"IF(N3341=0,\"\",MAX(O$15:O3340)+1)","v":""},""]
[null,null,null,null,null,null,null,null,null,null,null,null,null,0,{"$f":"IF(N3342=0,\"\",MAX(O$15:O3341)+1)","v":""},""]
[null,null,null,null,null,null,null,null,null,null,null,null,null,0,{"$f":"IF(N3343=0,\"\",MAX(O$15:O3342)+1)","v":""},""]
[null,null,null,null,null,null,null,null,null,null,null,null,null,0,{"$f":"IF(N3344=0,\"\",MAX(O$15:O3343)+1)","v":""},{"$f":"IFERROR(INDEX($N$15:$N$5014,MATCH(ROW()-ROW($O$14),$O$15:$O$5014,0)),\"\")","v":""}]
[null,null,null,null,null,null,null,null,null,null,null,null,null,0,{"$f":"IF(N3345=0,\"\",MAX(O$15:O3344)+1)","v":""},""]
[null,null,null,null,null,null,null,null,null,null,null,null,null,0,{"$f":"IF(N3346=0,\"\",MAX(O$15:O3345)+1)","v":""},""]
[null,null,null,null,null,null,null,null,null,null,null,null,null,0,{"$f":"IF(N3347=0,\"\",MAX(O$15:O3346)+1)","v":""},""]
[null,null,null,null,null,null,null,null,null,null,null,null,null,0,{"$f":"IF(N3348=0,\"\",MAX(O$15:O3347)+1)","v":""},""]
[null,null,null,null,null,null,null,null,null,null,null,null,null,0,{"$f":"IF(N3349=0,\"\",MAX(O$15:O3348)+1)","v":""},""]
[null,null,null,null,null,null,null,null,null,null,null,null,null,0,{"$f":"IF(N3350=0,\"\",MAX(O$15:O3349)+1)","v":""},""]
[null,null,null,null,null,null,null,null,null,null,null,null,null,0,{"$f":"IF(N3351=0,\"\",MAX(O$15:O3350)+1)","v":""},""]
[null,null,null,null,null,null,null,null,null,null,null,null,null,0,{"$f":"IF(N3352=0,\"\",MAX(O$15:O3351)+1)","v":""},""]
[null,null,null,null,null,null,null,null,null,null,null,null,null,0,{"$f":"IF(N3353=0,\"\",MAX(O$15:O3352)+1)","v":""},""]
[null,null,null,null,null,null,null,null,null,null,null,null,null,0,{"$f":"IF(N3354=0,\"\",MAX(O$15:O3353)+1)","v":""},""]
[null,null,null,null,null,null,null,null,null,null,null,null,null,0,{"$f":"IF(N3355=0,\"\",MAX(O$15:O3354)+1)","v":""},""]
[null,null,null,null,null,null,null,null,null,null,null,null,null,0,{"$f":"IF(N3356=0,\"\",MAX(O$15:O3355)+1)","v":""},""]
[null,null,null,null,null,null,null,null,null,null,null,null,null,0,{"$f":"IF(N3357=0,\"\",MAX(O$15:O3356)+1)","v":""},""]
[null,null,null,null,null,null,null,null,null,null,null,null,null,0,{"$f":"IF(N3358=0,\"\",MAX(O$15:O3357)+1)","v":""},""]
[null,null,null,null,null,null,null,null,null,null,null,null,null,0,{"$f":"IF(N3359=0,\"\",MAX(O$15:O3358)+1)","v":""},""]
[null,null,null,null,null,null,null,null,null,null,null,null,null,0,{"$f":"IF(N3360=0,\"\",MAX(O$15:O3359)+1)","v":""},""]
[null,null,null,null,null,null,null,null,null,null,null,null,null,0,{"$f":"IF(N3361=0,\"\",MAX(O$15:O3360)+1)","v":""},""]
[null,null,null,null,null,null,null,null,null,null,null,null,null,0,{"$f":"IF(N3362=0,\"\",MAX(O$15:O3361)+1)","v":""},""]
[null,null,null,null,null,null,null,null,null,null,null,null,null,0,{"$f":"IF(N3363=0,\"\",MAX(O$15:O3362)+1)","v":""},""]
[null,null,null,null,null,null,null,null,null,null,null,null,null,0,{"$f":"IF(N3364=0,\"\",MAX(O$15:O3363)+1)","v":""},""]
[null,null,null,null,null,null,null,null,null,null,null,null,null,0,{"$f":"IF(N3365=0,\"\",MAX(O$15:O3364)+1)","v":""},""]
[null,null,null,null,null,null,null,null,null,null,null,null,null,0,{"$f":"IF(N3366=0,\"\",MAX(O$15:O3365)+1)","v":""},""]
[null,null,null,null,null,null,null,null,null,null,null,null,null,0,{"$f":"IF(N3367=0,\"\",MAX(O$15:O3366)+1)","v":""},""]
[null,null,null,null,null,null,null,null,null,null,null,null,null,0,{"$f":"IF(N3368=0,\"\",MAX(O$15:O3367)+1)","v":""},""]
[null,null,null,null,null,null,null,null,null,null,null,null,null,0,{"$f":"IF(N3369=0,\"\",MAX(O$15:O3368)+1)","v":""},""]
[null,null,null,null,null,null,null,null,null,null,null,null,null,0,{"$f":"IF(N3370=0,\"\",MAX(O$15:O3369)+1)","v":""},""]
[null,null,null,null,null,null,null,null,null,null,null,null,null,0,{"$f":"IF(N3371=0,\"\",MAX(O$15:O3370)+1)","v":""},""]
[null,null,null,null,null,null,null,null,null,null,null,null,null,0,{"$f":"IF(N3372=0,\"\",MAX(O$15:O3371)+1)","v":""},""]
[null,null,null,null,null,null,null,null,null,null,null,null,null,0,{"$f":"IF(N3373=0,\"\",MAX(O$15:O3372)+1)","v":""},""]
[null,null,null,null,null,null,null,null,null,null,null,null,null,0,{"$f":"IF(N3374=0,\"\",MAX(O$15:O3373)+1)","v":""},""]
[null,null,null,null,null,null,null,null,null,null,null,null,null,0,{"$f":"IF(N3375=0,\"\",MAX(O$15:O3374)+1)","v":""},""]
[null,null,null,null,null,null,null,null,null,null,null,null,null,0,{"$f":"IF(N3376=0,\"\",MAX(O$15:O3375)+1)","v":""},""]
[null,null,null,null,null,null,null,null,null,null,null,null,null,0,{"$f":"IF(N3377=0,\"\",MAX(O$15:O3376)+1)","v":""},""]
[null,null,null,null,null,null,null,null,null,null,null,null,null,0,{"$f":"IF(N3378=0,\"\",MAX(O$15:O3377)+1)","v":""},""]
[null,null,null,null,null,null,null,null,null,null,null,null,null,0,{"$f":"IF(N3379=0,\"\",MAX(O$15:O3378)+1)","v":""},""]
[null,null,null,null,null,null,null,null,null,null,null,null,null,0,{"$f":"IF(N3380=0,\"\",MAX(O$15:O3379)+1)","v":""},""]
[null,null,null,null,null,null,null,null,null,null,null,null,null,0,{"$f":"IF(N3381=0,\"\",MAX(O$15:O3380)+1)","v":""},""]
[null,null,null,null,null,null,null,null,null,null,null,null,null,0,{"$f":"IF(N3382=0,\"\",MAX(O$15:O3381)+1)","v":""},""]
[null,null,null,null,null,null,null,null,null,null,null,null,null,0,{"$f":"IF(N3383=0,\"\",MAX(O$15:O3382)+1)","v":""},""]
[null,null,null,null,null,null,null,null,null,null,null,null,null,0,{"$f":"IF(N3384=0,\"\",MAX(O$15:O3383)+1)","v":""},""]
[null,null,null,null,null,null,null,null,null,null,null,null,null,0,{"$f":"IF(N3385=0,\"\",MAX(O$15:O3384)+1)","v":""},""]
[null,null,null,null,null,null,null,null,null,null,null,null,null,{"$f":"IFERROR(M3386*L3386/1000,\"\")","v":0},{"$f":"IF(N3386=0,\"\",MAX(O$15:O3385)+1)","v":""},""]
[null,null,null,null,null,null,null,null,null,null,null,null,null,0,{"$f":"IF(N3387=0,\"\",MAX(O$15:O3386)+1)","v":""},""]
[null,null,null,null,null,null,null,null,null,null,null,null,null,0,{"$f":"IF(N3388=0,\"\",MAX(O$15:O3387)+1)","v":""},""]
[null,null,null,null,null,null,null,null,null,null,null,null,null,0,{"$f":"IF(N3389=0,\"\",MAX(O$15:O3388)+1)","v":""},""]
[null,null,null,null,null,null,null,null,null,null,null,null,null,0,{"$f":"IF(N3390=0,\"\",MAX(O$15:O3389)+1)","v":""},""]
[null,null,null,null,null,null,null,null,null,null,null,null,null,0,{"$f":"IF(N3391=0,\"\",MAX(O$15:O3390)+1)","v":""},""]
[null,null,null,null,null,null,null,null,null,null,null,null,null,0,{"$f":"IF(N3392=0,\"\",MAX(O$15:O3391)+1)","v":""},""]
[null,null,null,null,null,null,null,null,null,null,null,null,null,0,{"$f":"IF(N3393=0,\"\",MAX(O$15:O3392)+1)","v":""},""]
[null,null,null,null,null,null,null,null,null,null,null,null,null,0,{"$f":"IF(N3394=0,\"\",MAX(O$15:O3393)+1)","v":""},""]
[null,null,null,null,null,null,null,null,null,null,null,null,null,0,{"$f":"IF(N3395=0,\"\",MAX(O$15:O3394)+1)","v":""},""]
[null,null,null,null,null,null,null,null,null,null,null,null,null,0,{"$f":"IF(N3396=0,\"\",MAX(O$15:O3395)+1)","v":""},""]
[null,null,null,null,null,null,null,null,null,null,null,null,null,0,{"$f":"IF(N3397=0,\"\",MAX(O$15:O3396)+1)","v":""},""]
[null,null,null,null,null,null,null,null,null,null,null,null,null,0,{"$f":"IF(N3398=0,\"\",MAX(O$15:O3397)+1)","v":""},""]
[null,null,null,null,null,null,null,null,null,null,null,null,null,0,{"$f":"IF(N3399=0,\"\",MAX(O$15:O3398)+1)","v":""},""]
[null,null,null,null,null,null,null,null,null,null,null,null,null,0,{"$f":"IF(N3400=0,\"\",MAX(O$15:O3399)+1)","v":""},""]
[null,null,null,null,null,null,null,null,null,null,null,null,null,0,{"$f":"IF(N3401=0,\"\",MAX(O$15:O3400)+1)","v":""},""]
[null,null,null,null,null,null,null,null,null,null,null,null,null,0,{"$f":"IF(N3402=0,\"\",MAX(O$15:O3401)+1)","v":""},""]
[null,null,null,null,null,null,null,null,null,null,null,null,null,0,{"$f":"IF(N3403=0,\"\",MAX(O$15:O3402)+1)","v":""},""]
[null,null,null,null,null,null,null,null,null,null,null,null,null,0,{"$f":"IF(N3404=0,\"\",MAX(O$15:O3403)+1)","v":""},""]
[null,null,null,null,null,null,null,null,null,null,null,null,null,0,{"$f":"IF(N3405=0,\"\",MAX(O$15:O3404)+1)","v":""},""]
[null,null,null,null,null,null,null,null,null,null,null,null,null,0,{"$f":"IF(N3406=0,\"\",MAX(O$15:O3405)+1)","v":""},""]
[null,null,null,null,null,null,null,null,null,null,null,null,null,0,{"$f":"IF(N3407=0,\"\",MAX(O$15:O3406)+1)","v":""},""]
[null,null,null,null,null,null,null,null,null,null,null,null,null,0,{"$f":"IF(N3408=0,\"\",MAX(O$15:O3407)+1)","v":""},{"$f":"IFERROR(INDEX($N$15:$N$5014,MATCH(ROW()-ROW($O$14),$O$15:$O$5014,0)),\"\")","v":""}]
[null,null,null,null,null,null,null,null,null,null,null,null,null,0,{"$f":"IF(N3409=0,\"\",MAX(O$15:O3408)+1)","v":""},""]
[null,null,null,null,null,null,null,null,null,null,null,null,null,0,{"$f":"IF(N3410=0,\"\",MAX(O$15:O3409)+1)","v":""},""]
[null,null,null,null,null,null,null,null,null,null,null,null,null,0,{"$f":"IF(N3411=0,\"\",MAX(O$15:O3410)+1)","v":""},""]
[null,null,null,null,null,null,null,null,null,null,null,null,null,0,{"$f":"IF(N3412=0,\"\",MAX(O$15:O3411)+1)","v":""},""]
[null,null,null,null,null,null,null,null,null,null,null,null,null,0,{"$f":"IF(N3413=0,\"\",MAX(O$15:O3412)+1)","v":""},""]
[null,null,null,null,null,null,null,null,null,null,null,null,null,0,{"$f":"IF(N3414=0,\"\",MAX(O$15:O3413)+1)","v":""},""]
[null,null,null,null,null,null,null,null,null,null,null,null,null,0,{"$f":"IF(N3415=0,\"\",MAX(O$15:O3414)+1)","v":""},""]
[null,null,null,null,null,null,null,null,null,null,null,null,null,0,{"$f":"IF(N3416=0,\"\",MAX(O$15:O3415)+1)","v":""},""]
[null,null,null,null,null,null,null,null,null,null,null,null,null,0,{"$f":"IF(N3417=0,\"\",MAX(O$15:O3416)+1)","v":""},""]
[null,null,null,null,null,null,null,null,null,null,null,null,null,0,{"$f":"IF(N3418=0,\"\",MAX(O$15:O3417)+1)","v":""},""]
[null,null,null,null,null,null,null,null,null,null,null,null,null,0,{"$f":"IF(N3419=0,\"\",MAX(O$15:O3418)+1)","v":""},""]
[null,null,null,null,null,null,null,null,null,null,null,null,null,0,{"$f":"IF(N3420=0,\"\",MAX(O$15:O3419)+1)","v":""},""]
[null,null,null,null,null,null,null,null,null,null,null,null,null,0,{"$f":"IF(N3421=0,\"\",MAX(O$15:O3420)+1)","v":""},""]
[null,null,null,null,null,null,null,null,null,null,null,null,null,0,{"$f":"IF(N3422=0,\"\",MAX(O$15:O3421)+1)","v":""},""]
[null,null,null,null,null,null,null,null,null,null,null,null,null,0,{"$f":"IF(N3423=0,\"\",MAX(O$15:O3422)+1)","v":""},""]
[null,null,null,null,null,null,null,null,null,null,null,null,null,0,{"$f":"IF(N3424=0,\"\",MAX(O$15:O3423)+1)","v":""},""]
[null,null,null,null,null,null,null,null,null,null,null,null,null,0,{"$f":"IF(N3425=0,\"\",MAX(O$15:O3424)+1)","v":""},""]
[null,null,null,null,null,null,null,null,null,null,null,null,null,0,{"$f":"IF(N3426=0,\"\",MAX(O$15:O3425)+1)","v":""},""]
[null,null,null,null,null,null,null,null,null,null,null,null,null,0,{"$f":"IF(N3427=0,\"\",MAX(O$15:O3426)+1)","v":""},""]
[null,null,null,null,null,null,null,null,null,null,null,null,null,0,{"$f":"IF(N3428=0,\"\",MAX(O$15:O3427)+1)","v":""},""]
[null,null,null,null,null,null,null,null,null,null,null,null,null,0,{"$f":"IF(N3429=0,\"\",MAX(O$15:O3428)+1)","v":""},""]
[null,null,null,null,null,null,null,null,null,null,null,null,null,0,{"$f":"IF(N3430=0,\"\",MAX(O$15:O3429)+1)","v":""},""]
[null,null,null,null,null,null,null,null,null,null,null,null,null,0,{"$f":"IF(N3431=0,\"\",MAX(O$15:O3430)+1)","v":""},""]
[null,null,null,null,null,null,null,null,null,null,null,null,null,0,{"$f":"IF(N3432=0,\"\",MAX(O$15:O3431)+1)","v":""},""]
[null,null,null,null,null,null,null,null,null,null,null,null,null,0,{"$f":"IF(N3433=0,\"\",MAX(O$15:O3432)+1)","v":""},""]
[null,null,null,null,null,null,null,null,null,null,null,null,null,0,{"$f":"IF(N3434=0,\"\",MAX(O$15:O3433)+1)","v":""},""]
[null,null,null,null,null,null,null,null,null,null,null,null,null,0,{"$f":"IF(N3435=0,\"\",MAX(O$15:O3434)+1)","v":""},""]
[null,null,null,null,null,null,null,null,null,null,null,null,null,0,{"$f":"IF(N3436=0,\"\",MAX(O$15:O3435)+1)","v":""},""]
[null,null,null,null,null,null,null,null,null,null,null,null,null,0,{"$f":"IF(N3437=0,\"\",MAX(O$15:O3436)+1)","v":""},""]
[null,null,null,null,null,null,null,null,null,null,null,null,null,0,{"$f":"IF(N3438=0,\"\",MAX(O$15:O3437)+1)","v":""},""]
[null,null,null,null,null,null,null,null,null,null,null,null,null,0,{"$f":"IF(N3439=0,\"\",MAX(O$15:O3438)+1)","v":""},""]
[null,null,null,null,null,null,null,null,null,null,null,null,null,0,{"$f":"IF(N3440=0,\"\",MAX(O$15:O3439)+1)","v":""},""]
[null,null,null,null,null,null,null,null,null,null,null,null,null,0,{"$f":"IF(N3441=0,\"\",MAX(O$15:O3440)+1)","v":""},""]
[null,null,null,null,null,null,null,null,null,null,null,null,null,0,{"$f":"IF(N3442=0,\"\",MAX(O$15:O3441)+1)","v":""},""]
[null,null,null,null,null,null,null,null,null,null,null,null,null,0,{"$f":"IF(N3443=0,\"\",MAX(O$15:O3442)+1)","v":""},""]
[null,null,null,null,null,null,null,null,null,null,null,null,null,0,{"$f":"IF(N3444=0,\"\",MAX(O$15:O3443)+1)","v":""},""]
[null,null,null,null,null,null,null,null,null,null,null,null,null,0,{"$f":"IF(N3445=0,\"\",MAX(O$15:O3444)+1)","v":""},""]
[null,null,null,null,null,null,null,null,null,null,null,null,null,0,{"$f":"IF(N3446=0,\"\",MAX(O$15:O3445)+1)","v":""},""]
[null,null,null,null,null,null,null,null,null,null,null,null,null,0,{"$f":"IF(N3447=0,\"\",MAX(O$15:O3446)+1)","v":""},""]
[null,null,null,null,null,null,null,null,null,null,null,null,null,0,{"$f":"IF(N3448=0,\"\",MAX(O$15:O3447)+1)","v":""},""]
[null,null,null,null,null,null,null,null,null,null,null,null,null,0,{"$f":"IF(N3449=0,\"\",MAX(O$15:O3448)+1)","v":""},""]
[null,null,null,null,null,null,null,null,null,null,null,null,null,{"$f":"IFERROR(M3450*L3450/1000,\"\")","v":0},{"$f":"IF(N3450=0,\"\",MAX(O$15:O3449)+1)","v":""},""]
[null,null,null,null,null,null,null,null,null,null,null,null,null,0,{"$f":"IF(N3451=0,\"\",MAX(O$15:O3450)+1)","v":""},""]
[null,null,null,null,null,null,null,null,null,null,null,null,null,0,{"$f":"IF(N3452=0,\"\",MAX(O$15:O3451)+1)","v":""},""]
[null,null,null,null,null,null,null,null,null,null,null,null,null,0,{"$f":"IF(N3453=0,\"\",MAX(O$15:O3452)+1)","v":""},""]
[null,null,null,null,null,null,null,null,null,null,null,null,null,0,{"$f":"IF(N3454=0,\"\",MAX(O$15:O3453)+1)","v":""},""]
[null,null,null,null,null,null,null,null,null,null,null,null,null,0,{"$f":"IF(N3455=0,\"\",MAX(O$15:O3454)+1)","v":""},""]
[null,null,null,null,null,null,null,null,null,null,null,null,null,0,{"$f":"IF(N3456=0,\"\",MAX(O$15:O3455)+1)","v":""},""]
[null,null,null,null,null,null,null,null,null,null,null,null,null,0,{"$f":"IF(N3457=0,\"\",MAX(O$15:O3456)+1)","v":""},""]
[null,null,null,null,null,null,null,null,null,null,null,null,null,0,{"$f":"IF(N3458=0,\"\",MAX(O$15:O3457)+1)","v":""},""]
[null,null,null,null,null,null,null,null,null,null,null,null,null,0,{"$f":"IF(N3459=0,\"\",MAX(O$15:O3458)+1)","v":""},""]
[null,null,null,null,null,null,null,null,null,null,null,null,null,0,{"$f":"IF(N3460=0,\"\",MAX(O$15:O3459)+1)","v":""},""]
[null,null,null,null,null,null,null,null,null,null,null,null,null,0,{"$f":"IF(N3461=0,\"\",MAX(O$15:O3460)+1)","v":""},""]
[null,null,null,null,null,null,null,null,null,null,null,null,null,0,{"$f":"IF(N3462=0,\"\",MAX(O$15:O3461)+1)","v":""},""]
[null,null,null,null,null,null,null,null,null,null,null,null,null,0,{"$f":"IF(N3463=0,\"\",MAX(O$15:O3462)+1)","v":""},""]
[null,null,null,null,null,null,null,null,null,null,null,null,null,0,{"$f":"IF(N3464=0,\"\",MAX(O$15:O3463)+1)","v":""},""]
[null,null,null,null,null,null,null,null,null,null,null,null,null,0,{"$f":"IF(N3465=0,\"\",MAX(O$15:O3464)+1)","v":""},""]
[null,null,null,null,null,null,null,null,null,null,null,null,null,0,{"$f":"IF(N3466=0,\"\",MAX(O$15:O3465)+1)","v":""},""]
[null,null,null,null,null,null,null,null,null,null,null,null,null,0,{"$f":"IF(N3467=0,\"\",MAX(O$15:O3466)+1)","v":""},""]
[null,null,null,null,null,null,null,null,null,null,null,null,null,0,{"$f":"IF(N3468=0,\"\",MAX(O$15:O3467)+1)","v":""},""]
[null,null,null,null,null,null,null,null,null,null,null,null,null,0,{"$f":"IF(N3469=0,\"\",MAX(O$15:O3468)+1)","v":""},""]
[null,null,null,null,null,null,null,null,null,null,null,null,null,0,{"$f":"IF(N3470=0,\"\",MAX(O$15:O3469)+1)","v":""},""]
[null,null,null,null,null,null,null,null,null,null,null,null,null,0,{"$f":"IF(N3471=0,\"\",MAX(O$15:O3470)+1)","v":""},""]
[null,null,null,null,null,null,null,null,null,null,null,null,null,0,{"$f":"IF(N3472=0,\"\",MAX(O$15:O3471)+1)","v":""},{"$f":"IFERROR(INDEX($N$15:$N$5014,MATCH(ROW()-ROW($O$14),$O$15:$O$5014,0)),\"\")","v":""}]
[null,null,null,null,null,null,null,null,null,null,null,null,null,0,{"$f":"IF(N3473=0,\"\",MAX(O$15:O3472)+1)","v":""},""]
[null,null,null,null,null,null,null,null,null,null,null,null,null,0,{"$f":"IF(N3474=0,\"\",MAX(O$15:O3473)+1)","v":""},""]
[null,null,null,null,null,null,null,null,null,null,null,null,null,0,{"$f":"IF(N3475=0,\"\",MAX(O$15:O3474)+1)","v":""},""]
[null,null,null,null,null,null,null,null,null,null,null,null,null,0,{"$f":"IF(N3476=0,\"\",MAX(O$15:O3475)+1)","v":""},""]
[null,null,null,null,null,null,null,null,null,null,null,null,null,0,{"$f":"IF(N3477=0,\"\",MAX(O$15:O3476)+1)","v":""},""]
[null,null,null,null,null,null,null,null,null,null,null,null,null,0,{"$f":"IF(N3478=0,\"\",MAX(O$15:O3477)+1)","v":""},""]
[null,null,null,null,null,null,null,null,null,null,null,null,null,0,{"$f":"IF(N3479=0,\"\",MAX(O$15:O3478)+1)","v":""},""]
[null,null,null,null,null,null,null,null,null,null,null,null,null,0,{"$f":"IF(N3480=0,\"\",MAX(O$15:O3479)+1)","v":""},""]
[null,null,null,null,null,null,null,null,null,null,null,null,null,0,{"$f":"IF(N3481=0,\"\",MAX(O$15:O3480)+1)","v":""},""]
[null,null,null,null,null,null,null,null,null,null,null,null,null,0,{"$f":"IF(N3482=0,\"\",MAX(O$15:O3481)+1)","v":""},""]
[null,null,null,null,null,null,null,null,null,null,null,null,null,0,{"$f":"IF(N3483=0,\"\",MAX(O$15:O3482)+1)","v":""},""]
[null,null,null,null,null,null,null,null,null,null,null,null,null,0,{"$f":"IF(N3484=0,\"\",MAX(O$15:O3483)+1)","v":""},""]
[null,null,null,null,null,null,null,null,null,null,null,null,null,0,{"$f":"IF(N3485=0,\"\",MAX(O$15:O3484)+1)","v":""},""]
[null,null,null,null,null,null,null,null,null,null,null,null,null,0,{"$f":"IF(N3486=0,\"\",MAX(O$15:O3485)+1)","v":""},""]
[null,null,null,null,null,null,null,null,null,null,null,null,null,0,{"$f":"IF(N3487=0,\"\",MAX(O$15:O3486)+1)","v":""},""]
[null,null,null,null,null,null,null,null,null,null,null,null,null,0,{"$f":"IF(N3488=0,\"\",MAX(O$15:O3487)+1)","v":""},""]
[null,null,null,null,null,null,null,null,null,null,null,null,null,0,{"$f":"IF(N3489=0,\"\",MAX(O$15:O3488)+1)","v":""},""]
[null,null,null,null,null,null,null,null,null,null,null,null,null,0,{"$f":"IF(N3490=0,\"\",MAX(O$15:O3489)+1)","v":""},""]
[null,null,null,null,null,null,null,null,null,null,null,null,null,0,{"$f":"IF(N3491=0,\"\",MAX(O$15:O3490)+1)","v":""},""]
[null,null,null,null,null,null,null,null,null,null,null,null,null,0,{"$f":"IF(N3492=0,\"\",MAX(O$15:O3491)+1)","v":""},""]
[null,null,null,null,null,null,null,null,null,null,null,null,null,0,{"$f":"IF(N3493=0,\"\",MAX(O$15:O3492)+1)","v":""},""]
[null,null,null,null,null,null,null,null,null,null,null,null,null,0,{"$f":"IF(N3494=0,\"\",MAX(O$15:O3493)+1)","v":""},""]
[null,null,null,null,null,null,null,null,null,null,null,null,null,0,{"$f":"IF(N3495=0,\"\",MAX(O$15:O3494)+1)","v":""},""]
[null,null,null,null,null,null,null,null,null,null,null,null,null,0,{"$f":"IF(N3496=0,\"\",MAX(O$15:O3495)+1)","v":""},""]
[null,null,null,null,null,null,null,null,null,null,null,null,null,0,{"$f":"IF(N3497=0,\"\",MAX(O$15:O3496)+1)","v":""},""]
[null,null,null,null,null,null,null,null,null,null,null,null,null,0,{"$f":"IF(N3498=0,\"\",MAX(O$15:O3497)+1)","v":""},""]
[null,null,null,null,null,null,null,null,null,null,null,null,null,0,{"$f":"IF(N3499=0,\"\",MAX(O$15:O3498)+1)","v":""},""]
[null,null,null,null,null,null,null,null,null,null,null,null,null,0,{"$f":"IF(N3500=0,\"\",MAX(O$15:O3499)+1)","v":""},""]
[null,null,null,null,null,null,null,null,null,null,null,null,null,0,{"$f":"IF(N3501=0,\"\",MAX(O$15:O3500)+1)","v":""},""]
[null,null,null,null,null,null,null,null,null,null,null,null,null,0,{"$f":"IF(N3502=0,\"\",MAX(O$15:O3501)+1)","v":""},""]
[null,null,null,null,null,null,null,null,null,null,null,null,null,0,{"$f":"IF(N3503=0,\"\",MAX(O$15:O3502)+1)","v":""},""]
[null,null,null,null,null,null,null,null,null,null,null,null,null,0,{"$f":"IF(N3504=0,\"\",MAX(O$15:O3503)+1)","v":""},""]
[null,null,null,null,null,null,null,null,null,null,null,null,null,0,{"$f":"IF(N3505=0,\"\",MAX(O$15:O3504)+1)","v":""},""]
[null,null,null,null,null,null,null,null,null,null,null,null,null,0,{"$f":"IF(N3506=0,\"\",MAX(O$15:O3505)+1)","v":""},""]
[null,null,null,null,null,null,null,null,null,null,null,null,null,0,{"$f":"IF(N3507=0,\"\",MAX(O$15:O3506)+1)","v":""},""]
[null,null,null,null,null,null,null,null,null,null,null,null,null,0,{"$f":"IF(N3508=0,\"\",MAX(O$15:O3507)+1)","v":""},""]
[null,null,null,null,null,null,null,null,null,null,null,null,null,0,{"$f":"IF(N3509=0,\"\",MAX(O$15:O3508)+1)","v":""},""]
[null,null,null,null,null,null,null,null,null,null,null,null,null,0,{"$f":"IF(N3510=0,\"\",MAX(O$15:O3509)+1)","v":""},""]
[null,null,null,null,null,null,null,null,null,null,null,null,null,0,{"$f":"IF(N3511=0,\"\",MAX(O$15:O3510)+1)","v":""},""]
[null,null,null,null,null,null,null,null,null,null,null,null,null,0,{"$f":"IF(N3512=0,\"\",MAX(O$15:O3511)+1)","v":""},""]
[null,null,null,null,null,null,null,null,null,null,null,null,null,0,{"$f":"IF(N3513=0,\"\",MAX(O$15:O3512)+1)","v":""},""]
[null,null,null,null,null,null,null,null,null,null,null,null,null,{"$f":"IFERROR(M3514*L3514/1000,\"\")","v":0},{"$f":"IF(N3514=0,\"\",MAX(O$15:O3513)+1)","v":""},""]
[null,null,null,null,null,null,null,null,null,null,null,null,null,0,{"$f":"IF(N3515=0,\"\",MAX(O$15:O3514)+1)","v":""},""]
[null,null,null,null,null,null,null,null,null,null,null,null,null,0,{"$f":"IF(N3516=0,\"\",MAX(O$15:O3515)+1)","v":""},""]
[null,null,null,null,null,null,null,null,null,null,null,null,null,0,{"$f":"IF(N3517=0,\"\",MAX(O$15:O3516)+1)","v":""},""]
[null,null,null,null,null,null,null,null,null,null,null,null,null,0,{"$f":"IF(N3518=0,\"\",MAX(O$15:O3517)+1)","v":""},""]
[null,null,null,null,null,null,null,null,null,null,null,null,null,0,{"$f":"IF(N3519=0,\"\",MAX(O$15:O3518)+1)","v":""},""]
[null,null,null,null,null,null,null,null,null,null,null,null,null,0,{"$f":"IF(N3520=0,\"\",MAX(O$15:O3519)+1)","v":""},""]
[null,null,null,null,null,null,null,null,null,null,null,null,null,0,{"$f":"IF(N3521=0,\"\",MAX(O$15:O3520)+1)","v":""},""]
[null,null,null,null,null,null,null,null,null,null,null,null,null,0,{"$f":"IF(N3522=0,\"\",MAX(O$15:O3521)+1)","v":""},""]
[null,null,null,null,null,null,null,null,null,null,null,null,null,0,{"$f":"IF(N3523=0,\"\",MAX(O$15:O3522)+1)","v":""},""]
[null,null,null,null,null,null,null,null,null,null,null,null,null,0,{"$f":"IF(N3524=0,\"\",MAX(O$15:O3523)+1)","v":""},""]
[null,null,null,null,null,null,null,null,null,null,null,null,null,0,{"$f":"IF(N3525=0,\"\",MAX(O$15:O3524)+1)","v":""},""]
[null,null,null,null,null,null,null,null,null,null,null,null,null,0,{"$f":"IF(N3526=0,\"\",MAX(O$15:O3525)+1)","v":""},""]
[null,null,null,null,null,null,null,null,null,null,null,null,null,0,{"$f":"IF(N3527=0,\"\",MAX(O$15:O3526)+1)","v":""},""]
[null,null,null,null,null,null,null,null,null,null,null,null,null,0,{"$f":"IF(N3528=0,\"\",MAX(O$15:O3527)+1)","v":""},""]
[null,null,null,null,null,null,null,null,null,null,null,null,null,0,{"$f":"IF(N3529=0,\"\",MAX(O$15:O3528)+1)","v":""},""]
[null,null,null,null,null,null,null,null,null,null,null,null,null,0,{"$f":"IF(N3530=0,\"\",MAX(O$15:O3529)+1)","v":""},""]
[null,null,null,null,null,null,null,null,null,null,null,null,null,0,{"$f":"IF(N3531=0,\"\",MAX(O$15:O3530)+1)","v":""},""]
[null,null,null,null,null,null,null,null,null,null,null,null,null,0,{"$f":"IF(N3532=0,\"\",MAX(O$15:O3531)+1)","v":""},""]
[null,null,null,null,null,null,null,null,null,null,null,null,null,0,{"$f":"IF(N3533=0,\"\",MAX(O$15:O3532)+1)","v":""},""]
[null,null,null,null,null,null,null,null,null,null,null,null,null,0,{"$f":"IF(N3534=0,\"\",MAX(O$15:O3533)+1)","v":""},""]
[null,null,null,null,null,null,null,null,null,null,null,null,null,0,{"$f":"IF(N3535=0,\"\",MAX(O$15:O3534)+1)","v":""},""]
[null,null,null,null,null,null,null,null,null,null,null,null,null,0,{"$f":"IF(N3536=0,\"\",MAX(O$15:O3535)+1)","v":""},{"$f":"IFERROR(INDEX($N$15:$N$5014,MATCH(ROW()-ROW($O$14),$O$15:$O$5014,0)),\"\")","v":""}]
[null,null,null,null,null,null,null,null,null,null,null,null,null,0,{"$f":"IF(N3537=0,\"\",MAX(O$15:O3536)+1)","v":""},""]
[null,null,null,null,null,null,null,null,null,null,null,null,null,0,{"$f":"IF(N3538=0,\"\",MAX(O$15:O3537)+1)","v":""},""]
[null,null,null,null,null,null,null,null,null,null,null,null,null,0,{"$f":"IF(N3539=0,\"\",MAX(O$15:O3538)+1)","v":""},""]
[null,null,null,null,null,null,null,null,null,null,null,null,null,0,{"$f":"IF(N3540=0,\"\",MAX(O$15:O3539)+1)","v":""},""]
[null,null,null,null,null,null,null,null,null,null,null,null,null,0,{"$f":"IF(N3541=0,\"\",MAX(O$15:O3540)+1)","v":""},""]
[null,null,null,null,null,null,null,null,null,null,null,null,null,0,{"$f":"IF(N3542=0,\"\",MAX(O$15:O3541)+1)","v":""},""]
[null,null,null,null,null,null,null,null,null,null,null,null,null,0,{"$f":"IF(N3543=0,\"\",MAX(O$15:O3542)+1)","v":""},""]
[null,null,null,null,null,null,null,null,null,null,null,null,null,0,{"$f":"IF(N3544=0,\"\",MAX(O$15:O3543)+1)","v":""},""]
[null,null,null,null,null,null,null,null,null,null,null,null,null,0,{"$f":"IF(N3545=0,\"\",MAX(O$15:O3544)+1)","v":""},""]
[null,null,null,null,null,null,null,null,null,null,null,null,null,0,{"$f":"IF(N3546=0,\"\",MAX(O$15:O3545)+1)","v":""},""]
[null,null,null,null,null,null,null,null,null,null,null,null,null,0,{"$f":"IF(N3547=0,\"\",MAX(O$15:O3546)+1)","v":""},""]
[null,null,null,null,null,null,null,null,null,null,null,null,null,0,{"$f":"IF(N3548=0,\"\",MAX(O$15:O3547)+1)","v":""},""]
[null,null,null,null,null,null,null,null,null,null,null,null,null,0,{"$f":"IF(N3549=0,\"\",MAX(O$15:O3548)+1)","v":""},""]
[null,null,null,null,null,null,null,null,null,null,null,null,null,0,{"$f":"IF(N3550=0,\"\",MAX(O$15:O3549)+1)","v":""},""]
[null,null,null,null,null,null,null,null,null,null,null,null,null,0,{"$f":"IF(N3551=0,\"\",MAX(O$15:O3550)+1)","v":""},""]
[null,null,null,null,null,null,null,null,null,null,null,null,null,0,{"$f":"IF(N3552=0,\"\",MAX(O$15:O3551)+1)","v":""},""]
[null,null,null,null,null,null,null,null,null,null,null,null,null,0,{"$f":"IF(N3553=0,\"\",MAX(O$15:O3552)+1)","v":""},""]
[null,null,null,null,null,null,null,null,null,null,null,null,null,0,{"$f":"IF(N3554=0,\"\",MAX(O$15:O3553)+1)","v":""},""]
[null,null,null,null,null,null,null,null,null,null,null,null,null,0,{"$f":"IF(N3555=0,\"\",MAX(O$15:O3554)+1)","v":""},""]
[null,null,null,null,null,null,null,null,null,null,null,null,null,0,{"$f":"IF(N3556=0,\"\",MAX(O$15:O3555)+1)","v":""},""]
[null,null,null,null,null,null,null,null,null,null,null,null,null,0,{"$f":"IF(N3557=0,\"\",MAX(O$15:O3556)+1)","v":""},""]
[null,null,null,null,null,null,null,null,null,null,null,null,null,0,{"$f":"IF(N3558=0,\"\",MAX(O$15:O3557)+1)","v":""},""]
[null,null,null,null,null,null,null,null,null,null,null,null,null,0,{"$f":"IF(N3559=0,\"\",MAX(O$15:O3558)+1)","v":""},""]
[null,null,null,null,null,null,null,null,null,null,null,null,null,0,{"$f":"IF(N3560=0,\"\",MAX(O$15:O3559)+1)","v":""},""]
[null,null,null,null,null,null,null,null,null,null,null,null,null,0,{"$f":"IF(N3561=0,\"\",MAX(O$15:O3560)+1)","v":""},""]
[null,null,null,null,null,null,null,null,null,null,null,null,null,0,{"$f":"IF(N3562=0,\"\",MAX(O$15:O3561)+1)","v":""},""]
[null,null,null,null,null,null,null,null,null,null,null,null,null,0,{"$f":"IF(N3563=0,\"\",MAX(O$15:O3562)+1)","v":""},""]
[null,null,null,null,null,null,null,null,null,null,null,null,null,0,{"$f":"IF(N3564=0,\"\",MAX(O$15:O3563)+1)","v":""},""]
[null,null,null,null,null,null,null,null,null,null,null,null,null,0,{"$f":"IF(N3565=0,\"\",MAX(O$15:O3564)+1)","v":""},""]
[null,null,null,null,null,null,null,null,null,null,null,null,null,0,{"$f":"IF(N3566=0,\"\",MAX(O$15:O3565)+1)","v":""},""]
[null,null,null,null,null,null,null,null,null,null,null,null,null,0,{"$f":"IF(N3567=0,\"\",MAX(O$15:O3566)+1)","v":""},""]
[null,null,null,null,null,null,null,null,null,null,null,null,null,0,{"$f":"IF(N3568=0,\"\",MAX(O$15:O3567)+1)","v":""},""]
[null,null,null,null,null,null,null,null,null,null,null,null,null,0,{"$f":"IF(N3569=0,\"\",MAX(O$15:O3568)+1)","v":""},""]
[null,null,null,null,null,null,null,null,null,null,null,null,null,0,{"$f":"IF(N3570=0,\"\",MAX(O$15:O3569)+1)","v":""},""]
[null,null,null,null,null,null,null,null,null,null,null,null,null,0,{"$f":"IF(N3571=0,\"\",MAX(O$15:O3570)+1)","v":""},""]
[null,null,null,null,null,null,null,null,null,null,null,null,null,0,{"$f":"IF(N3572=0,\"\",MAX(O$15:O3571)+1)","v":""},""]
[null,null,null,null,null,null,null,null,null,null,null,null,null,0,{"$f":"IF(N3573=0,\"\",MAX(O$15:O3572)+1)","v":""},""]
[null,null,null,null,null,null,null,null,null,null,null,null,null,0,{"$f":"IF(N3574=0,\"\",MAX(O$15:O3573)+1)","v":""},""]
[null,null,null,null,null,null,null,null,null,null,null,null,null,0,{"$f":"IF(N3575=0,\"\",MAX(O$15:O3574)+1)","v":""},""]
[null,null,null,null,null,null,null,null,null,null,null,null,null,0,{"$f":"IF(N3576=0,\"\",MAX(O$15:O3575)+1)","v":""},""]
[null,null,null,null,null,null,null,null,null,null,null,null,null,0,{"$f":"IF(N3577=0,\"\",MAX(O$15:O3576)+1)","v":""},""]
[null,null,null,null,null,null,null,null,null,null,null,null,null,{"$f":"IFERROR(M3578*L3578/1000,\"\")","v":0},{"$f":"IF(N3578=0,\"\",MAX(O$15:O3577)+1)","v":""},""]
[null,null,null,null,null,null,null,null,null,null,null,null,null,0,{"$f":"IF(N3579=0,\"\",MAX(O$15:O3578)+1)","v":""},""]
[null,null,null,null,null,null,null,null,null,null,null,null,null,0,{"$f":"IF(N3580=0,\"\",MAX(O$15:O3579)+1)","v":""},""]
[null,null,null,null,null,null,null,null,null,null,null,null,null,0,{"$f":"IF(N3581=0,\"\",MAX(O$15:O3580)+1)","v":""},""]
[null,null,null,null,null,null,null,null,null,null,null,null,null,0,{"$f":"IF(N3582=0,\"\",MAX(O$15:O3581)+1)","v":""},""]
[null,null,null,null,null,null,null,null,null,null,null,null,null,0,{"$f":"IF(N3583=0,\"\",MAX(O$15:O3582)+1)","v":""},""]
[null,null,null,null,null,null,null,null,null,null,null,null,null,0,{"$f":"IF(N3584=0,\"\",MAX(O$15:O3583)+1)","v":""},""]
[null,null,null,null,null,null,null,null,null,null,null,null,null,0,{"$f":"IF(N3585=0,\"\",MAX(O$15:O3584)+1)","v":""},""]
[null,null,null,null,null,null,null,null,null,null,null,null,null,0,{"$f":"IF(N3586=0,\"\",MAX(O$15:O3585)+1)","v":""},""]
[null,null,null,null,null,null,null,null,null,null,null,null,null,0,{"$f":"IF(N3587=0,\"\",MAX(O$15:O3586)+1)","v":""},""]
[null,null,null,null,null,null,null,null,null,null,null,null,null,0,{"$f":"IF(N3588=0,\"\",MAX(O$15:O3587)+1)","v":""},""]
[null,null,null,null,null,null,null,null,null,null,null,null,null,0,{"$f":"IF(N3589=0,\"\",MAX(O$15:O3588)+1)","v":""},""]
[null,null,null,null,null,null,null,null,null,null,null,null,null,0,{"$f":"IF(N3590=0,\"\",MAX(O$15:O3589)+1)","v":""},""]
[null,null,null,null,null,null,null,null,null,null,null,null,null,0,{"$f":"IF(N3591=0,\"\",MAX(O$15:O3590)+1)","v":""},""]
[null,null,null,null,null,null,null,null,null,null,null,null,null,0,{"$f":"IF(N3592=0,\"\",MAX(O$15:O3591)+1)","v":""},""]
[null,null,null,null,null,null,null,null,null,null,null,null,null,0,{"$f":"IF(N3593=0,\"\",MAX(O$15:O3592)+1)","v":""},""]
[null,null,null,null,null,null,null,null,null,null,null,null,null,0,{"$f":"IF(N3594=0,\"\",MAX(O$15:O3593)+1)","v":""},""]
[null,null,null,null,null,null,null,null,null,null,null,null,null,0,{"$f":"IF(N3595=0,\"\",MAX(O$15:O3594)+1)","v":""},""]
[null,null,null,null,null,null,null,null,null,null,null,null,null,0,{"$f":"IF(N3596=0,\"\",MAX(O$15:O3595)+1)","v":""},""]
[null,null,null,null,null,null,null,null,null,null,null,null,null,0,{"$f":"IF(N3597=0,\"\",MAX(O$15:O3596)+1)","v":""},""]
[null,null,null,null,null,null,null,null,null,null,null,null,null,0,{"$f":"IF(N3598=0,\"\",MAX(O$15:O3597)+1)","v":""},""]
[null,null,null,null,null,null,null,null,null,null,null,null,null,0,{"$f":"IF(N3599=0,\"\",MAX(O$15:O3598)+1)","v":""},""]
[null,null,null,null,null,null,null,null,null,null,null,null,null,0,{"$f":"IF(N3600=0,\"\",MAX(O$15:O3599)+1)","v":""},{"$f":"IFERROR(INDEX($N$15:$N$5014,MATCH(ROW()-ROW($O$14),$O$15:$O$5014,0)),\"\")","v":""}]
[null,null,null,null,null,null,null,null,null,null,null,null,null,0,{"$f":"IF(N3601=0,\"\",MAX(O$15:O3600)+1)","v":""},""]
[null,null,null,null,null,null,null,null,null,null,null,null,null,0,{"$f":"IF(N3602=0,\"\",MAX(O$15:O3601)+1)","v":""},""]
[null,null,null,null,null,null,null,null,null,null,null,null,null,0,{"$f":"IF(N3603=0,\"\",MAX(O$15:O3602)+1)","v":""},""]
[null,null,null,null,null,null,null,null,null,null,null,null,null,0,{"$f":"IF(N3604=0,\"\",MAX(O$15:O3603)+1)","v":""},""]
[null,null,null,null,null,null,null,null,null,null,null,null,null,0,{"$f":"IF(N3605=0,\"\",MAX(O$15:O3604)+1)","v":""},""]
[null,null,null,null,null,null,null,null,null,null,null,null,null,0,{"$f":"IF(N3606=0,\"\",MAX(O$15:O3605)+1)","v":""},""]
[null,null,null,null,null,null,null,null,null,null,null,null,null,0,{"$f":"IF(N3607=0,\"\",MAX(O$15:O3606)+1)","v":""},""]
[null,null,null,null,null,null,null,null,null,null,null,null,null,0,{"$f":"IF(N3608=0,\"\",MAX(O$15:O3607)+1)","v":""},""]
[null,null,null,null,null,null,null,null,null,null,null,null,null,0,{"$f":"IF(N3609=0,\"\",MAX(O$15:O3608)+1)","v":""},""]
[null,null,null,null,null,null,null,null,null,null,null,null,null,0,{"$f":"IF(N3610=0,\"\",MAX(O$15:O3609)+1)","v":""},""]
[null,null,null,null,null,null,null,null,null,null,null,null,null,0,{"$f":"IF(N3611=0,\"\",MAX(O$15:O3610)+1)","v":""},""]
[null,null,null,null,null,null,null,null,null,null,null,null,null,0,{"$f":"IF(N3612=0,\"\",MAX(O$15:O3611)+1)","v":""},""]
[null,null,null,null,null,null,null,null,null,null,null,null,null,0,{"$f":"IF(N3613=0,\"\",MAX(O$15:O3612)+1)","v":""},""]
[null,null,null,null,null,null,null,null,null,null,null,null,null,0,{"$f":"IF(N3614=0,\"\",MAX(O$15:O3613)+1)","v":""},""]
[null,null,null,null,null,null,null,null,null,null,null,null,null,0,{"$f":"IF(N3615=0,\"\",MAX(O$15:O3614)+1)","v":""},""]
[null,null,null,null,null,null,null,null,null,null,null,null,null,0,{"$f":"IF(N3616=0,\"\",MAX(O$15:O3615)+1)","v":""},""]
[null,null,null,null,null,null,null,null,null,null,null,null,null,0,{"$f":"IF(N3617=0,\"\",MAX(O$15:O3616)+1)","v":""},""]
[null,null,null,null,null,null,null,null,null,null,null,null,null,0,{"$f":"IF(N3618=0,\"\",MAX(O$15:O3617)+1)","v":""},""]
[null,null,null,null,null,null,null,null,null,null,null,null,null,0,{"$f":"IF(N3619=0,\"\",MAX(O$15:O3618)+1)","v":""},""]
[null,null,null,null,null,null,null,null,null,null,null,null,null,0,{"$f":"IF(N3620=0,\"\",MAX(O$15:O3619)+1)","v":""},""]
[null,null,null,null,null,null,null,null,null,null,null,null,null,0,{"$f":"IF(N3621=0,\"\",MAX(O$15:O3620)+1)","v":""},""]
[null,null,null,null,null,null,null,null,null,null,null,null,null,0,{"$f":"IF(N3622=0,\"\",MAX(O$15:O3621)+1)","v":""},""]
[null,null,null,null,null,null,null,null,null,null,null,null,null,0,{"$f":"IF(N3623=0,\"\",MAX(O$15:O3622)+1)","v":""},""]
[null,null,null,null,null,null,null,null,null,null,null,null,null,0,{"$f":"IF(N3624=0,\"\",MAX(O$15:O3623)+1)","v":""},""]
[null,null,null,null,null,null,null,null,null,null,null,null,null,0,{"$f":"IF(N3625=0,\"\",MAX(O$15:O3624)+1)","v":""},""]
[null,null,null,null,null,null,null,null,null,null,null,null,null,0,{"$f":"IF(N3626=0,\"\",MAX(O$15:O3625)+1)","v":""},""]
[null,null,null,null,null,null,null,null,null,null,null,null,null,0,{"$f":"IF(N3627=0,\"\",MAX(O$15:O3626)+1)","v":""},""]
[null,null,null,null,null,null,null,null,null,null,null,null,null,0,{"$f":"IF(N3628=0,\"\",MAX(O$15:O3627)+1)","v":""},""]
[null,null,null,null,null,null,null,null,null,null,null,null,null,0,{"$f":"IF(N3629=0,\"\",MAX(O$15:O3628)+1)","v":""},""]
[null,null,null,null,null,null,null,null,null,null,null,null,null,0,{"$f":"IF(N3630=0,\"\",MAX(O$15:O3629)+1)","v":""},""]
[null,null,null,null,null,null,null,null,null,null,null,null,null,0,{"$f":"IF(N3631=0,\"\",MAX(O$15:O3630)+1)","v":""},""]
[null,null,null,null,null,null,null,null,null,null,null,null,null,0,{"$f":"IF(N3632=0,\"\",MAX(O$15:O3631)+1)","v":""},""]
[null,null,null,null,null,null,null,null,null,null,null,null,null,0,{"$f":"IF(N3633=0,\"\",MAX(O$15:O3632)+1)","v":""},""]
[null,null,null,null,null,null,null,null,null,null,null,null,null,0,{"$f":"IF(N3634=0,\"\",MAX(O$15:O3633)+1)","v":""},""]
[null,null,null,null,null,null,null,null,null,null,null,null,null,0,{"$f":"IF(N3635=0,\"\",MAX(O$15:O3634)+1)","v":""},""]
[null,null,null,null,null,null,null,null,null,null,null,null,null,0,{"$f":"IF(N3636=0,\"\",MAX(O$15:O3635)+1)","v":""},""]
[null,null,null,null,null,null,null,null,null,null,null,null,null,0,{"$f":"IF(N3637=0,\"\",MAX(O$15:O3636)+1)","v":""},""]
[null,null,null,null,null,null,null,null,null,null,null,null,null,0,{"$f":"IF(N3638=0,\"\",MAX(O$15:O3637)+1)","v":""},""]
[null,null,null,null,null,null,null,null,null,null,null,null,null,0,{"$f":"IF(N3639=0,\"\",MAX(O$15:O3638)+1)","v":""},""]
[null,null,null,null,null,null,null,null,null,null,null,null,null,0,{"$f":"IF(N3640=0,\"\",MAX(O$15:O3639)+1)","v":""},""]
[null,null,null,null,null,null,null,null,null,null,null,null,null,0,{"$f":"IF(N3641=0,\"\",MAX(O$15:O3640)+1)","v":""},""]
[null,null,null,null,null,null,null,null,null,null,null,null,null,{"$f":"IFERROR(M3642*L3642/1000,\"\")","v":0},{"$f":"IF(N3642=0,\"\",MAX(O$15:O3641)+1)","v":""},""]
[null,null,null,null,null,null,null,null,null,null,null,null,null,0,{"$f":"IF(N3643=0,\"\",MAX(O$15:O3642)+1)","v":""},""]
[null,null,null,null,null,null,null,null,null,null,null,null,null,0,{"$f":"IF(N3644=0,\"\",MAX(O$15:O3643)+1)","v":""},""]
[null,null,null,null,null,null,null,null,null,null,null,null,null,0,{"$f":"IF(N3645=0,\"\",MAX(O$15:O3644)+1)","v":""},""]
[null,null,null,null,null,null,null,null,null,null,null,null,null,0,{"$f":"IF(N3646=0,\"\",MAX(O$15:O3645)+1)","v":""},""]
[null,null,null,null,null,null,null,null,null,null,null,null,null,0,{"$f":"IF(N3647=0,\"\",MAX(O$15:O3646)+1)","v":""},""]
[null,null,null,null,null,null,null,null,null,null,null,null,null,0,{"$f":"IF(N3648=0,\"\",MAX(O$15:O3647)+1)","v":""},""]
[null,null,null,null,null,null,null,null,null,null,null,null,null,0,{"$f":"IF(N3649=0,\"\",MAX(O$15:O3648)+1)","v":""},""]
[null,null,null,null,null,null,null,null,null,null,null,null,null,0,{"$f":"IF(N3650=0,\"\",MAX(O$15:O3649)+1)","v":""},""]
[null,null,null,null,null,null,null,null,null,null,null,null,null,0,{"$f":"IF(N3651=0,\"\",MAX(O$15:O3650)+1)","v":""},""]
[null,null,null,null,null,null,null,null,null,null,null,null,null,0,{"$f":"IF(N3652=0,\"\",MAX(O$15:O3651)+1)","v":""},""]
[null,null,null,null,null,null,null,null,null,null,null,null,null,0,{"$f":"IF(N3653=0,\"\",MAX(O$15:O3652)+1)","v":""},""]
[null,null,null,null,null,null,null,null,null,null,null,null,null,0,{"$f":"IF(N3654=0,\"\",MAX(O$15:O3653)+1)","v":""},""]
[null,null,null,null,null,null,null,null,null,null,null,null,null,0,{"$f":"IF(N3655=0,\"\",MAX(O$15:O3654)+1)","v":""},""]
[null,null,null,null,null,null,null,null,null,null,null,null,null,0,{"$f":"IF(N3656=0,\"\",MAX(O$15:O3655)+1)","v":""},""]
[null,null,null,null,null,null,null,null,null,null,null,null,null,0,{"$f":"IF(N3657=0,\"\",MAX(O$15:O3656)+1)","v":""},""]
[null,null,null,null,null,null,null,null,null,null,null,null,null,0,{"$f":"IF(N3658=0,\"\",MAX(O$15:O3657)+1)","v":""},""]
[null,null,null,null,null,null,null,null,null,null,null,null,null,0,{"$f":"IF(N3659=0,\"\",MAX(O$15:O3658)+1)","v":""},""]
[null,null,null,null,null,null,null,null,null,null,null,null,null,0,{"$f":"IF(N3660=0,\"\",MAX(O$15:O3659)+1)","v":""},""]
[null,null,null,null,null,null,null,null,null,null,null,null,null,0,{"$f":"IF(N3661=0,\"\",MAX(O$15:O3660)+1)","v":""},""]
[null,null,null,null,null,null,null,null,null,null,null,null,null,0,{"$f":"IF(N3662=0,\"\",MAX(O$15:O3661)+1)","v":""},""]
[null,null,null,null,null,null,null,null,null,null,null,null,null,0,{"$f":"IF(N3663=0,\"\",MAX(O$15:O3662)+1)","v":""},""]
[null,null,null,null,null,null,null,null,null,null,null,null,null,0,{"$f":"IF(N3664=0,\"\",MAX(O$15:O3663)+1)","v":""},{"$f":"IFERROR(INDEX($N$15:$N$5014,MATCH(ROW()-ROW($O$14),$O$15:$O$5014,0)),\"\")","v":""}]
[null,null,null,null,null,null,null,null,null,null,null,null,null,0,{"$f":"IF(N3665=0,\"\",MAX(O$15:O3664)+1)","v":""},""]
[null,null,null,null,null,null,null,null,null,null,null,null,null,0,{"$f":"IF(N3666=0,\"\",MAX(O$15:O3665)+1)","v":""},""]
[null,null,null,null,null,null,null,null,null,null,null,null,null,0,{"$f":"IF(N3667=0,\"\",MAX(O$15:O3666)+1)","v":""},""]
[null,null,null,null,null,null,null,null,null,null,null,null,null,0,{"$f":"IF(N3668=0,\"\",MAX(O$15:O3667)+1)","v":""},""]
[null,null,null,null,null,null,null,null,null,null,null,null,null,0,{"$f":"IF(N3669=0,\"\",MAX(O$15:O3668)+1)","v":""},""]
[null,null,null,null,null,null,null,null,null,null,null,null,null,0,{"$f":"IF(N3670=0,\"\",MAX(O$15:O3669)+1)","v":""},""]
[null,null,null,null,null,null,null,null,null,null,null,null,null,0,{"$f":"IF(N3671=0,\"\",MAX(O$15:O3670)+1)","v":""},""]
[null,null,null,null,null,null,null,null,null,null,null,null,null,0,{"$f":"IF(N3672=0,\"\",MAX(O$15:O3671)+1)","v":""},""]
[null,null,null,null,null,null,null,null,null,null,null,null,null,0,{"$f":"IF(N3673=0,\"\",MAX(O$15:O3672)+1)","v":""},""]
[null,null,null,null,null,null,null,null,null,null,null,null,null,0,{"$f":"IF(N3674=0,\"\",MAX(O$15:O3673)+1)","v":""},""]
[null,null,null,null,null,null,null,null,null,null,null,null,null,0,{"$f":"IF(N3675=0,\"\",MAX(O$15:O3674)+1)","v":""},""]
[null,null,null,null,null,null,null,null,null,null,null,null,null,0,{"$f":"IF(N3676=0,\"\",MAX(O$15:O3675)+1)","v":""},""]
[null,null,null,null,null,null,null,null,null,null,null,null,null,0,{"$f":"IF(N3677=0,\"\",MAX(O$15:O3676)+1)","v":""},""]
[null,null,null,null,null,null,null,null,null,null,null,null,null,0,{"$f":"IF(N3678=0,\"\",MAX(O$15:O3677)+1)","v":""},""]
[null,null,null,null,null,null,null,null,null,null,null,null,null,0,{"$f":"IF(N3679=0,\"\",MAX(O$15:O3678)+1)","v":""},""]
[null,null,null,null,null,null,null,null,null,null,null,null,null,0,{"$f":"IF(N3680=0,\"\",MAX(O$15:O3679)+1)","v":""},""]
[null,null,null,null,null,null,null,null,null,null,null,null,null,0,{"$f":"IF(N3681=0,\"\",MAX(O$15:O3680)+1)","v":""},""]
[null,null,null,null,null,null,null,null,null,null,null,null,null,0,{"$f":"IF(N3682=0,\"\",MAX(O$15:O3681)+1)","v":""},""]
[null,null,null,null,null,null,null,null,null,null,null,null,null,0,{"$f":"IF(N3683=0,\"\",MAX(O$15:O3682)+1)","v":""},""]
[null,null,null,null,null,null,null,null,null,null,null,null,null,0,{"$f":"IF(N3684=0,\"\",MAX(O$15:O3683)+1)","v":""},""]
[null,null,null,null,null,null,null,null,null,null,null,null,null,0,{"$f":"IF(N3685=0,\"\",MAX(O$15:O3684)+1)","v":""},""]
[null,null,null,null,null,null,null,null,null,null,null,null,null,0,{"$f":"IF(N3686=0,\"\",MAX(O$15:O3685)+1)","v":""},""]
[null,null,null,null,null,null,null,null,null,null,null,null,null,0,{"$f":"IF(N3687=0,\"\",MAX(O$15:O3686)+1)","v":""},""]
[null,null,null,null,null,null,null,null,null,null,null,null,null,0,{"$f":"IF(N3688=0,\"\",MAX(O$15:O3687)+1)","v":""},""]
[null,null,null,null,null,null,null,null,null,null,null,null,null,0,{"$f":"IF(N3689=0,\"\",MAX(O$15:O3688)+1)","v":""},""]
[null,null,null,null,null,null,null,null,null,null,null,null,null,0,{"$f":"IF(N3690=0,\"\",MAX(O$15:O3689)+1)","v":""},""]
[null,null,null,null,null,null,null,null,null,null,null,null,null,0,{"$f":"IF(N3691=0,\"\",MAX(O$15:O3690)+1)","v":""},""]
[null,null,null,null,null,null,null,null,null,null,null,null,null,0,{"$f":"IF(N3692=0,\"\",MAX(O$15:O3691)+1)","v":""},""]
[null,null,null,null,null,null,null,null,null,null,null,null,null,0,{"$f":"IF(N3693=0,\"\",MAX(O$15:O3692)+1)","v":""},""]
[null,null,null,null,null,null,null,null,null,null,null,null,null,0,{"$f":"IF(N3694=0,\"\",MAX(O$15:O3693)+1)","v":""},""]
[null,null,null,null,null,null,null,null,null,null,null,null,null,0,{"$f":"IF(N3695=0,\"\",MAX(O$15:O3694)+1)","v":""},""]
[null,null,null,null,null,null,null,null,null,null,null,null,null,0,{"$f":"IF(N3696=0,\"\",MAX(O$15:O3695)+1)","v":""},""]
[null,null,null,null,null,null,null,null,null,null,null,null,null,0,{"$f":"IF(N3697=0,\"\",MAX(O$15:O3696)+1)","v":""},""]
[null,null,null,null,null,null,null,null,null,null,null,null,null,0,{"$f":"IF(N3698=0,\"\",MAX(O$15:O3697)+1)","v":""},""]
[null,null,null,null,null,null,null,null,null,null,null,null,null,0,{"$f":"IF(N3699=0,\"\",MAX(O$15:O3698)+1)","v":""},""]
[null,null,null,null,null,null,null,null,null,null,null,null,null,0,{"$f":"IF(N3700=0,\"\",MAX(O$15:O3699)+1)","v":""},""]
[null,null,null,null,null,null,null,null,null,null,null,null,null,0,{"$f":"IF(N3701=0,\"\",MAX(O$15:O3700)+1)","v":""},""]
[null,null,null,null,null,null,null,null,null,null,null,null,null,0,{"$f":"IF(N3702=0,\"\",MAX(O$15:O3701)+1)","v":""},""]
[null,null,null,null,null,null,null,null,null,null,null,null,null,0,{"$f":"IF(N3703=0,\"\",MAX(O$15:O3702)+1)","v":""},""]
[null,null,null,null,null,null,null,null,null,null,null,null,null,0,{"$f":"IF(N3704=0,\"\",MAX(O$15:O3703)+1)","v":""},""]
[null,null,null,null,null,null,null,null,null,null,null,null,null,0,{"$f":"IF(N3705=0,\"\",MAX(O$15:O3704)+1)","v":""},""]
[null,null,null,null,null,null,null,null,null,null,null,null,null,{"$f":"IFERROR(M3706*L3706/1000,\"\")","v":0},{"$f":"IF(N3706=0,\"\",MAX(O$15:O3705)+1)","v":""},""]
[null,null,null,null,null,null,null,null,null,null,null,null,null,0,{"$f":"IF(N3707=0,\"\",MAX(O$15:O3706)+1)","v":""},""]
[null,null,null,null,null,null,null,null,null,null,null,null,null,0,{"$f":"IF(N3708=0,\"\",MAX(O$15:O3707)+1)","v":""},""]
[null,null,null,null,null,null,null,null,null,null,null,null,null,0,{"$f":"IF(N3709=0,\"\",MAX(O$15:O3708)+1)","v":""},""]
[null,null,null,null,null,null,null,null,null,null,null,null,null,0,{"$f":"IF(N3710=0,\"\",MAX(O$15:O3709)+1)","v":""},""]
[null,null,null,null,null,null,null,null,null,null,null,null,null,0,{"$f":"IF(N3711=0,\"\",MAX(O$15:O3710)+1)","v":""},""]
[null,null,null,null,null,null,null,null,null,null,null,null,null,0,{"$f":"IF(N3712=0,\"\",MAX(O$15:O3711)+1)","v":""},""]
[null,null,null,null,null,null,null,null,null,null,null,null,null,0,{"$f":"IF(N3713=0,\"\",MAX(O$15:O3712)+1)","v":""},""]
[null,null,null,null,null,null,null,null,null,null,null,null,null,0,{"$f":"IF(N3714=0,\"\",MAX(O$15:O3713)+1)","v":""},""]
[null,null,null,null,null,null,null,null,null,null,null,null,null,0,{"$f":"IF(N3715=0,\"\",MAX(O$15:O3714)+1)","v":""},""]
[null,null,null,null,null,null,null,null,null,null,null,null,null,0,{"$f":"IF(N3716=0,\"\",MAX(O$15:O3715)+1)","v":""},""]
[null,null,null,null,null,null,null,null,null,null,null,null,null,0,{"$f":"IF(N3717=0,\"\",MAX(O$15:O3716)+1)","v":""},""]
[null,null,null,null,null,null,null,null,null,null,null,null,null,0,{"$f":"IF(N3718=0,\"\",MAX(O$15:O3717)+1)","v":""},""]
[null,null,null,null,null,null,null,null,null,null,null,null,null,0,{"$f":"IF(N3719=0,\"\",MAX(O$15:O3718)+1)","v":""},""]
[null,null,null,null,null,null,null,null,null,null,null,null,null,0,{"$f":"IF(N3720=0,\"\",MAX(O$15:O3719)+1)","v":""},""]
[null,null,null,null,null,null,null,null,null,null,null,null,null,0,{"$f":"IF(N3721=0,\"\",MAX(O$15:O3720)+1)","v":""},""]
[null,null,null,null,null,null,null,null,null,null,null,null,null,0,{"$f":"IF(N3722=0,\"\",MAX(O$15:O3721)+1)","v":""},""]
[null,null,null,null,null,null,null,null,null,null,null,null,null,0,{"$f":"IF(N3723=0,\"\",MAX(O$15:O3722)+1)","v":""},""]
[null,null,null,null,null,null,null,null,null,null,null,null,null,0,{"$f":"IF(N3724=0,\"\",MAX(O$15:O3723)+1)","v":""},""]
[null,null,null,null,null,null,null,null,null,null,null,null,null,0,{"$f":"IF(N3725=0,\"\",MAX(O$15:O3724)+1)","v":""},""]
[null,null,null,null,null,null,null,null,null,null,null,null,null,0,{"$f":"IF(N3726=0,\"\",MAX(O$15:O3725)+1)","v":""},""]
[null,null,null,null,null,null,null,null,null,null,null,null,null,0,{"$f":"IF(N3727=0,\"\",MAX(O$15:O3726)+1)","v":""},""]
[null,null,null,null,null,null,null,null,null,null,null,null,null,0,{"$f":"IF(N3728=0,\"\",MAX(O$15:O3727)+1)","v":""},{"$f":"IFERROR(INDEX($N$15:$N$5014,MATCH(ROW()-ROW($O$14),$O$15:$O$5014,0)),\"\")","v":""}]
[null,null,null,null,null,null,null,null,null,null,null,null,null,0,{"$f":"IF(N3729=0,\"\",MAX(O$15:O3728)+1)","v":""},""]
[null,null,null,null,null,null,null,null,null,null,null,null,null,0,{"$f":"IF(N3730=0,\"\",MAX(O$15:O3729)+1)","v":""},""]
[null,null,null,null,null,null,null,null,null,null,null,null,null,0,{"$f":"IF(N3731=0,\"\",MAX(O$15:O3730)+1)","v":""},""]
[null,null,null,null,null,null,null,null,null,null,null,null,null,0,{"$f":"IF(N3732=0,\"\",MAX(O$15:O3731)+1)","v":""},""]
[null,null,null,null,null,null,null,null,null,null,null,null,null,0,{"$f":"IF(N3733=0,\"\",MAX(O$15:O3732)+1)","v":""},""]
[null,null,null,null,null,null,null,null,null,null,null,null,null,0,{"$f":"IF(N3734=0,\"\",MAX(O$15:O3733)+1)","v":""},""]
[null,null,null,null,null,null,null,null,null,null,null,null,null,0,{"$f":"IF(N3735=0,\"\",MAX(O$15:O3734)+1)","v":""},""]
[null,null,null,null,null,null,null,null,null,null,null,null,null,0,{"$f":"IF(N3736=0,\"\",MAX(O$15:O3735)+1)","v":""},""]
[null,null,null,null,null,null,null,null,null,null,null,null,null,0,{"$f":"IF(N3737=0,\"\",MAX(O$15:O3736)+1)","v":""},""]
[null,null,null,null,null,null,null,null,null,null,null,null,null,0,{"$f":"IF(N3738=0,\"\",MAX(O$15:O3737)+1)","v":""},""]
[null,null,null,null,null,null,null,null,null,null,null,null,null,0,{"$f":"IF(N3739=0,\"\",MAX(O$15:O3738)+1)","v":""},""]
[null,null,null,null,null,null,null,null,null,null,null,null,null,0,{"$f":"IF(N3740=0,\"\",MAX(O$15:O3739)+1)","v":""},""]
[null,null,null,null,null,null,null,null,null,null,null,null,null,0,{"$f":"IF(N3741=0,\"\",MAX(O$15:O3740)+1)","v":""},""]
[null,null,null,null,null,null,null,null,null,null,null,null,null,0,{"$f":"IF(N3742=0,\"\",MAX(O$15:O3741)+1)","v":""},""]
[null,null,null,null,null,null,null,null,null,null,null,null,null,0,{"$f":"IF(N3743=0,\"\",MAX(O$15:O3742)+1)","v":""},""]
[null,null,null,null,null,null,null,null,null,null,null,null,null,0,{"$f":"IF(N3744=0,\"\",MAX(O$15:O3743)+1)","v":""},""]
[null,null,null,null,null,null,null,null,null,null,null,null,null,0,{"$f":"IF(N3745=0,\"\",MAX(O$15:O3744)+1)","v":""},""]
[null,null,null,null,null,null,null,null,null,null,null,null,null,0,{"$f":"IF(N3746=0,\"\",MAX(O$15:O3745)+1)","v":""},""]
[null,null,null,null,null,null,null,null,null,null,null,null,null,0,{"$f":"IF(N3747=0,\"\",MAX(O$15:O3746)+1)","v":""},""]
[null,null,null,null,null,null,null,null,null,null,null,null,null,0,{"$f":"IF(N3748=0,\"\",MAX(O$15:O3747)+1)","v":""},""]
[null,null,null,null,null,null,null,null,null,null,null,null,null,0,{"$f":"IF(N3749=0,\"\",MAX(O$15:O3748)+1)","v":""},""]
[null,null,null,null,null,null,null,null,null,null,null,null,null,0,{"$f":"IF(N3750=0,\"\",MAX(O$15:O3749)+1)","v":""},""]
[null,null,null,null,null,null,null,null,null,null,null,null,null,0,{"$f":"IF(N3751=0,\"\",MAX(O$15:O3750)+1)","v":""},""]
[null,null,null,null,null,null,null,null,null,null,null,null,null,0,{"$f":"IF(N3752=0,\"\",MAX(O$15:O3751)+1)","v":""},""]
[null,null,null,null,null,null,null,null,null,null,null,null,null,0,{"$f":"IF(N3753=0,\"\",MAX(O$15:O3752)+1)","v":""},""]
[null,null,null,null,null,null,null,null,null,null,null,null,null,0,{"$f":"IF(N3754=0,\"\",MAX(O$15:O3753)+1)","v":""},""]
[null,null,null,null,null,null,null,null,null,null,null,null,null,0,{"$f":"IF(N3755=0,\"\",MAX(O$15:O3754)+1)","v":""},""]
[null,null,null,null,null,null,null,null,null,null,null,null,null,0,{"$f":"IF(N3756=0,\"\",MAX(O$15:O3755)+1)","v":""},""]
[null,null,null,null,null,null,null,null,null,null,null,null,null,0,{"$f":"IF(N3757=0,\"\",MAX(O$15:O3756)+1)","v":""},""]
[null,null,null,null,null,null,null,null,null,null,null,null,null,0,{"$f":"IF(N3758=0,\"\",MAX(O$15:O3757)+1)","v":""},""]
[null,null,null,null,null,null,null,null,null,null,null,null,null,0,{"$f":"IF(N3759=0,\"\",MAX(O$15:O3758)+1)","v":""},""]
[null,null,null,null,null,null,null,null,null,null,null,null,null,0,{"$f":"IF(N3760=0,\"\",MAX(O$15:O3759)+1)","v":""},""]
[null,null,null,null,null,null,null,null,null,null,null,null,null,0,{"$f":"IF(N3761=0,\"\",MAX(O$15:O3760)+1)","v":""},""]
[null,null,null,null,null,null,null,null,null,null,null,null,null,0,{"$f":"IF(N3762=0,\"\",MAX(O$15:O3761)+1)","v":""},""]
[null,null,null,null,null,null,null,null,null,null,null,null,null,0,{"$f":"IF(N3763=0,\"\",MAX(O$15:O3762)+1)","v":""},""]
[null,null,null,null,null,null,null,null,null,null,null,null,null,0,{"$f":"IF(N3764=0,\"\",MAX(O$15:O3763)+1)","v":""},""]
[null,null,null,null,null,null,null,null,null,null,null,null,null,0,{"$f":"IF(N3765=0,\"\",MAX(O$15:O3764)+1)","v":""},""]
[null,null,null,null,null,null,null,null,null,null,null,null,null,0,{"$f":"IF(N3766=0,\"\",MAX(O$15:O3765)+1)","v":""},""]
[null,null,null,null,null,null,null,null,null,null,null,null,null,0,{"$f":"IF(N3767=0,\"\",MAX(O$15:O3766)+1)","v":""},""]
[null,null,null,null,null,null,null,null,null,null,null,null,null,0,{"$f":"IF(N3768=0,\"\",MAX(O$15:O3767)+1)","v":""},""]
[null,null,null,null,null,null,null,null,null,null,null,null,null,0,{"$f":"IF(N3769=0,\"\",MAX(O$15:O3768)+1)","v":""},""]
[null,null,null,null,null,null,null,null,null,null,null,null,null,{"$f":"IFERROR(M3770*L3770/1000,\"\")","v":0},{"$f":"IF(N3770=0,\"\",MAX(O$15:O3769)+1)","v":""},""]
[null,null,null,null,null,null,null,null,null,null,null,null,null,0,{"$f":"IF(N3771=0,\"\",MAX(O$15:O3770)+1)","v":""},""]
[null,null,null,null,null,null,null,null,null,null,null,null,null,0,{"$f":"IF(N3772=0,\"\",MAX(O$15:O3771)+1)","v":""},""]
[null,null,null,null,null,null,null,null,null,null,null,null,null,0,{"$f":"IF(N3773=0,\"\",MAX(O$15:O3772)+1)","v":""},""]
[null,null,null,null,null,null,null,null,null,null,null,null,null,0,{"$f":"IF(N3774=0,\"\",MAX(O$15:O3773)+1)","v":""},""]
[null,null,null,null,null,null,null,null,null,null,null,null,null,0,{"$f":"IF(N3775=0,\"\",MAX(O$15:O3774)+1)","v":""},""]
[null,null,null,null,null,null,null,null,null,null,null,null,null,0,{"$f":"IF(N3776=0,\"\",MAX(O$15:O3775)+1)","v":""},""]
[null,null,null,null,null,null,null,null,null,null,null,null,null,0,{"$f":"IF(N3777=0,\"\",MAX(O$15:O3776)+1)","v":""},""]
[null,null,null,null,null,null,null,null,null,null,null,null,null,0,{"$f":"IF(N3778=0,\"\",MAX(O$15:O3777)+1)","v":""},""]
[null,null,null,null,null,null,null,null,null,null,null,null,null,0,{"$f":"IF(N3779=0,\"\",MAX(O$15:O3778)+1)","v":""},""]
[null,null,null,null,null,null,null,null,null,null,null,null,null,0,{"$f":"IF(N3780=0,\"\",MAX(O$15:O3779)+1)","v":""},""]
[null,null,null,null,null,null,null,null,null,null,null,null,null,0,{"$f":"IF(N3781=0,\"\",MAX(O$15:O3780)+1)","v":""},""]
[null,null,null,null,null,null,null,null,null,null,null,null,null,0,{"$f":"IF(N3782=0,\"\",MAX(O$15:O3781)+1)","v":""},""]
[null,null,null,null,null,null,null,null,null,null,null,null,null,0,{"$f":"IF(N3783=0,\"\",MAX(O$15:O3782)+1)","v":""},""]
[null,null,null,null,null,null,null,null,null,null,null,null,null,0,{"$f":"IF(N3784=0,\"\",MAX(O$15:O3783)+1)","v":""},""]
[null,null,null,null,null,null,null,null,null,null,null,null,null,0,{"$f":"IF(N3785=0,\"\",MAX(O$15:O3784)+1)","v":""},""]
[null,null,null,null,null,null,null,null,null,null,null,null,null,0,{"$f":"IF(N3786=0,\"\",MAX(O$15:O3785)+1)","v":""},""]
[null,null,null,null,null,null,null,null,null,null,null,null,null,0,{"$f":"IF(N3787=0,\"\",MAX(O$15:O3786)+1)","v":""},""]
[null,null,null,null,null,null,null,null,null,null,null,null,null,0,{"$f":"IF(N3788=0,\"\",MAX(O$15:O3787)+1)","v":""},""]
[null,null,null,null,null,null,null,null,null,null,null,null,null,0,{"$f":"IF(N3789=0,\"\",MAX(O$15:O3788)+1)","v":""},""]
[null,null,null,null,null,null,null,null,null,null,null,null,null,0,{"$f":"IF(N3790=0,\"\",MAX(O$15:O3789)+1)","v":""},""]
[null,null,null,null,null,null,null,null,null,null,null,null,null,0,{"$f":"IF(N3791=0,\"\",MAX(O$15:O3790)+1)","v":""},""]
[null,null,null,null,null,null,null,null,null,null,null,null,null,0,{"$f":"IF(N3792=0,\"\",MAX(O$15:O3791)+1)","v":""},{"$f":"IFERROR(INDEX($N$15:$N$5014,MATCH(ROW()-ROW($O$14),$O$15:$O$5014,0)),\"\")","v":""}]
[null,null,null,null,null,null,null,null,null,null,null,null,null,0,{"$f":"IF(N3793=0,\"\",MAX(O$15:O3792)+1)","v":""},""]
[null,null,null,null,null,null,null,null,null,null,null,null,null,0,{"$f":"IF(N3794=0,\"\",MAX(O$15:O3793)+1)","v":""},""]
[null,null,null,null,null,null,null,null,null,null,null,null,null,0,{"$f":"IF(N3795=0,\"\",MAX(O$15:O3794)+1)","v":""},""]
[null,null,null,null,null,null,null,null,null,null,null,null,null,0,{"$f":"IF(N3796=0,\"\",MAX(O$15:O3795)+1)","v":""},""]
[null,null,null,null,null,null,null,null,null,null,null,null,null,0,{"$f":"IF(N3797=0,\"\",MAX(O$15:O3796)+1)","v":""},""]
[null,null,null,null,null,null,null,null,null,null,null,null,null,0,{"$f":"IF(N3798=0,\"\",MAX(O$15:O3797)+1)","v":""},""]
[null,null,null,null,null,null,null,null,null,null,null,null,null,0,{"$f":"IF(N3799=0,\"\",MAX(O$15:O3798)+1)","v":""},""]
[null,null,null,null,null,null,null,null,null,null,null,null,null,0,{"$f":"IF(N3800=0,\"\",MAX(O$15:O3799)+1)","v":""},""]
[null,null,null,null,null,null,null,null,null,null,null,null,null,0,{"$f":"IF(N3801=0,\"\",MAX(O$15:O3800)+1)","v":""},""]
[null,null,null,null,null,null,null,null,null,null,null,null,null,0,{"$f":"IF(N3802=0,\"\",MAX(O$15:O3801)+1)","v":""},""]
[null,null,null,null,null,null,null,null,null,null,null,null,null,0,{"$f":"IF(N3803=0,\"\",MAX(O$15:O3802)+1)","v":""},""]
[null,null,null,null,null,null,null,null,null,null,null,null,null,0,{"$f":"IF(N3804=0,\"\",MAX(O$15:O3803)+1)","v":""},""]
[null,null,null,null,null,null,null,null,null,null,null,null,null,0,{"$f":"IF(N3805=0,\"\",MAX(O$15:O3804)+1)","v":""},""]
[null,null,null,null,null,null,null,null,null,null,null,null,null,0,{"$f":"IF(N3806=0,\"\",MAX(O$15:O3805)+1)","v":""},""]
[null,null,null,null,null,null,null,null,null,null,null,null,null,0,{"$f":"IF(N3807=0,\"\",MAX(O$15:O3806)+1)","v":""},""]
[null,null,null,null,null,null,null,null,null,null,null,null,null,0,{"$f":"IF(N3808=0,\"\",MAX(O$15:O3807)+1)","v":""},""]
[null,null,null,null,null,null,null,null,null,null,null,null,null,0,{"$f":"IF(N3809=0,\"\",MAX(O$15:O3808)+1)","v":""},""]
[null,null,null,null,null,null,null,null,null,null,null,null,null,0,{"$f":"IF(N3810=0,\"\",MAX(O$15:O3809)+1)","v":""},""]
[null,null,null,null,null,null,null,null,null,null,null,null,null,0,{"$f":"IF(N3811=0,\"\",MAX(O$15:O3810)+1)","v":""},""]
[null,null,null,null,null,null,null,null,null,null,null,null,null,0,{"$f":"IF(N3812=0,\"\",MAX(O$15:O3811)+1)","v":""},""]
[null,null,null,null,null,null,null,null,null,null,null,null,null,0,{"$f":"IF(N3813=0,\"\",MAX(O$15:O3812)+1)","v":""},""]
[null,null,null,null,null,null,null,null,null,null,null,null,null,0,{"$f":"IF(N3814=0,\"\",MAX(O$15:O3813)+1)","v":""},""]
[null,null,null,null,null,null,null,null,null,null,null,null,null,0,{"$f":"IF(N3815=0,\"\",MAX(O$15:O3814)+1)","v":""},""]
[null,null,null,null,null,null,null,null,null,null,null,null,null,0,{"$f":"IF(N3816=0,\"\",MAX(O$15:O3815)+1)","v":""},""]
[null,null,null,null,null,null,null,null,null,null,null,null,null,0,{"$f":"IF(N3817=0,\"\",MAX(O$15:O3816)+1)","v":""},""]
[null,null,null,null,null,null,null,null,null,null,null,null,null,0,{"$f":"IF(N3818=0,\"\",MAX(O$15:O3817)+1)","v":""},""]
[null,null,null,null,null,null,null,null,null,null,null,null,null,0,{"$f":"IF(N3819=0,\"\",MAX(O$15:O3818)+1)","v":""},""]
[null,null,null,null,null,null,null,null,null,null,null,null,null,0,{"$f":"IF(N3820=0,\"\",MAX(O$15:O3819)+1)","v":""},""]
[null,null,null,null,null,null,null,null,null,null,null,null,null,0,{"$f":"IF(N3821=0,\"\",MAX(O$15:O3820)+1)","v":""},""]
[null,null,null,null,null,null,null,null,null,null,null,null,null,0,{"$f":"IF(N3822=0,\"\",MAX(O$15:O3821)+1)","v":""},""]
[null,null,null,null,null,null,null,null,null,null,null,null,null,0,{"$f":"IF(N3823=0,\"\",MAX(O$15:O3822)+1)","v":""},""]
[null,null,null,null,null,null,null,null,null,null,null,null,null,0,{"$f":"IF(N3824=0,\"\",MAX(O$15:O3823)+1)","v":""},""]
[null,null,null,null,null,null,null,null,null,null,null,null,null,0,{"$f":"IF(N3825=0,\"\",MAX(O$15:O3824)+1)","v":""},""]
[null,null,null,null,null,null,null,null,null,null,null,null,null,0,{"$f":"IF(N3826=0,\"\",MAX(O$15:O3825)+1)","v":""},""]
[null,null,null,null,null,null,null,null,null,null,null,null,null,0,{"$f":"IF(N3827=0,\"\",MAX(O$15:O3826)+1)","v":""},""]
[null,null,null,null,null,null,null,null,null,null,null,null,null,0,{"$f":"IF(N3828=0,\"\",MAX(O$15:O3827)+1)","v":""},""]
[null,null,null,null,null,null,null,null,null,null,null,null,null,0,{"$f":"IF(N3829=0,\"\",MAX(O$15:O3828)+1)","v":""},""]
[null,null,null,null,null,null,null,null,null,null,null,null,null,0,{"$f":"IF(N3830=0,\"\",MAX(O$15:O3829)+1)","v":""},""]
[null,null,null,null,null,null,null,null,null,null,null,null,null,0,{"$f":"IF(N3831=0,\"\",MAX(O$15:O3830)+1)","v":""},""]
[null,null,null,null,null,null,null,null,null,null,null,null,null,0,{"$f":"IF(N3832=0,\"\",MAX(O$15:O3831)+1)","v":""},""]
[null,null,null,null,null,null,null,null,null,null,null,null,null,0,{"$f":"IF(N3833=0,\"\",MAX(O$15:O3832)+1)","v":""},""]
[null,null,null,null,null,null,null,null,null,null,null,null,null,{"$f":"IFERROR(M3834*L3834/1000,\"\")","v":0},{"$f":"IF(N3834=0,\"\",MAX(O$15:O3833)+1)","v":""},""]
[null,null,null,null,null,null,null,null,null,null,null,null,null,0,{"$f":"IF(N3835=0,\"\",MAX(O$15:O3834)+1)","v":""},""]
[null,null,null,null,null,null,null,null,null,null,null,null,null,0,{"$f":"IF(N3836=0,\"\",MAX(O$15:O3835)+1)","v":""},""]
[null,null,null,null,null,null,null,null,null,null,null,null,null,0,{"$f":"IF(N3837=0,\"\",MAX(O$15:O3836)+1)","v":""},""]
[null,null,null,null,null,null,null,null,null,null,null,null,null,0,{"$f":"IF(N3838=0,\"\",MAX(O$15:O3837)+1)","v":""},""]
[null,null,null,null,null,null,null,null,null,null,null,null,null,0,{"$f":"IF(N3839=0,\"\",MAX(O$15:O3838)+1)","v":""},""]
[null,null,null,null,null,null,null,null,null,null,null,null,null,0,{"$f":"IF(N3840=0,\"\",MAX(O$15:O3839)+1)","v":""},""]
[null,null,null,null,null,null,null,null,null,null,null,null,null,0,{"$f":"IF(N3841=0,\"\",MAX(O$15:O3840)+1)","v":""},""]
[null,null,null,null,null,null,null,null,null,null,null,null,null,0,{"$f":"IF(N3842=0,\"\",MAX(O$15:O3841)+1)","v":""},""]
[null,null,null,null,null,null,null,null,null,null,null,null,null,0,{"$f":"IF(N3843=0,\"\",MAX(O$15:O3842)+1)","v":""},""]
[null,null,null,null,null,null,null,null,null,null,null,null,null,0,{"$f":"IF(N3844=0,\"\",MAX(O$15:O3843)+1)","v":""},""]
[null,null,null,null,null,null,null,null,null,null,null,null,null,0,{"$f":"IF(N3845=0,\"\",MAX(O$15:O3844)+1)","v":""},""]
[null,null,null,null,null,null,null,null,null,null,null,null,null,0,{"$f":"IF(N3846=0,\"\",MAX(O$15:O3845)+1)","v":""},""]
[null,null,null,null,null,null,null,null,null,null,null,null,null,0,{"$f":"IF(N3847=0,\"\",MAX(O$15:O3846)+1)","v":""},""]
[null,null,null,null,null,null,null,null,null,null,null,null,null,0,{"$f":"IF(N3848=0,\"\",MAX(O$15:O3847)+1)","v":""},""]
[null,null,null,null,null,null,null,null,null,null,null,null,null,0,{"$f":"IF(N3849=0,\"\",MAX(O$15:O3848)+1)","v":""},""]
[null,null,null,null,null,null,null,null,null,null,null,null,null,0,{"$f":"IF(N3850=0,\"\",MAX(O$15:O3849)+1)","v":""},""]
[null,null,null,null,null,null,null,null,null,null,null,null,null,0,{"$f":"IF(N3851=0,\"\",MAX(O$15:O3850)+1)","v":""},""]
[null,null,null,null,null,null,null,null,null,null,null,null,null,0,{"$f":"IF(N3852=0,\"\",MAX(O$15:O3851)+1)","v":""},""]
[null,null,null,null,null,null,null,null,null,null,null,null,null,0,{"$f":"IF(N3853=0,\"\",MAX(O$15:O3852)+1)","v":""},""]
[null,null,null,null,null,null,null,null,null,null,null,null,null,0,{"$f":"IF(N3854=0,\"\",MAX(O$15:O3853)+1)","v":""},""]
[null,null,null,null,null,null,null,null,null,null,null,null,null,0,{"$f":"IF(N3855=0,\"\",MAX(O$15:O3854)+1)","v":""},""]
[null,null,null,null,null,null,null,null,null,null,null,null,null,0,{"$f":"IF(N3856=0,\"\",MAX(O$15:O3855)+1)","v":""},{"$f":"IFERROR(INDEX($N$15:$N$5014,MATCH(ROW()-ROW($O$14),$O$15:$O$5014,0)),\"\")","v":""}]
[null,null,null,null,null,null,null,null,null,null,null,null,null,0,{"$f":"IF(N3857=0,\"\",MAX(O$15:O3856)+1)","v":""},""]
[null,null,null,null,null,null,null,null,null,null,null,null,null,0,{"$f":"IF(N3858=0,\"\",MAX(O$15:O3857)+1)","v":""},""]
[null,null,null,null,null,null,null,null,null,null,null,null,null,0,{"$f":"IF(N3859=0,\"\",MAX(O$15:O3858)+1)","v":""},""]
[null,null,null,null,null,null,null,null,null,null,null,null,null,0,{"$f":"IF(N3860=0,\"\",MAX(O$15:O3859)+1)","v":""},""]
[null,null,null,null,null,null,null,null,null,null,null,null,null,0,{"$f":"IF(N3861=0,\"\",MAX(O$15:O3860)+1)","v":""},""]
[null,null,null,null,null,null,null,null,null,null,null,null,null,0,{"$f":"IF(N3862=0,\"\",MAX(O$15:O3861)+1)","v":""},""]
[null,null,null,null,null,null,null,null,null,null,null,null,null,0,{"$f":"IF(N3863=0,\"\",MAX(O$15:O3862)+1)","v":""},""]
[null,null,null,null,null,null,null,null,null,null,null,null,null,0,{"$f":"IF(N3864=0,\"\",MAX(O$15:O3863)+1)","v":""},""]
[null,null,null,null,null,null,null,null,null,null,null,null,null,0,{"$f":"IF(N3865=0,\"\",MAX(O$15:O3864)+1)","v":""},""]
[null,null,null,null,null,null,null,null,null,null,null,null,null,0,{"$f":"IF(N3866=0,\"\",MAX(O$15:O3865)+1)","v":""},""]
[null,null,null,null,null,null,null,null,null,null,null,null,null,0,{"$f":"IF(N3867=0,\"\",MAX(O$15:O3866)+1)","v":""},""]
[null,null,null,null,null,null,null,null,null,null,null,null,null,0,{"$f":"IF(N3868=0,\"\",MAX(O$15:O3867)+1)","v":""},""]
[null,null,null,null,null,null,null,null,null,null,null,null,null,0,{"$f":"IF(N3869=0,\"\",MAX(O$15:O3868)+1)","v":""},""]
[null,null,null,null,null,null,null,null,null,null,null,null,null,0,{"$f":"IF(N3870=0,\"\",MAX(O$15:O3869)+1)","v":""},""]
[null,null,null,null,null,null,null,null,null,null,null,null,null,0,{"$f":"IF(N3871=0,\"\",MAX(O$15:O3870)+1)","v":""},""]
[null,null,null,null,null,null,null,null,null,null,null,null,null,0,{"$f":"IF(N3872=0,\"\",MAX(O$15:O3871)+1)","v":""},""]
[null,null,null,null,null,null,null,null,null,null,null,null,null,0,{"$f":"IF(N3873=0,\"\",MAX(O$15:O3872)+1)","v":""},""]
[null,null,null,null,null,null,null,null,null,null,null,null,null,0,{"$f":"IF(N3874=0,\"\",MAX(O$15:O3873)+1)","v":""},""]
[null,null,null,null,null,null,null,null,null,null,null,null,null,0,{"$f":"IF(N3875=0,\"\",MAX(O$15:O3874)+1)","v":""},""]
[null,null,null,null,null,null,null,null,null,null,null,null,null,0,{"$f":"IF(N3876=0,\"\",MAX(O$15:O3875)+1)","v":""},""]
[null,null,null,null,null,null,null,null,null,null,null,null,null,0,{"$f":"IF(N3877=0,\"\",MAX(O$15:O3876)+1)","v":""},""]
[null,null,null,null,null,null,null,null,null,null,null,null,null,0,{"$f":"IF(N3878=0,\"\",MAX(O$15:O3877)+1)","v":""},""]
[null,null,null,null,null,null,null,null,null,null,null,null,null,0,{"$f":"IF(N3879=0,\"\",MAX(O$15:O3878)+1)","v":""},""]
[null,null,null,null,null,null,null,null,null,null,null,null,null,0,{"$f":"IF(N3880=0,\"\",MAX(O$15:O3879)+1)","v":""},""]
[null,null,null,null,null,null,null,null,null,null,null,null,null,0,{"$f":"IF(N3881=0,\"\",MAX(O$15:O3880)+1)","v":""},""]
[null,null,null,null,null,null,null,null,null,null,null,null,null,0,{"$f":"IF(N3882=0,\"\",MAX(O$15:O3881)+1)","v":""},""]
[null,null,null,null,null,null,null,null,null,null,null,null,null,0,{"$f":"IF(N3883=0,\"\",MAX(O$15:O3882)+1)","v":""},""]
[null,null,null,null,null,null,null,null,null,null,null,null,null,0,{"$f":"IF(N3884=0,\"\",MAX(O$15:O3883)+1)","v":""},""]
[null,null,null,null,null,null,null,null,null,null,null,null,null,0,{"$f":"IF(N3885=0,\"\",MAX(O$15:O3884)+1)","v":""},""]
[null,null,null,null,null,null,null,null,null,null,null,null,null,0,{"$f":"IF(N3886=0,\"\",MAX(O$15:O3885)+1)","v":""},""]
[null,null,null,null,null,null,null,null,null,null,null,null,null,0,{"$f":"IF(N3887=0,\"\",MAX(O$15:O3886)+1)","v":""},""]
[null,null,null,null,null,null,null,null,null,null,null,null,null,0,{"$f":"IF(N3888=0,\"\",MAX(O$15:O3887)+1)","v":""},""]
[null,null,null,null,null,null,null,null,null,null,null,null,null,0,{"$f":"IF(N3889=0,\"\",MAX(O$15:O3888)+1)","v":""},""]
[null,null,null,null,null,null,null,null,null,null,null,null,null,0,{"$f":"IF(N3890=0,\"\",MAX(O$15:O3889)+1)","v":""},""]
[null,null,null,null,null,null,null,null,null,null,null,null,null,0,{"$f":"IF(N3891=0,\"\",MAX(O$15:O3890)+1)","v":""},""]
[null,null,null,null,null,null,null,null,null,null,null,null,null,0,{"$f":"IF(N3892=0,\"\",MAX(O$15:O3891)+1)","v":""},""]
[null,null,null,null,null,null,null,null,null,null,null,null,null,0,{"$f":"IF(N3893=0,\"\",MAX(O$15:O3892)+1)","v":""},""]
[null,null,null,null,null,null,null,null,null,null,null,null,null,0,{"$f":"IF(N3894=0,\"\",MAX(O$15:O3893)+1)","v":""},""]
[null,null,null,null,null,null,null,null,null,null,null,null,null,0,{"$f":"IF(N3895=0,\"\",MAX(O$15:O3894)+1)","v":""},""]
[null,null,null,null,null,null,null,null,null,null,null,null,null,0,{"$f":"IF(N3896=0,\"\",MAX(O$15:O3895)+1)","v":""},""]
[null,null,null,null,null,null,null,null,null,null,null,null,null,0,{"$f":"IF(N3897=0,\"\",MAX(O$15:O3896)+1)","v":""},""]
[null,null,null,null,null,null,null,null,null,null,null,null,null,{"$f":"IFERROR(M3898*L3898/1000,\"\")","v":0},{"$f":"IF(N3898=0,\"\",MAX(O$15:O3897)+1)","v":""},""]
[null,null,null,null,null,null,null,null,null,null,null,null,null,0,{"$f":"IF(N3899=0,\"\",MAX(O$15:O3898)+1)","v":""},""]
[null,null,null,null,null,null,null,null,null,null,null,null,null,0,{"$f":"IF(N3900=0,\"\",MAX(O$15:O3899)+1)","v":""},""]
[null,null,null,null,null,null,null,null,null,null,null,null,null,0,{"$f":"IF(N3901=0,\"\",MAX(O$15:O3900)+1)","v":""},""]
[null,null,null,null,null,null,null,null,null,null,null,null,null,0,{"$f":"IF(N3902=0,\"\",MAX(O$15:O3901)+1)","v":""},""]
[null,null,null,null,null,null,null,null,null,null,null,null,null,0,{"$f":"IF(N3903=0,\"\",MAX(O$15:O3902)+1)","v":""},""]
[null,null,null,null,null,null,null,null,null,null,null,null,null,0,{"$f":"IF(N3904=0,\"\",MAX(O$15:O3903)+1)","v":""},""]
[null,null,null,null,null,null,null,null,null,null,null,null,null,0,{"$f":"IF(N3905=0,\"\",MAX(O$15:O3904)+1)","v":""},""]
[null,null,null,null,null,null,null,null,null,null,null,null,null,0,{"$f":"IF(N3906=0,\"\",MAX(O$15:O3905)+1)","v":""},""]
[null,null,null,null,null,null,null,null,null,null,null,null,null,0,{"$f":"IF(N3907=0,\"\",MAX(O$15:O3906)+1)","v":""},""]
[null,null,null,null,null,null,null,null,null,null,null,null,null,0,{"$f":"IF(N3908=0,\"\",MAX(O$15:O3907)+1)","v":""},""]
[null,null,null,null,null,null,null,null,null,null,null,null,null,0,{"$f":"IF(N3909=0,\"\",MAX(O$15:O3908)+1)","v":""},""]
[null,null,null,null,null,null,null,null,null,null,null,null,null,0,{"$f":"IF(N3910=0,\"\",MAX(O$15:O3909)+1)","v":""},""]
[null,null,null,null,null,null,null,null,null,null,null,null,null,0,{"$f":"IF(N3911=0,\"\",MAX(O$15:O3910)+1)","v":""},""]
[null,null,null,null,null,null,null,null,null,null,null,null,null,0,{"$f":"IF(N3912=0,\"\",MAX(O$15:O3911)+1)","v":""},""]
[null,null,null,null,null,null,null,null,null,null,null,null,null,0,{"$f":"IF(N3913=0,\"\",MAX(O$15:O3912)+1)","v":""},""]
[null,null,null,null,null,null,null,null,null,null,null,null,null,0,{"$f":"IF(N3914=0,\"\",MAX(O$15:O3913)+1)","v":""},""]
[null,null,null,null,null,null,null,null,null,null,null,null,null,0,{"$f":"IF(N3915=0,\"\",MAX(O$15:O3914)+1)","v":""},""]
[null,null,null,null,null,null,null,null,null,null,null,null,null,0,{"$f":"IF(N3916=0,\"\",MAX(O$15:O3915)+1)","v":""},""]
[null,null,null,null,null,null,null,null,null,null,null,null,null,0,{"$f":"IF(N3917=0,\"\",MAX(O$15:O3916)+1)","v":""},""]
[null,null,null,null,null,null,null,null,null,null,null,null,null,0,{"$f":"IF(N3918=0,\"\",MAX(O$15:O3917)+1)","v":""},""]
[null,null,null,null,null,null,null,null,null,null,null,null,null,0,{"$f":"IF(N3919=0,\"\",MAX(O$15:O3918)+1)","v":""},""]
[null,null,null,null,null,null,null,null,null,null,null,null,null,0,{"$f":"IF(N3920=0,\"\",MAX(O$15:O3919)+1)","v":""},{"$f":"IFERROR(INDEX($N$15:$N$5014,MATCH(ROW()-ROW($O$14),$O$15:$O$5014,0)),\"\")","v":""}]
[null,null,null,null,null,null,null,null,null,null,null,null,null,0,{"$f":"IF(N3921=0,\"\",MAX(O$15:O3920)+1)","v":""},""]
[null,null,null,null,null,null,null,null,null,null,null,null,null,0,{"$f":"IF(N3922=0,\"\",MAX(O$15:O3921)+1)","v":""},""]
[null,null,null,null,null,null,null,null,null,null,null,null,null,0,{"$f":"IF(N3923=0,\"\",MAX(O$15:O3922)+1)","v":""},""]
[null,null,null,null,null,null,null,null,null,null,null,null,null,0,{"$f":"IF(N3924=0,\"\",MAX(O$15:O3923)+1)","v":""},""]
[null,null,null,null,null,null,null,null,null,null,null,null,null,0,{"$f":"IF(N3925=0,\"\",MAX(O$15:O3924)+1)","v":""},""]
[null,null,null,null,null,null,null,null,null,null,null,null,null,0,{"$f":"IF(N3926=0,\"\",MAX(O$15:O3925)+1)","v":""},""]
[null,null,null,null,null,null,null,null,null,null,null,null,null,0,{"$f":"IF(N3927=0,\"\",MAX(O$15:O3926)+1)","v":""},""]
[null,null,null,null,null,null,null,null,null,null,null,null,null,0,{"$f":"IF(N3928=0,\"\",MAX(O$15:O3927)+1)","v":""},""]
[null,null,null,null,null,null,null,null,null,null,null,null,null,0,{"$f":"IF(N3929=0,\"\",MAX(O$15:O3928)+1)","v":""},""]
[null,null,null,null,null,null,null,null,null,null,null,null,null,0,{"$f":"IF(N3930=0,\"\",MAX(O$15:O3929)+1)","v":""},""]
[null,null,null,null,null,null,null,null,null,null,null,null,null,0,{"$f":"IF(N3931=0,\"\",MAX(O$15:O3930)+1)","v":""},""]
[null,null,null,null,null,null,null,null,null,null,null,null,null,0,{"$f":"IF(N3932=0,\"\",MAX(O$15:O3931)+1)","v":""},""]
[null,null,null,null,null,null,null,null,null,null,null,null,null,0,{"$f":"IF(N3933=0,\"\",MAX(O$15:O3932)+1)","v":""},""]
[null,null,null,null,null,null,null,null,null,null,null,null,null,0,{"$f":"IF(N3934=0,\"\",MAX(O$15:O3933)+1)","v":""},""]
[null,null,null,null,null,null,null,null,null,null,null,null,null,0,{"$f":"IF(N3935=0,\"\",MAX(O$15:O3934)+1)","v":""},""]
[null,null,null,null,null,null,null,null,null,null,null,null,null,0,{"$f":"IF(N3936=0,\"\",MAX(O$15:O3935)+1)","v":""},""]
[null,null,null,null,null,null,null,null,null,null,null,null,null,0,{"$f":"IF(N3937=0,\"\",MAX(O$15:O3936)+1)","v":""},""]
[null,null,null,null,null,null,null,null,null,null,null,null,null,0,{"$f":"IF(N3938=0,\"\",MAX(O$15:O3937)+1)","v":""},""]
[null,null,null,null,null,null,null,null,null,null,null,null,null,0,{"$f":"IF(N3939=0,\"\",MAX(O$15:O3938)+1)","v":""},""]
[null,null,null,null,null,null,null,null,null,null,null,null,null,0,{"$f":"IF(N3940=0,\"\",MAX(O$15:O3939)+1)","v":""},""]
[null,null,null,null,null,null,null,null,null,null,null,null,null,0,{"$f":"IF(N3941=0,\"\",MAX(O$15:O3940)+1)","v":""},""]
[null,null,null,null,null,null,null,null,null,null,null,null,null,0,{"$f":"IF(N3942=0,\"\",MAX(O$15:O3941)+1)","v":""},""]
[null,null,null,null,null,null,null,null,null,null,null,null,null,0,{"$f":"IF(N3943=0,\"\",MAX(O$15:O3942)+1)","v":""},""]
[null,null,null,null,null,null,null,null,null,null,null,null,null,0,{"$f":"IF(N3944=0,\"\",MAX(O$15:O3943)+1)","v":""},""]
[null,null,null,null,null,null,null,null,null,null,null,null,null,0,{"$f":"IF(N3945=0,\"\",MAX(O$15:O3944)+1)","v":""},""]
[null,null,null,null,null,null,null,null,null,null,null,null,null,0,{"$f":"IF(N3946=0,\"\",MAX(O$15:O3945)+1)","v":""},""]
[null,null,null,null,null,null,null,null,null,null,null,null,null,0,{"$f":"IF(N3947=0,\"\",MAX(O$15:O3946)+1)","v":""},""]
[null,null,null,null,null,null,null,null,null,null,null,null,null,0,{"$f":"IF(N3948=0,\"\",MAX(O$15:O3947)+1)","v":""},""]
[null,null,null,null,null,null,null,null,null,null,null,null,null,0,{"$f":"IF(N3949=0,\"\",MAX(O$15:O3948)+1)","v":""},""]
[null,null,null,null,null,null,null,null,null,null,null,null,null,0,{"$f":"IF(N3950=0,\"\",MAX(O$15:O3949)+1)","v":""},""]
[null,null,null,null,null,null,null,null,null,null,null,null,null,0,{"$f":"IF(N3951=0,\"\",MAX(O$15:O3950)+1)","v":""},""]
[null,null,null,null,null,null,null,null,null,null,null,null,null,0,{"$f":"IF(N3952=0,\"\",MAX(O$15:O3951)+1)","v":""},""]
[null,null,null,null,null,null,null,null,null,null,null,null,null,0,{"$f":"IF(N3953=0,\"\",MAX(O$15:O3952)+1)","v":""},""]
[null,null,null,null,null,null,null,null,null,null,null,null,null,0,{"$f":"IF(N3954=0,\"\",MAX(O$15:O3953)+1)","v":""},""]
[null,null,null,null,null,null,null,null,null,null,null,null,null,0,{"$f":"IF(N3955=0,\"\",MAX(O$15:O3954)+1)","v":""},""]
[null,null,null,null,null,null,null,null,null,null,null,null,null,0,{"$f":"IF(N3956=0,\"\",MAX(O$15:O3955)+1)","v":""},""]
[null,null,null,null,null,null,null,null,null,null,null,null,null,0,{"$f":"IF(N3957=0,\"\",MAX(O$15:O3956)+1)","v":""},""]
[null,null,null,null,null,null,null,null,null,null,null,null,null,0,{"$f":"IF(N3958=0,\"\",MAX(O$15:O3957)+1)","v":""},""]
[null,null,null,null,null,null,null,null,null,null,null,null,null,0,{"$f":"IF(N3959=0,\"\",MAX(O$15:O3958)+1)","v":""},""]
[null,null,null,null,null,null,null,null,null,null,null,null,null,0,{"$f":"IF(N3960=0,\"\",MAX(O$15:O3959)+1)","v":""},""]
[null,null,null,null,null,null,null,null,null,null,null,null,null,0,{"$f":"IF(N3961=0,\"\",MAX(O$15:O3960)+1)","v":""},""]
[null,null,null,null,null,null,null,null,null,null,null,null,null,{"$f":"IFERROR(M3962*L3962/1000,\"\")","v":0},{"$f":"IF(N3962=0,\"\",MAX(O$15:O3961)+1)","v":""},""]
[null,null,null,null,null,null,null,null,null,null,null,null,null,0,{"$f":"IF(N3963=0,\"\",MAX(O$15:O3962)+1)","v":""},""]
[null,null,null,null,null,null,null,null,null,null,null,null,null,0,{"$f":"IF(N3964=0,\"\",MAX(O$15:O3963)+1)","v":""},""]
[null,null,null,null,null,null,null,null,null,null,null,null,null,0,{"$f":"IF(N3965=0,\"\",MAX(O$15:O3964)+1)","v":""},""]
[null,null,null,null,null,null,null,null,null,null,null,null,null,0,{"$f":"IF(N3966=0,\"\",MAX(O$15:O3965)+1)","v":""},""]
[null,null,null,null,null,null,null,null,null,null,null,null,null,0,{"$f":"IF(N3967=0,\"\",MAX(O$15:O3966)+1)","v":""},""]
[null,null,null,null,null,null,null,null,null,null,null,null,null,0,{"$f":"IF(N3968=0,\"\",MAX(O$15:O3967)+1)","v":""},""]
[null,null,null,null,null,null,null,null,null,null,null,null,null,0,{"$f":"IF(N3969=0,\"\",MAX(O$15:O3968)+1)","v":""},""]
[null,null,null,null,null,null,null,null,null,null,null,null,null,0,{"$f":"IF(N3970=0,\"\",MAX(O$15:O3969)+1)","v":""},""]
[null,null,null,null,null,null,null,null,null,null,null,null,null,0,{"$f":"IF(N3971=0,\"\",MAX(O$15:O3970)+1)","v":""},""]
[null,null,null,null,null,null,null,null,null,null,null,null,null,0,{"$f":"IF(N3972=0,\"\",MAX(O$15:O3971)+1)","v":""},""]
[null,null,null,null,null,null,null,null,null,null,null,null,null,0,{"$f":"IF(N3973=0,\"\",MAX(O$15:O3972)+1)","v":""},""]
[null,null,null,null,null,null,null,null,null,null,null,null,null,0,{"$f":"IF(N3974=0,\"\",MAX(O$15:O3973)+1)","v":""},""]
[null,null,null,null,null,null,null,null,null,null,null,null,null,0,{"$f":"IF(N3975=0,\"\",MAX(O$15:O3974)+1)","v":""},""]
[null,null,null,null,null,null,null,null,null,null,null,null,null,0,{"$f":"IF(N3976=0,\"\",MAX(O$15:O3975)+1)","v":""},""]
[null,null,null,null,null,null,null,null,null,null,null,null,null,0,{"$f":"IF(N3977=0,\"\",MAX(O$15:O3976)+1)","v":""},""]
[null,null,null,null,null,null,null,null,null,null,null,null,null,0,{"$f":"IF(N3978=0,\"\",MAX(O$15:O3977)+1)","v":""},""]
[null,null,null,null,null,null,null,null,null,null,null,null,null,0,{"$f":"IF(N3979=0,\"\",MAX(O$15:O3978)+1)","v":""},""]
[null,null,null,null,null,null,null,null,null,null,null,null,null,0,{"$f":"IF(N3980=0,\"\",MAX(O$15:O3979)+1)","v":""},""]
[null,null,null,null,null,null,null,null,null,null,null,null,null,0,{"$f":"IF(N3981=0,\"\",MAX(O$15:O3980)+1)","v":""},""]
[null,null,null,null,null,null,null,null,null,null,null,null,null,0,{"$f":"IF(N3982=0,\"\",MAX(O$15:O3981)+1)","v":""},""]
[null,null,null,null,null,null,null,null,null,null,null,null,null,0,{"$f":"IF(N3983=0,\"\",MAX(O$15:O3982)+1)","v":""},""]
[null,null,null,null,null,null,null,null,null,null,null,null,null,0,{"$f":"IF(N3984=0,\"\",MAX(O$15:O3983)+1)","v":""},{"$f":"IFERROR(INDEX($N$15:$N$5014,MATCH(ROW()-ROW($O$14),$O$15:$O$5014,0)),\"\")","v":""}]
[null,null,null,null,null,null,null,null,null,null,null,null,null,0,{"$f":"IF(N3985=0,\"\",MAX(O$15:O3984)+1)","v":""},""]
[null,null,null,null,null,null,null,null,null,null,null,null,null,0,{"$f":"IF(N3986=0,\"\",MAX(O$15:O3985)+1)","v":""},""]
[null,null,null,null,null,null,null,null,null,null,null,null,null,0,{"$f":"IF(N3987=0,\"\",MAX(O$15:O3986)+1)","v":""},""]
[null,null,null,null,null,null,null,null,null,null,null,null,null,0,{"$f":"IF(N3988=0,\"\",MAX(O$15:O3987)+1)","v":""},""]
[null,null,null,null,null,null,null,null,null,null,null,null,null,0,{"$f":"IF(N3989=0,\"\",MAX(O$15:O3988)+1)","v":""},""]
[null,null,null,null,null,null,null,null,null,null,null,null,null,0,{"$f":"IF(N3990=0,\"\",MAX(O$15:O3989)+1)","v":""},""]
[null,null,null,null,null,null,null,null,null,null,null,null,null,0,{"$f":"IF(N3991=0,\"\",MAX(O$15:O3990)+1)","v":""},""]
[null,null,null,null,null,null,null,null,null,null,null,null,null,0,{"$f":"IF(N3992=0,\"\",MAX(O$15:O3991)+1)","v":""},""]
[null,null,null,null,null,null,null,null,null,null,null,null,null,0,{"$f":"IF(N3993=0,\"\",MAX(O$15:O3992)+1)","v":""},""]
[null,null,null,null,null,null,null,null,null,null,null,null,null,0,{"$f":"IF(N3994=0,\"\",MAX(O$15:O3993)+1)","v":""},""]
[null,null,null,null,null,null,null,null,null,null,null,null,null,0,{"$f":"IF(N3995=0,\"\",MAX(O$15:O3994)+1)","v":""},""]
[null,null,null,null,null,null,null,null,null,null,null,null,null,0,{"$f":"IF(N3996=0,\"\",MAX(O$15:O3995)+1)","v":""},""]
[null,null,null,null,null,null,null,null,null,null,null,null,null,0,{"$f":"IF(N3997=0,\"\",MAX(O$15:O3996)+1)","v":""},""]
[null,null,null,null,null,null,null,null,null,null,null,null,null,0,{"$f":"IF(N3998=0,\"\",MAX(O$15:O3997)+1)","v":""},""]
[null,null,null,null,null,null,null,null,null,null,null,null,null,0,{"$f":"IF(N3999=0,\"\",MAX(O$15:O3998)+1)","v":""},""]
[null,null,null,null,null,null,null,null,null,null,null,null,null,0,{"$f":"IF(N4000=0,\"\",MAX(O$15:O3999)+1)","v":""},""]
[null,null,null,null,null,null,null,null,null,null,null,null,null,0,{"$f":"IF(N4001=0,\"\",MAX(O$15:O4000)+1)","v":""},""]
[null,null,null,null,null,null,null,null,null,null,null,null,null,0,{"$f":"IF(N4002=0,\"\",MAX(O$15:O4001)+1)","v":""},""]
[null,null,null,null,null,null,null,null,null,null,null,null,null,0,{"$f":"IF(N4003=0,\"\",MAX(O$15:O4002)+1)","v":""},""]
[null,null,null,null,null,null,null,null,null,null,null,null,null,0,{"$f":"IF(N4004=0,\"\",MAX(O$15:O4003)+1)","v":""},""]
[null,null,null,null,null,null,null,null,null,null,null,null,null,0,{"$f":"IF(N4005=0,\"\",MAX(O$15:O4004)+1)","v":""},""]
[null,null,null,null,null,null,null,null,null,null,null,null,null,0,{"$f":"IF(N4006=0,\"\",MAX(O$15:O4005)+1)","v":""},""]
[null,null,null,null,null,null,null,null,null,null,null,null,null,0,{"$f":"IF(N4007=0,\"\",MAX(O$15:O4006)+1)","v":""},""]
[null,null,null,null,null,null,null,null,null,null,null,null,null,0,{"$f":"IF(N4008=0,\"\",MAX(O$15:O4007)+1)","v":""},""]
[null,null,null,null,null,null,null,null,null,null,null,null,null,0,{"$f":"IF(N4009=0,\"\",MAX(O$15:O4008)+1)","v":""},""]
[null,null,null,null,null,null,null,null,null,null,null,null,null,0,{"$f":"IF(N4010=0,\"\",MAX(O$15:O4009)+1)","v":""},""]
[null,null,null,null,null,null,null,null,null,null,null,null,null,0,{"$f":"IF(N4011=0,\"\",MAX(O$15:O4010)+1)","v":""},""]
[null,null,null,null,null,null,null,null,null,null,null,null,null,0,{"$f":"IF(N4012=0,\"\",MAX(O$15:O4011)+1)","v":""},""]
[null,null,null,null,null,null,null,null,null,null,null,null,null,0,{"$f":"IF(N4013=0,\"\",MAX(O$15:O4012)+1)","v":""},""]
[null,null,null,null,null,null,null,null,null,null,null,null,null,0,{"$f":"IF(N4014=0,\"\",MAX(O$15:O4013)+1)","v":""},""]
[null,null,null,null,null,null,null,null,null,null,null,null,null,0,{"$f":"IF(N4015=0,\"\",MAX(O$15:O4014)+1)","v":""},""]
[null,null,null,null,null,null,null,null,null,null,null,null,null,0,{"$f":"IF(N4016=0,\"\",MAX(O$15:O4015)+1)","v":""},""]
[null,null,null,null,null,null,null,null,null,null,null,null,null,0,{"$f":"IF(N4017=0,\"\",MAX(O$15:O4016)+1)","v":""},""]
[null,null,null,null,null,null,null,null,null,null,null,null,null,0,{"$f":"IF(N4018=0,\"\",MAX(O$15:O4017)+1)","v":""},""]
[null,null,null,null,null,null,null,null,null,null,null,null,null,0,{"$f":"IF(N4019=0,\"\",MAX(O$15:O4018)+1)","v":""},""]
[null,null,null,null,null,null,null,null,null,null,null,null,null,0,{"$f":"IF(N4020=0,\"\",MAX(O$15:O4019)+1)","v":""},""]
[null,null,null,null,null,null,null,null,null,null,null,null,null,0,{"$f":"IF(N4021=0,\"\",MAX(O$15:O4020)+1)","v":""},""]
[null,null,null,null,null,null,null,null,null,null,null,null,null,0,{"$f":"IF(N4022=0,\"\",MAX(O$15:O4021)+1)","v":""},""]
[null,null,null,null,null,null,null,null,null,null,null,null,null,0,{"$f":"IF(N4023=0,\"\",MAX(O$15:O4022)+1)","v":""},""]
[null,null,null,null,null,null,null,null,null,null,null,null,null,0,{"$f":"IF(N4024=0,\"\",MAX(O$15:O4023)+1)","v":""},""]
[null,null,null,null,null,null,null,null,null,null,null,null,null,0,{"$f":"IF(N4025=0,\"\",MAX(O$15:O4024)+1)","v":""},""]
[null,null,null,null,null,null,null,null,null,null,null,null,null,{"$f":"IFERROR(M4026*L4026/1000,\"\")","v":0},{"$f":"IF(N4026=0,\"\",MAX(O$15:O4025)+1)","v":""},""]
[null,null,null,null,null,null,null,null,null,null,null,null,null,0,{"$f":"IF(N4027=0,\"\",MAX(O$15:O4026)+1)","v":""},""]
[null,null,null,null,null,null,null,null,null,null,null,null,null,0,{"$f":"IF(N4028=0,\"\",MAX(O$15:O4027)+1)","v":""},""]
[null,null,null,null,null,null,null,null,null,null,null,null,null,0,{"$f":"IF(N4029=0,\"\",MAX(O$15:O4028)+1)","v":""},""]
[null,null,null,null,null,null,null,null,null,null,null,null,null,0,{"$f":"IF(N4030=0,\"\",MAX(O$15:O4029)+1)","v":""},""]
[null,null,null,null,null,null,null,null,null,null,null,null,null,0,{"$f":"IF(N4031=0,\"\",MAX(O$15:O4030)+1)","v":""},""]
[null,null,null,null,null,null,null,null,null,null,null,null,null,0,{"$f":"IF(N4032=0,\"\",MAX(O$15:O4031)+1)","v":""},""]
[null,null,null,null,null,null,null,null,null,null,null,null,null,0,{"$f":"IF(N4033=0,\"\",MAX(O$15:O4032)+1)","v":""},""]
[null,null,null,null,null,null,null,null,null,null,null,null,null,0,{"$f":"IF(N4034=0,\"\",MAX(O$15:O4033)+1)","v":""},""]
[null,null,null,null,null,null,null,null,null,null,null,null,null,0,{"$f":"IF(N4035=0,\"\",MAX(O$15:O4034)+1)","v":""},""]
[null,null,null,null,null,null,null,null,null,null,null,null,null,0,{"$f":"IF(N4036=0,\"\",MAX(O$15:O4035)+1)","v":""},""]
[null,null,null,null,null,null,null,null,null,null,null,null,null,0,{"$f":"IF(N4037=0,\"\",MAX(O$15:O4036)+1)","v":""},""]
[null,null,null,null,null,null,null,null,null,null,null,null,null,0,{"$f":"IF(N4038=0,\"\",MAX(O$15:O4037)+1)","v":""},""]
[null,null,null,null,null,null,null,null,null,null,null,null,null,0,{"$f":"IF(N4039=0,\"\",MAX(O$15:O4038)+1)","v":""},""]
[null,null,null,null,null,null,null,null,null,null,null,null,null,0,{"$f":"IF(N4040=0,\"\",MAX(O$15:O4039)+1)","v":""},""]
[null,null,null,null,null,null,null,null,null,null,null,null,null,0,{"$f":"IF(N4041=0,\"\",MAX(O$15:O4040)+1)","v":""},""]
[null,null,null,null,null,null,null,null,null,null,null,null,null,0,{"$f":"IF(N4042=0,\"\",MAX(O$15:O4041)+1)","v":""},""]
[null,null,null,null,null,null,null,null,null,null,null,null,null,0,{"$f":"IF(N4043=0,\"\",MAX(O$15:O4042)+1)","v":""},""]
[null,null,null,null,null,null,null,null,null,null,null,null,null,0,{"$f":"IF(N4044=0,\"\",MAX(O$15:O4043)+1)","v":""},""]
[null,null,null,null,null,null,null,null,null,null,null,null,null,0,{"$f":"IF(N4045=0,\"\",MAX(O$15:O4044)+1)","v":""},""]
[null,null,null,null,null,null,null,null,null,null,null,null,null,0,{"$f":"IF(N4046=0,\"\",MAX(O$15:O4045)+1)","v":""},""]
[null,null,null,null,null,null,null,null,null,null,null,null,null,0,{"$f":"IF(N4047=0,\"\",MAX(O$15:O4046)+1)","v":""},""]
[null,null,null,null,null,null,null,null,null,null,null,null,null,0,{"$f":"IF(N4048=0,\"\",MAX(O$15:O4047)+1)","v":""},{"$f":"IFERROR(INDEX($N$15:$N$5014,MATCH(ROW()-ROW($O$14),$O$15:$O$5014,0)),\"\")","v":""}]
[null,null,null,null,null,null,null,null,null,null,null,null,null,0,{"$f":"IF(N4049=0,\"\",MAX(O$15:O4048)+1)","v":""},""]
[null,null,null,null,null,null,null,null,null,null,null,null,null,0,{"$f":"IF(N4050=0,\"\",MAX(O$15:O4049)+1)","v":""},""]
[null,null,null,null,null,null,null,null,null,null,null,null,null,0,{"$f":"IF(N4051=0,\"\",MAX(O$15:O4050)+1)","v":""},""]
[null,null,null,null,null,null,null,null,null,null,null,null,null,0,{"$f":"IF(N4052=0,\"\",MAX(O$15:O4051)+1)","v":""},""]
[null,null,null,null,null,null,null,null,null,null,null,null,null,0,{"$f":"IF(N4053=0,\"\",MAX(O$15:O4052)+1)","v":""},""]
[null,null,null,null,null,null,null,null,null,null,null,null,null,0,{"$f":"IF(N4054=0,\"\",MAX(O$15:O4053)+1)","v":""},""]
[null,null,null,null,null,null,null,null,null,null,null,null,null,0,{"$f":"IF(N4055=0,\"\",MAX(O$15:O4054)+1)","v":""},""]
[null,null,null,null,null,null,null,null,null,null,null,null,null,0,{"$f":"IF(N4056=0,\"\",MAX(O$15:O4055)+1)","v":""},""]
[null,null,null,null,null,null,null,null,null,null,null,null,null,0,{"$f":"IF(N4057=0,\"\",MAX(O$15:O4056)+1)","v":""},""]
[null,null,null,null,null,null,null,null,null,null,null,null,null,0,{"$f":"IF(N4058=0,\"\",MAX(O$15:O4057)+1)","v":""},""]
[null,null,null,null,null,null,null,null,null,null,null,null,null,0,{"$f":"IF(N4059=0,\"\",MAX(O$15:O4058)+1)","v":""},""]
[null,null,null,null,null,null,null,null,null,null,null,null,null,0,{"$f":"IF(N4060=0,\"\",MAX(O$15:O4059)+1)","v":""},""]
[null,null,null,null,null,null,null,null,null,null,null,null,null,0,{"$f":"IF(N4061=0,\"\",MAX(O$15:O4060)+1)","v":""},""]
[null,null,null,null,null,null,null,null,null,null,null,null,null,0,{"$f":"IF(N4062=0,\"\",MAX(O$15:O4061)+1)","v":""},""]
[null,null,null,null,null,null,null,null,null,null,null,null,null,0,{"$f":"IF(N4063=0,\"\",MAX(O$15:O4062)+1)","v":""},""]
[null,null,null,null,null,null,null,null,null,null,null,null,null,0,{"$f":"IF(N4064=0,\"\",MAX(O$15:O4063)+1)","v":""},""]
[null,null,null,null,null,null,null,null,null,null,null,null,null,0,{"$f":"IF(N4065=0,\"\",MAX(O$15:O4064)+1)","v":""},""]
[null,null,null,null,null,null,null,null,null,null,null,null,null,0,{"$f":"IF(N4066=0,\"\",MAX(O$15:O4065)+1)","v":""},""]
[null,null,null,null,null,null,null,null,null,null,null,null,null,0,{"$f":"IF(N4067=0,\"\",MAX(O$15:O4066)+1)","v":""},""]
[null,null,null,null,null,null,null,null,null,null,null,null,null,0,{"$f":"IF(N4068=0,\"\",MAX(O$15:O4067)+1)","v":""},""]
[null,null,null,null,null,null,null,null,null,null,null,null,null,0,{"$f":"IF(N4069=0,\"\",MAX(O$15:O4068)+1)","v":""},""]
[null,null,null,null,null,null,null,null,null,null,null,null,null,0,{"$f":"IF(N4070=0,\"\",MAX(O$15:O4069)+1)","v":""},""]
[null,null,null,null,null,null,null,null,null,null,null,null,null,0,{"$f":"IF(N4071=0,\"\",MAX(O$15:O4070)+1)","v":""},""]
[null,null,null,null,null,null,null,null,null,null,null,null,null,0,{"$f":"IF(N4072=0,\"\",MAX(O$15:O4071)+1)","v":""},""]
[null,null,null,null,null,null,null,null,null,null,null,null,null,0,{"$f":"IF(N4073=0,\"\",MAX(O$15:O4072)+1)","v":""},""]
[null,null,null,null,null,null,null,null,null,null,null,null,null,0,{"$f":"IF(N4074=0,\"\",MAX(O$15:O4073)+1)","v":""},""]
[null,null,null,null,null,null,null,null,null,null,null,null,null,0,{"$f":"IF(N4075=0,\"\",MAX(O$15:O4074)+1)","v":""},""]
[null,null,null,null,null,null,null,null,null,null,null,null,null,0,{"$f":"IF(N4076=0,\"\",MAX(O$15:O4075)+1)","v":""},""]
[null,null,null,null,null,null,null,null,null,null,null,null,null,0,{"$f":"IF(N4077=0,\"\",MAX(O$15:O4076)+1)","v":""},""]
[null,null,null,null,null,null,null,null,null,null,null,null,null,0,{"$f":"IF(N4078=0,\"\",MAX(O$15:O4077)+1)","v":""},""]
[null,null,null,null,null,null,null,null,null,null,null,null,null,0,{"$f":"IF(N4079=0,\"\",MAX(O$15:O4078)+1)","v":""},""]
[null,null,null,null,null,null,null,null,null,null,null,null,null,0,{"$f":"IF(N4080=0,\"\",MAX(O$15:O4079)+1)","v":""},""]
[null,null,null,null,null,null,null,null,null,null,null,null,null,0,{"$f":"IF(N4081=0,\"\",MAX(O$15:O4080)+1)","v":""},""]
[null,null,null,null,null,null,null,null,null,null,null,null,null,0,{"$f":"IF(N4082=0,\"\",MAX(O$15:O4081)+1)","v":""},""]
[null,null,null,null,null,null,null,null,null,null,null,null,null,0,{"$f":"IF(N4083=0,\"\",MAX(O$15:O4082)+1)","v":""},""]
[null,null,null,null,null,null,null,null,null,null,null,null,null,0,{"$f":"IF(N4084=0,\"\",MAX(O$15:O4083)+1)","v":""},""]
[null,null,null,null,null,null,null,null,null,null,null,null,null,0,{"$f":"IF(N4085=0,\"\",MAX(O$15:O4084)+1)","v":""},""]
[null,null,null,null,null,null,null,null,null,null,null,null,null,0,{"$f":"IF(N4086=0,\"\",MAX(O$15:O4085)+1)","v":""},""]
[null,null,null,null,null,null,null,null,null,null,null,null,null,0,{"$f":"IF(N4087=0,\"\",MAX(O$15:O4086)+1)","v":""},""]
[null,null,null,null,null,null,null,null,null,null,null,null,null,0,{"$f":"IF(N4088=0,\"\",MAX(O$15:O4087)+1)","v":""},""]
[null,null,null,null,null,null,null,null,null,null,null,null,null,0,{"$f":"IF(N4089=0,\"\",MAX(O$15:O4088)+1)","v":""},""]
[null,null,null,null,null,null,null,null,null,null,null,null,null,{"$f":"IFERROR(M4090*L4090/1000,\"\")","v":0},{"$f":"IF(N4090=0,\"\",MAX(O$15:O4089)+1)","v":""},""]
[null,null,null,null,null,null,null,null,null,null,null,null,null,0,{"$f":"IF(N4091=0,\"\",MAX(O$15:O4090)+1)","v":""},""]
[null,null,null,null,null,null,null,null,null,null,null,null,null,0,{"$f":"IF(N4092=0,\"\",MAX(O$15:O4091)+1)","v":""},""]
[null,null,null,null,null,null,null,null,null,null,null,null,null,0,{"$f":"IF(N4093=0,\"\",MAX(O$15:O4092)+1)","v":""},""]
[null,null,null,null,null,null,null,null,null,null,null,null,null,0,{"$f":"IF(N4094=0,\"\",MAX(O$15:O4093)+1)","v":""},""]
[null,null,null,null,null,null,null,null,null,null,null,null,null,0,{"$f":"IF(N4095=0,\"\",MAX(O$15:O4094)+1)","v":""},""]
[null,null,null,null,null,null,null,null,null,null,null,null,null,0,{"$f":"IF(N4096=0,\"\",MAX(O$15:O4095)+1)","v":""},""]
[null,null,null,null,null,null,null,null,null,null,null,null,null,0,{"$f":"IF(N4097=0,\"\",MAX(O$15:O4096)+1)","v":""},""]
[null,null,null,null,null,null,null,null,null,null,null,null,null,0,{"$f":"IF(N4098=0,\"\",MAX(O$15:O4097)+1)","v":""},""]
[null,null,null,null,null,null,null,null,null,null,null,null,null,0,{"$f":"IF(N4099=0,\"\",MAX(O$15:O4098)+1)","v":""},""]
[null,null,null,null,null,null,null,null,null,null,null,null,null,0,{"$f":"IF(N4100=0,\"\",MAX(O$15:O4099)+1)","v":""},""]
[null,null,null,null,null,null,null,null,null,null,null,null,null,0,{"$f":"IF(N4101=0,\"\",MAX(O$15:O4100)+1)","v":""},""]
[null,null,null,null,null,null,null,null,null,null,null,null,null,0,{"$f":"IF(N4102=0,\"\",MAX(O$15:O4101)+1)","v":""},""]
[null,null,null,null,null,null,null,null,null,null,null,null,null,0,{"$f":"IF(N4103=0,\"\",MAX(O$15:O4102)+1)","v":""},""]
[null,null,null,null,null,null,null,null,null,null,null,null,null,0,{"$f":"IF(N4104=0,\"\",MAX(O$15:O4103)+1)","v":""},""]
[null,null,null,null,null,null,null,null,null,null,null,null,null,0,{"$f":"IF(N4105=0,\"\",MAX(O$15:O4104)+1)","v":""},""]
[null,null,null,null,null,null,null,null,null,null,null,null,null,0,{"$f":"IF(N4106=0,\"\",MAX(O$15:O4105)+1)","v":""},""]
[null,null,null,null,null,null,null,null,null,null,null,null,null,0,{"$f":"IF(N4107=0,\"\",MAX(O$15:O4106)+1)","v":""},""]
[null,null,null,null,null,null,null,null,null,null,null,null,null,0,{"$f":"IF(N4108=0,\"\",MAX(O$15:O4107)+1)","v":""},""]
[null,null,null,null,null,null,null,null,null,null,null,null,null,0,{"$f":"IF(N4109=0,\"\",MAX(O$15:O4108)+1)","v":""},""]
[null,null,null,null,null,null,null,null,null,null,null,null,null,0,{"$f":"IF(N4110=0,\"\",MAX(O$15:O4109)+1)","v":""},""]
[null,null,null,null,null,null,null,null,null,null,null,null,null,0,{"$f":"IF(N4111=0,\"\",MAX(O$15:O4110)+1)","v":""},""]
[null,null,null,null,null,null,null,null,null,null,null,null,null,0,{"$f":"IF(N4112=0,\"\",MAX(O$15:O4111)+1)","v":""},{"$f":"IFERROR(INDEX($N$15:$N$5014,MATCH(ROW()-ROW($O$14),$O$15:$O$5014,0)),\"\")","v":""}]
[null,null,null,null,null,null,null,null,null,null,null,null,null,0,{"$f":"IF(N4113=0,\"\",MAX(O$15:O4112)+1)","v":""},""]
[null,null,null,null,null,null,null,null,null,null,null,null,null,0,{"$f":"IF(N4114=0,\"\",MAX(O$15:O4113)+1)","v":""},""]
[null,null,null,null,null,null,null,null,null,null,null,null,null,0,{"$f":"IF(N4115=0,\"\",MAX(O$15:O4114)+1)","v":""},""]
[null,null,null,null,null,null,null,null,null,null,null,null,null,0,{"$f":"IF(N4116=0,\"\",MAX(O$15:O4115)+1)","v":""},""]
[null,null,null,null,null,null,null,null,null,null,null,null,null,0,{"$f":"IF(N4117=0,\"\",MAX(O$15:O4116)+1)","v":""},""]
[null,null,null,null,null,null,null,null,null,null,null,null,null,0,{"$f":"IF(N4118=0,\"\",MAX(O$15:O4117)+1)","v":""},""]
[null,null,null,null,null,null,null,null,null,null,null,null,null,0,{"$f":"IF(N4119=0,\"\",MAX(O$15:O4118)+1)","v":""},""]
[null,null,null,null,null,null,null,null,null,null,null,null,null,0,{"$f":"IF(N4120=0,\"\",MAX(O$15:O4119)+1)","v":""},""]
[null,null,null,null,null,null,null,null,null,null,null,null,null,0,{"$f":"IF(N4121=0,\"\",MAX(O$15:O4120)+1)","v":""},""]
[null,null,null,null,null,null,null,null,null,null,null,null,null,0,{"$f":"IF(N4122=0,\"\",MAX(O$15:O4121)+1)","v":""},""]
[null,null,null,null,null,null,null,null,null,null,null,null,null,0,{"$f":"IF(N4123=0,\"\",MAX(O$15:O4122)+1)","v":""},""]
[null,null,null,null,null,null,null,null,null,null,null,null,null,0,{"$f":"IF(N4124=0,\"\",MAX(O$15:O4123)+1)","v":""},""]
[null,null,null,null,null,null,null,null,null,null,null,null,null,0,{"$f":"IF(N4125=0,\"\",MAX(O$15:O4124)+1)","v":""},""]
[null,null,null,null,null,null,null,null,null,null,null,null,null,0,{"$f":"IF(N4126=0,\"\",MAX(O$15:O4125)+1)","v":""},""]
[null,null,null,null,null,null,null,null,null,null,null,null,null,0,{"$f":"IF(N4127=0,\"\",MAX(O$15:O4126)+1)","v":""},""]
[null,null,null,null,null,null,null,null,null,null,null,null,null,0,{"$f":"IF(N4128=0,\"\",MAX(O$15:O4127)+1)","v":""},""]
[null,null,null,null,null,null,null,null,null,null,null,null,null,0,{"$f":"IF(N4129=0,\"\",MAX(O$15:O4128)+1)","v":""},""]
[null,null,null,null,null,null,null,null,null,null,null,null,null,0,{"$f":"IF(N4130=0,\"\",MAX(O$15:O4129)+1)","v":""},""]
[null,null,null,null,null,null,null,null,null,null,null,null,null,0,{"$f":"IF(N4131=0,\"\",MAX(O$15:O4130)+1)","v":""},""]
[null,null,null,null,null,null,null,null,null,null,null,null,null,0,{"$f":"IF(N4132=0,\"\",MAX(O$15:O4131)+1)","v":""},""]
[null,null,null,null,null,null,null,null,null,null,null,null,null,0,{"$f":"IF(N4133=0,\"\",MAX(O$15:O4132)+1)","v":""},""]
[null,null,null,null,null,null,null,null,null,null,null,null,null,0,{"$f":"IF(N4134=0,\"\",MAX(O$15:O4133)+1)","v":""},""]
[null,null,null,null,null,null,null,null,null,null,null,null,null,0,{"$f":"IF(N4135=0,\"\",MAX(O$15:O4134)+1)","v":""},""]
[null,null,null,null,null,null,null,null,null,null,null,null,null,0,{"$f":"IF(N4136=0,\"\",MAX(O$15:O4135)+1)","v":""},""]
[null,null,null,null,null,null,null,null,null,null,null,null,null,0,{"$f":"IF(N4137=0,\"\",MAX(O$15:O4136)+1)","v":""},""]
[null,null,null,null,null,null,null,null,null,null,null,null,null,0,{"$f":"IF(N4138=0,\"\",MAX(O$15:O4137)+1)","v":""},""]
[null,null,null,null,null,null,null,null,null,null,null,null,null,0,{"$f":"IF(N4139=0,\"\",MAX(O$15:O4138)+1)","v":""},""]
[null,null,null,null,null,null,null,null,null,null,null,null,null,0,{"$f":"IF(N4140=0,\"\",MAX(O$15:O4139)+1)","v":""},""]
[null,null,null,null,null,null,null,null,null,null,null,null,null,0,{"$f":"IF(N4141=0,\"\",MAX(O$15:O4140)+1)","v":""},""]
[null,null,null,null,null,null,null,null,null,null,null,null,null,0,{"$f":"IF(N4142=0,\"\",MAX(O$15:O4141)+1)","v":""},""]
[null,null,null,null,null,null,null,null,null,null,null,null,null,0,{"$f":"IF(N4143=0,\"\",MAX(O$15:O4142)+1)","v":""},""]
[null,null,null,null,null,null,null,null,null,null,null,null,null,0,{"$f":"IF(N4144=0,\"\",MAX(O$15:O4143)+1)","v":""},""]
[null,null,null,null,null,null,null,null,null,null,null,null,null,0,{"$f":"IF(N4145=0,\"\",MAX(O$15:O4144)+1)","v":""},""]
[null,null,null,null,null,null,null,null,null,null,null,null,null,0,{"$f":"IF(N4146=0,\"\",MAX(O$15:O4145)+1)","v":""},""]
[null,null,null,null,null,null,null,null,null,null,null,null,null,0,{"$f":"IF(N4147=0,\"\",MAX(O$15:O4146)+1)","v":""},""]
[null,null,null,null,null,null,null,null,null,null,null,null,null,0,{"$f":"IF(N4148=0,\"\",MAX(O$15:O4147)+1)","v":""},""]
[null,null,null,null,null,null,null,null,null,null,null,null,null,0,{"$f":"IF(N4149=0,\"\",MAX(O$15:O4148)+1)","v":""},""]
[null,null,null,null,null,null,null,null,null,null,null,null,null,0,{"$f":"IF(N4150=0,\"\",MAX(O$15:O4149)+1)","v":""},""]
[null,null,null,null,null,null,null,null,null,null,null,null,null,0,{"$f":"IF(N4151=0,\"\",MAX(O$15:O4150)+1)","v":""},""]
[null,null,null,null,null,null,null,null,null,null,null,null,null,0,{"$f":"IF(N4152=0,\"\",MAX(O$15:O4151)+1)","v":""},""]
[null,null,null,null,null,null,null,null,null,null,null,null,null,0,{"$f":"IF(N4153=0,\"\",MAX(O$15:O4152)+1)","v":""},""]
[null,null,null,null,null,null,null,null,null,null,null,null,null,{"$f":"IFERROR(M4154*L4154/1000,\"\")","v":0},{"$f":"IF(N4154=0,\"\",MAX(O$15:O4153)+1)","v":""},""]
[null,null,null,null,null,null,null,null,null,null,null,null,null,0,{"$f":"IF(N4155=0,\"\",MAX(O$15:O4154)+1)","v":""},""]
[null,null,null,null,null,null,null,null,null,null,null,null,null,0,{"$f":"IF(N4156=0,\"\",MAX(O$15:O4155)+1)","v":""},""]
[null,null,null,null,null,null,null,null,null,null,null,null,null,0,{"$f":"IF(N4157=0,\"\",MAX(O$15:O4156)+1)","v":""},""]
[null,null,null,null,null,null,null,null,null,null,null,null,null,0,{"$f":"IF(N4158=0,\"\",MAX(O$15:O4157)+1)","v":""},""]
[null,null,null,null,null,null,null,null,null,null,null,null,null,0,{"$f":"IF(N4159=0,\"\",MAX(O$15:O4158)+1)","v":""},""]
[null,null,null,null,null,null,null,null,null,null,null,null,null,0,{"$f":"IF(N4160=0,\"\",MAX(O$15:O4159)+1)","v":""},""]
[null,null,null,null,null,null,null,null,null,null,null,null,null,0,{"$f":"IF(N4161=0,\"\",MAX(O$15:O4160)+1)","v":""},""]
[null,null,null,null,null,null,null,null,null,null,null,null,null,0,{"$f":"IF(N4162=0,\"\",MAX(O$15:O4161)+1)","v":""},""]
[null,null,null,null,null,null,null,null,null,null,null,null,null,0,{"$f":"IF(N4163=0,\"\",MAX(O$15:O4162)+1)","v":""},""]
[null,null,null,null,null,null,null,null,null,null,null,null,null,0,{"$f":"IF(N4164=0,\"\",MAX(O$15:O4163)+1)","v":""},""]
[null,null,null,null,null,null,null,null,null,null,null,null,null,0,{"$f":"IF(N4165=0,\"\",MAX(O$15:O4164)+1)","v":""},""]
[null,null,null,null,null,null,null,null,null,null,null,null,null,0,{"$f":"IF(N4166=0,\"\",MAX(O$15:O4165)+1)","v":""},""]
[null,null,null,null,null,null,null,null,null,null,null,null,null,0,{"$f":"IF(N4167=0,\"\",MAX(O$15:O4166)+1)","v":""},""]
[null,null,null,null,null,null,null,null,null,null,null,null,null,0,{"$f":"IF(N4168=0,\"\",MAX(O$15:O4167)+1)","v":""},""]
[null,null,null,null,null,null,null,null,null,null,null,null,null,0,{"$f":"IF(N4169=0,\"\",MAX(O$15:O4168)+1)","v":""},""]
[null,null,null,null,null,null,null,null,null,null,null,null,null,0,{"$f":"IF(N4170=0,\"\",MAX(O$15:O4169)+1)","v":""},""]
[null,null,null,null,null,null,null,null,null,null,null,null,null,0,{"$f":"IF(N4171=0,\"\",MAX(O$15:O4170)+1)","v":""},""]
[null,null,null,null,null,null,null,null,null,null,null,null,null,0,{"$f":"IF(N4172=0,\"\",MAX(O$15:O4171)+1)","v":""},""]
[null,null,null,null,null,null,null,null,null,null,null,null,null,0,{"$f":"IF(N4173=0,\"\",MAX(O$15:O4172)+1)","v":""},""]
[null,null,null,null,null,null,null,null,null,null,null,null,null,0,{"$f":"IF(N4174=0,\"\",MAX(O$15:O4173)+1)","v":""},""]
[null,null,null,null,null,null,null,null,null,null,null,null,null,0,{"$f":"IF(N4175=0,\"\",MAX(O$15:O4174)+1)","v":""},""]
[null,null,null,null,null,null,null,null,null,null,null,null,null,0,{"$f":"IF(N4176=0,\"\",MAX(O$15:O4175)+1)","v":""},{"$f":"IFERROR(INDEX($N$15:$N$5014,MATCH(ROW()-ROW($O$14),$O$15:$O$5014,0)),\"\")","v":""}]
[null,null,null,null,null,null,null,null,null,null,null,null,null,0,{"$f":"IF(N4177=0,\"\",MAX(O$15:O4176)+1)","v":""},""]
[null,null,null,null,null,null,null,null,null,null,null,null,null,0,{"$f":"IF(N4178=0,\"\",MAX(O$15:O4177)+1)","v":""},""]
[null,null,null,null,null,null,null,null,null,null,null,null,null,0,{"$f":"IF(N4179=0,\"\",MAX(O$15:O4178)+1)","v":""},""]
[null,null,null,null,null,null,null,null,null,null,null,null,null,0,{"$f":"IF(N4180=0,\"\",MAX(O$15:O4179)+1)","v":""},""]
[null,null,null,null,null,null,null,null,null,null,null,null,null,0,{"$f":"IF(N4181=0,\"\",MAX(O$15:O4180)+1)","v":""},""]
[null,null,null,null,null,null,null,null,null,null,null,null,null,0,{"$f":"IF(N4182=0,\"\",MAX(O$15:O4181)+1)","v":""},""]
[null,null,null,null,null,null,null,null,null,null,null,null,null,0,{"$f":"IF(N4183=0,\"\",MAX(O$15:O4182)+1)","v":""},""]
[null,null,null,null,null,null,null,null,null,null,null,null,null,0,{"$f":"IF(N4184=0,\"\",MAX(O$15:O4183)+1)","v":""},""]
[null,null,null,null,null,null,null,null,null,null,null,null,null,0,{"$f":"IF(N4185=0,\"\",MAX(O$15:O4184)+1)","v":""},""]
[null,null,null,null,null,null,null,null,null,null,null,null,null,0,{"$f":"IF(N4186=0,\"\",MAX(O$15:O4185)+1)","v":""},""]
[null,null,null,null,null,null,null,null,null,null,null,null,null,0,{"$f":"IF(N4187=0,\"\",MAX(O$15:O4186)+1)","v":""},""]
[null,null,null,null,null,null,null,null,null,null,null,null,null,0,{"$f":"IF(N4188=0,\"\",MAX(O$15:O4187)+1)","v":""},""]
[null,null,null,null,null,null,null,null,null,null,null,null,null,0,{"$f":"IF(N4189=0,\"\",MAX(O$15:O4188)+1)","v":""},""]
[null,null,null,null,null,null,null,null,null,null,null,null,null,0,{"$f":"IF(N4190=0,\"\",MAX(O$15:O4189)+1)","v":""},""]
[null,null,null,null,null,null,null,null,null,null,null,null,null,0,{"$f":"IF(N4191=0,\"\",MAX(O$15:O4190)+1)","v":""},""]
[null,null,null,null,null,null,null,null,null,null,null,null,null,0,{"$f":"IF(N4192=0,\"\",MAX(O$15:O4191)+1)","v":""},""]
[null,null,null,null,null,null,null,null,null,null,null,null,null,0,{"$f":"IF(N4193=0,\"\",MAX(O$15:O4192)+1)","v":""},""]
[null,null,null,null,null,null,null,null,null,null,null,null,null,0,{"$f":"IF(N4194=0,\"\",MAX(O$15:O4193)+1)","v":""},""]
[null,null,null,null,null,null,null,null,null,null,null,null,null,0,{"$f":"IF(N4195=0,\"\",MAX(O$15:O4194)+1)","v":""},""]
[null,null,null,null,null,null,null,null,null,null,null,null,null,0,{"$f":"IF(N4196=0,\"\",MAX(O$15:O4195)+1)","v":""},""]
[null,null,null,null,null,null,null,null,null,null,null,null,null,0,{"$f":"IF(N4197=0,\"\",MAX(O$15:O4196)+1)","v":""},""]
[null,null,null,null,null,null,null,null,null,null,null,null,null,0,{"$f":"IF(N4198=0,\"\",MAX(O$15:O4197)+1)","v":""},""]
[null,null,null,null,null,null,null,null,null,null,null,null,null,0,{"$f":"IF(N4199=0,\"\",MAX(O$15:O4198)+1)","v":""},""]
[null,null,null,null,null,null,null,null,null,null,null,null,null,0,{"$f":"IF(N4200=0,\"\",MAX(O$15:O4199)+1)","v":""},""]
[null,null,null,null,null,null,null,null,null,null,null,null,null,0,{"$f":"IF(N4201=0,\"\",MAX(O$15:O4200)+1)","v":""},""]
[null,null,null,null,null,null,null,null,null,null,null,null,null,0,{"$f":"IF(N4202=0,\"\",MAX(O$15:O4201)+1)","v":""},""]
[null,null,null,null,null,null,null,null,null,null,null,null,null,0,{"$f":"IF(N4203=0,\"\",MAX(O$15:O4202)+1)","v":""},""]
[null,null,null,null,null,null,null,null,null,null,null,null,null,0,{"$f":"IF(N4204=0,\"\",MAX(O$15:O4203)+1)","v":""},""]
[null,null,null,null,null,null,null,null,null,null,null,null,null,0,{"$f":"IF(N4205=0,\"\",MAX(O$15:O4204)+1)","v":""},""]
[null,null,null,null,null,null,null,null,null,null,null,null,null,0,{"$f":"IF(N4206=0,\"\",MAX(O$15:O4205)+1)","v":""},""]
[null,null,null,null,null,null,null,null,null,null,null,null,null,0,{"$f":"IF(N4207=0,\"\",MAX(O$15:O4206)+1)","v":""},""]
[null,null,null,null,null,null,null,null,null,null,null,null,null,0,{"$f":"IF(N4208=0,\"\",MAX(O$15:O4207)+1)","v":""},""]
[null,null,null,null,null,null,null,null,null,null,null,null,null,0,{"$f":"IF(N4209=0,\"\",MAX(O$15:O4208)+1)","v":""},""]
[null,null,null,null,null,null,null,null,null,null,null,null,null,0,{"$f":"IF(N4210=0,\"\",MAX(O$15:O4209)+1)","v":""},""]
[null,null,null,null,null,null,null,null,null,null,null,null,null,0,{"$f":"IF(N4211=0,\"\",MAX(O$15:O4210)+1)","v":""},""]
[null,null,null,null,null,null,null,null,null,null,null,null,null,0,{"$f":"IF(N4212=0,\"\",MAX(O$15:O4211)+1)","v":""},""]
[null,null,null,null,null,null,null,null,null,null,null,null,null,0,{"$f":"IF(N4213=0,\"\",MAX(O$15:O4212)+1)","v":""},""]
[null,null,null,null,null,null,null,null,null,null,null,null,null,0,{"$f":"IF(N4214=0,\"\",MAX(O$15:O4213)+1)","v":""},""]
[null,null,null,null,null,null,null,null,null,null,null,null,null,0,{"$f":"IF(N4215=0,\"\",MAX(O$15:O4214)+1)","v":""},""]
[null,null,null,null,null,null,null,null,null,null,null,null,null,0,{"$f":"IF(N4216=0,\"\",MAX(O$15:O4215)+1)","v":""},""]
[null,null,null,null,null,null,null,null,null,null,null,null,null,0,{"$f":"IF(N4217=0,\"\",MAX(O$15:O4216)+1)","v":""},""]
[null,null,null,null,null,null,null,null,null,null,null,null,null,{"$f":"IFERROR(M4218*L4218/1000,\"\")","v":0},{"$f":"IF(N4218=0,\"\",MAX(O$15:O4217)+1)","v":""},""]
[null,null,null,null,null,null,null,null,null,null,null,null,null,0,{"$f":"IF(N4219=0,\"\",MAX(O$15:O4218)+1)","v":""},""]
[null,null,null,null,null,null,null,null,null,null,null,null,null,0,{"$f":"IF(N4220=0,\"\",MAX(O$15:O4219)+1)","v":""},""]
[null,null,null,null,null,null,null,null,null,null,null,null,null,0,{"$f":"IF(N4221=0,\"\",MAX(O$15:O4220)+1)","v":""},""]
[null,null,null,null,null,null,null,null,null,null,null,null,null,0,{"$f":"IF(N4222=0,\"\",MAX(O$15:O4221)+1)","v":""},""]
[null,null,null,null,null,null,null,null,null,null,null,null,null,0,{"$f":"IF(N4223=0,\"\",MAX(O$15:O4222)+1)","v":""},""]
[null,null,null,null,null,null,null,null,null,null,null,null,null,0,{"$f":"IF(N4224=0,\"\",MAX(O$15:O4223)+1)","v":""},""]
[null,null,null,null,null,null,null,null,null,null,null,null,null,0,{"$f":"IF(N4225=0,\"\",MAX(O$15:O4224)+1)","v":""},""]
[null,null,null,null,null,null,null,null,null,null,null,null,null,0,{"$f":"IF(N4226=0,\"\",MAX(O$15:O4225)+1)","v":""},""]
[null,null,null,null,null,null,null,null,null,null,null,null,null,0,{"$f":"IF(N4227=0,\"\",MAX(O$15:O4226)+1)","v":""},""]
[null,null,null,null,null,null,null,null,null,null,null,null,null,0,{"$f":"IF(N4228=0,\"\",MAX(O$15:O4227)+1)","v":""},""]
[null,null,null,null,null,null,null,null,null,null,null,null,null,0,{"$f":"IF(N4229=0,\"\",MAX(O$15:O4228)+1)","v":""},""]
[null,null,null,null,null,null,null,null,null,null,null,null,null,0,{"$f":"IF(N4230=0,\"\",MAX(O$15:O4229)+1)","v":""},""]
[null,null,null,null,null,null,null,null,null,null,null,null,null,0,{"$f":"IF(N4231=0,\"\",MAX(O$15:O4230)+1)","v":""},""]
[null,null,null,null,null,null,null,null,null,null,null,null,null,0,{"$f":"IF(N4232=0,\"\",MAX(O$15:O4231)+1)","v":""},""]
[null,null,null,null,null,null,null,null,null,null,null,null,null,0,{"$f":"IF(N4233=0,\"\",MAX(O$15:O4232)+1)","v":""},""]
[null,null,null,null,null,null,null,null,null,null,null,null,null,0,{"$f":"IF(N4234=0,\"\",MAX(O$15:O4233)+1)","v":""},""]
[null,null,null,null,null,null,null,null,null,null,null,null,null,0,{"$f":"IF(N4235=0,\"\",MAX(O$15:O4234)+1)","v":""},""]
[null,null,null,null,null,null,null,null,null,null,null,null,null,0,{"$f":"IF(N4236=0,\"\",MAX(O$15:O4235)+1)","v":""},""]
[null,null,null,null,null,null,null,null,null,null,null,null,null,0,{"$f":"IF(N4237=0,\"\",MAX(O$15:O4236)+1)","v":""},""]
[null,null,null,null,null,null,null,null,null,null,null,null,null,0,{"$f":"IF(N4238=0,\"\",MAX(O$15:O4237)+1)","v":""},""]
[null,null,null,null,null,null,null,null,null,null,null,null,null,0,{"$f":"IF(N4239=0,\"\",MAX(O$15:O4238)+1)","v":""},""]
[null,null,null,null,null,null,null,null,null,null,null,null,null,0,{"$f":"IF(N4240=0,\"\",MAX(O$15:O4239)+1)","v":""},{"$f":"IFERROR(INDEX($N$15:$N$5014,MATCH(ROW()-ROW($O$14),$O$15:$O$5014,0)),\"\")","v":""}]
[null,null,null,null,null,null,null,null,null,null,null,null,null,0,{"$f":"IF(N4241=0,\"\",MAX(O$15:O4240)+1)","v":""},""]
[null,null,null,null,null,null,null,null,null,null,null,null,null,0,{"$f":"IF(N4242=0,\"\",MAX(O$15:O4241)+1)","v":""},""]
[null,null,null,null,null,null,null,null,null,null,null,null,null,0,{"$f":"IF(N4243=0,\"\",MAX(O$15:O4242)+1)","v":""},""]
[null,null,null,null,null,null,null,null,null,null,null,null,null,0,{"$f":"IF(N4244=0,\"\",MAX(O$15:O4243)+1)","v":""},""]
[null,null,null,null,null,null,null,null,null,null,null,null,null,0,{"$f":"IF(N4245=0,\"\",MAX(O$15:O4244)+1)","v":""},""]
[null,null,null,null,null,null,null,null,null,null,null,null,null,0,{"$f":"IF(N4246=0,\"\",MAX(O$15:O4245)+1)","v":""},""]
[null,null,null,null,null,null,null,null,null,null,null,null,null,0,{"$f":"IF(N4247=0,\"\",MAX(O$15:O4246)+1)","v":""},""]
[null,null,null,null,null,null,null,null,null,null,null,null,null,0,{"$f":"IF(N4248=0,\"\",MAX(O$15:O4247)+1)","v":""},""]
[null,null,null,null,null,null,null,null,null,null,null,null,null,0,{"$f":"IF(N4249=0,\"\",MAX(O$15:O4248)+1)","v":""},""]
[null,null,null,null,null,null,null,null,null,null,null,null,null,0,{"$f":"IF(N4250=0,\"\",MAX(O$15:O4249)+1)","v":""},""]
[null,null,null,null,null,null,null,null,null,null,null,null,null,0,{"$f":"IF(N4251=0,\"\",MAX(O$15:O4250)+1)","v":""},""]
[null,null,null,null,null,null,null,null,null,null,null,null,null,0,{"$f":"IF(N4252=0,\"\",MAX(O$15:O4251)+1)","v":""},""]
[null,null,null,null,null,null,null,null,null,null,null,null,null,0,{"$f":"IF(N4253=0,\"\",MAX(O$15:O4252)+1)","v":""},""]
[null,null,null,null,null,null,null,null,null,null,null,null,null,0,{"$f":"IF(N4254=0,\"\",MAX(O$15:O4253)+1)","v":""},""]
[null,null,null,null,null,null,null,null,null,null,null,null,null,0,{"$f":"IF(N4255=0,\"\",MAX(O$15:O4254)+1)","v":""},""]
[null,null,null,null,null,null,null,null,null,null,null,null,null,0,{"$f":"IF(N4256=0,\"\",MAX(O$15:O4255)+1)","v":""},""]
[null,null,null,null,null,null,null,null,null,null,null,null,null,0,{"$f":"IF(N4257=0,\"\",MAX(O$15:O4256)+1)","v":""},""]
[null,null,null,null,null,null,null,null,null,null,null,null,null,0,{"$f":"IF(N4258=0,\"\",MAX(O$15:O4257)+1)","v":""},""]
[null,null,null,null,null,null,null,null,null,null,null,null,null,0,{"$f":"IF(N4259=0,\"\",MAX(O$15:O4258)+1)","v":""},""]
[null,null,null,null,null,null,null,null,null,null,null,null,null,0,{"$f":"IF(N4260=0,\"\",MAX(O$15:O4259)+1)","v":""},""]
[null,null,null,null,null,null,null,null,null,null,null,null,null,0,{"$f":"IF(N4261=0,\"\",MAX(O$15:O4260)+1)","v":""},""]
[null,null,null,null,null,null,null,null,null,null,null,null,null,0,{"$f":"IF(N4262=0,\"\",MAX(O$15:O4261)+1)","v":""},""]
[null,null,null,null,null,null,null,null,null,null,null,null,null,0,{"$f":"IF(N4263=0,\"\",MAX(O$15:O4262)+1)","v":""},""]
[null,null,null,null,null,null,null,null,null,null,null,null,null,0,{"$f":"IF(N4264=0,\"\",MAX(O$15:O4263)+1)","v":""},""]
[null,null,null,null,null,null,null,null,null,null,null,null,null,0,{"$f":"IF(N4265=0,\"\",MAX(O$15:O4264)+1)","v":""},""]
[null,null,null,null,null,null,null,null,null,null,null,null,null,0,{"$f":"IF(N4266=0,\"\",MAX(O$15:O4265)+1)","v":""},""]
[null,null,null,null,null,null,null,null,null,null,null,null,null,0,{"$f":"IF(N4267=0,\"\",MAX(O$15:O4266)+1)","v":""},""]
[null,null,null,null,null,null,null,null,null,null,null,null,null,0,{"$f":"IF(N4268=0,\"\",MAX(O$15:O4267)+1)","v":""},""]
[null,null,null,null,null,null,null,null,null,null,null,null,null,0,{"$f":"IF(N4269=0,\"\",MAX(O$15:O4268)+1)","v":""},""]
[null,null,null,null,null,null,null,null,null,null,null,null,null,0,{"$f":"IF(N4270=0,\"\",MAX(O$15:O4269)+1)","v":""},""]
[null,null,null,null,null,null,null,null,null,null,null,null,null,0,{"$f":"IF(N4271=0,\"\",MAX(O$15:O4270)+1)","v":""},""]
[null,null,null,null,null,null,null,null,null,null,null,null,null,0,{"$f":"IF(N4272=0,\"\",MAX(O$15:O4271)+1)","v":""},""]
[null,null,null,null,null,null,null,null,null,null,null,null,null,0,{"$f":"IF(N4273=0,\"\",MAX(O$15:O4272)+1)","v":""},""]
[null,null,null,null,null,null,null,null,null,null,null,null,null,0,{"$f":"IF(N4274=0,\"\",MAX(O$15:O4273)+1)","v":""},""]
[null,null,null,null,null,null,null,null,null,null,null,null,null,0,{"$f":"IF(N4275=0,\"\",MAX(O$15:O4274)+1)","v":""},""]
[null,null,null,null,null,null,null,null,null,null,null,null,null,0,{"$f":"IF(N4276=0,\"\",MAX(O$15:O4275)+1)","v":""},""]
[null,null,null,null,null,null,null,null,null,null,null,null,null,0,{"$f":"IF(N4277=0,\"\",MAX(O$15:O4276)+1)","v":""},""]
[null,null,null,null,null,null,null,null,null,null,null,null,null,0,{"$f":"IF(N4278=0,\"\",MAX(O$15:O4277)+1)","v":""},""]
[null,null,null,null,null,null,null,null,null,null,null,null,null,0,{"$f":"IF(N4279=0,\"\",MAX(O$15:O4278)+1)","v":""},""]
[null,null,null,null,null,null,null,null,null,null,null,null,null,0,{"$f":"IF(N4280=0,\"\",MAX(O$15:O4279)+1)","v":""},""]
[null,null,null,null,null,null,null,null,null,null,null,null,null,0,{"$f":"IF(N4281=0,\"\",MAX(O$15:O4280)+1)","v":""},""]
[null,null,null,null,null,null,null,null,null,null,null,null,null,{"$f":"IFERROR(M4282*L4282/1000,\"\")","v":0},{"$f":"IF(N4282=0,\"\",MAX(O$15:O4281)+1)","v":""},""]
[null,null,null,null,null,null,null,null,null,null,null,null,null,0,{"$f":"IF(N4283=0,\"\",MAX(O$15:O4282)+1)","v":""},""]
[null,null,null,null,null,null,null,null,null,null,null,null,null,0,{"$f":"IF(N4284=0,\"\",MAX(O$15:O4283)+1)","v":""},""]
[null,null,null,null,null,null,null,null,null,null,null,null,null,0,{"$f":"IF(N4285=0,\"\",MAX(O$15:O4284)+1)","v":""},""]
[null,null,null,null,null,null,null,null,null,null,null,null,null,0,{"$f":"IF(N4286=0,\"\",MAX(O$15:O4285)+1)","v":""},""]
[null,null,null,null,null,null,null,null,null,null,null,null,null,0,{"$f":"IF(N4287=0,\"\",MAX(O$15:O4286)+1)","v":""},""]
[null,null,null,null,null,null,null,null,null,null,null,null,null,0,{"$f":"IF(N4288=0,\"\",MAX(O$15:O4287)+1)","v":""},""]
[null,null,null,null,null,null,null,null,null,null,null,null,null,0,{"$f":"IF(N4289=0,\"\",MAX(O$15:O4288)+1)","v":""},""]
[null,null,null,null,null,null,null,null,null,null,null,null,null,0,{"$f":"IF(N4290=0,\"\",MAX(O$15:O4289)+1)","v":""},""]
[null,null,null,null,null,null,null,null,null,null,null,null,null,0,{"$f":"IF(N4291=0,\"\",MAX(O$15:O4290)+1)","v":""},""]
[null,null,null,null,null,null,null,null,null,null,null,null,null,0,{"$f":"IF(N4292=0,\"\",MAX(O$15:O4291)+1)","v":""},""]
[null,null,null,null,null,null,null,null,null,null,null,null,null,0,{"$f":"IF(N4293=0,\"\",MAX(O$15:O4292)+1)","v":""},""]
[null,null,null,null,null,null,null,null,null,null,null,null,null,0,{"$f":"IF(N4294=0,\"\",MAX(O$15:O4293)+1)","v":""},""]
[null,null,null,null,null,null,null,null,null,null,null,null,null,0,{"$f":"IF(N4295=0,\"\",MAX(O$15:O4294)+1)","v":""},""]
[null,null,null,null,null,null,null,null,null,null,null,null,null,0,{"$f":"IF(N4296=0,\"\",MAX(O$15:O4295)+1)","v":""},""]
[null,null,null,null,null,null,null,null,null,null,null,null,null,0,{"$f":"IF(N4297=0,\"\",MAX(O$15:O4296)+1)","v":""},""]
[null,null,null,null,null,null,null,null,null,null,null,null,null,0,{"$f":"IF(N4298=0,\"\",MAX(O$15:O4297)+1)","v":""},""]
[null,null,null,null,null,null,null,null,null,null,null,null,null,0,{"$f":"IF(N4299=0,\"\",MAX(O$15:O4298)+1)","v":""},""]
[null,null,null,null,null,null,null,null,null,null,null,null,null,0,{"$f":"IF(N4300=0,\"\",MAX(O$15:O4299)+1)","v":""},""]
[null,null,null,null,null,null,null,null,null,null,null,null,null,0,{"$f":"IF(N4301=0,\"\",MAX(O$15:O4300)+1)","v":""},""]
[null,null,null,null,null,null,null,null,null,null,null,null,null,0,{"$f":"IF(N4302=0,\"\",MAX(O$15:O4301)+1)","v":""},""]
[null,null,null,null,null,null,null,null,null,null,null,null,null,0,{"$f":"IF(N4303=0,\"\",MAX(O$15:O4302)+1)","v":""},""]
[null,null,null,null,null,null,null,null,null,null,null,null,null,0,{"$f":"IF(N4304=0,\"\",MAX(O$15:O4303)+1)","v":""},{"$f":"IFERROR(INDEX($N$15:$N$5014,MATCH(ROW()-ROW($O$14),$O$15:$O$5014,0)),\"\")","v":""}]
[null,null,null,null,null,null,null,null,null,null,null,null,null,0,{"$f":"IF(N4305=0,\"\",MAX(O$15:O4304)+1)","v":""},""]
[null,null,null,null,null,null,null,null,null,null,null,null,null,0,{"$f":"IF(N4306=0,\"\",MAX(O$15:O4305)+1)","v":""},""]
[null,null,null,null,null,null,null,null,null,null,null,null,null,0,{"$f":"IF(N4307=0,\"\",MAX(O$15:O4306)+1)","v":""},""]
[null,null,null,null,null,null,null,null,null,null,null,null,null,0,{"$f":"IF(N4308=0,\"\",MAX(O$15:O4307)+1)","v":""},""]
[null,null,null,null,null,null,null,null,null,null,null,null,null,0,{"$f":"IF(N4309=0,\"\",MAX(O$15:O4308)+1)","v":""},""]
[null,null,null,null,null,null,null,null,null,null,null,null,null,0,{"$f":"IF(N4310=0,\"\",MAX(O$15:O4309)+1)","v":""},""]
[null,null,null,null,null,null,null,null,null,null,null,null,null,0,{"$f":"IF(N4311=0,\"\",MAX(O$15:O4310)+1)","v":""},""]
[null,null,null,null,null,null,null,null,null,null,null,null,null,0,{"$f":"IF(N4312=0,\"\",MAX(O$15:O4311)+1)","v":""},""]
[null,null,null,null,null,null,null,null,null,null,null,null,null,0,{"$f":"IF(N4313=0,\"\",MAX(O$15:O4312)+1)","v":""},""]
[null,null,null,null,null,null,null,null,null,null,null,null,null,0,{"$f":"IF(N4314=0,\"\",MAX(O$15:O4313)+1)","v":""},""]
[null,null,null,null,null,null,null,null,null,null,null,null,null,0,{"$f":"IF(N4315=0,\"\",MAX(O$15:O4314)+1)","v":""},""]
[null,null,null,null,null,null,null,null,null,null,null,null,null,0,{"$f":"IF(N4316=0,\"\",MAX(O$15:O4315)+1)","v":""},""]
[null,null,null,null,null,null,null,null,null,null,null,null,null,0,{"$f":"IF(N4317=0,\"\",MAX(O$15:O4316)+1)","v":""},""]
[null,null,null,null,null,null,null,null,null,null,null,null,null,0,{"$f":"IF(N4318=0,\"\",MAX(O$15:O4317)+1)","v":""},""]
[null,null,null,null,null,null,null,null,null,null,null,null,null,0,{"$f":"IF(N4319=0,\"\",MAX(O$15:O4318)+1)","v":""},""]
[null,null,null,null,null,null,null,null,null,null,null,null,null,0,{"$f":"IF(N4320=0,\"\",MAX(O$15:O4319)+1)","v":""},""]
[null,null,null,null,null,null,null,null,null,null,null,null,null,0,{"$f":"IF(N4321=0,\"\",MAX(O$15:O4320)+1)","v":""},""]
[null,null,null,null,null,null,null,null,null,null,null,null,null,0,{"$f":"IF(N4322=0,\"\",MAX(O$15:O4321)+1)","v":""},""]
[null,null,null,null,null,null,null,null,null,null,null,null,null,0,{"$f":"IF(N4323=0,\"\",MAX(O$15:O4322)+1)","v":""},""]
[null,null,null,null,null,null,null,null,null,null,null,null,null,0,{"$f":"IF(N4324=0,\"\",MAX(O$15:O4323)+1)","v":""},""]
[null,null,null,null,null,null,null,null,null,null,null,null,null,0,{"$f":"IF(N4325=0,\"\",MAX(O$15:O4324)+1)","v":""},""]
[null,null,null,null,null,null,null,null,null,null,null,null,null,0,{"$f":"IF(N4326=0,\"\",MAX(O$15:O4325)+1)","v":""},""]
[null,null,null,null,null,null,null,null,null,null,null,null,null,0,{"$f":"IF(N4327=0,\"\",MAX(O$15:O4326)+1)","v":""},""]
[null,null,null,null,null,null,null,null,null,null,null,null,null,0,{"$f":"IF(N4328=0,\"\",MAX(O$15:O4327)+1)","v":""},""]
[null,null,null,null,null,null,null,null,null,null,null,null,null,0,{"$f":"IF(N4329=0,\"\",MAX(O$15:O4328)+1)","v":""},""]
[null,null,null,null,null,null,null,null,null,null,null,null,null,0,{"$f":"IF(N4330=0,\"\",MAX(O$15:O4329)+1)","v":""},""]
[null,null,null,null,null,null,null,null,null,null,null,null,null,0,{"$f":"IF(N4331=0,\"\",MAX(O$15:O4330)+1)","v":""},""]
[null,null,null,null,null,null,null,null,null,null,null,null,null,0,{"$f":"IF(N4332=0,\"\",MAX(O$15:O4331)+1)","v":""},""]
[null,null,null,null,null,null,null,null,null,null,null,null,null,0,{"$f":"IF(N4333=0,\"\",MAX(O$15:O4332)+1)","v":""},""]
[null,null,null,null,null,null,null,null,null,null,null,null,null,0,{"$f":"IF(N4334=0,\"\",MAX(O$15:O4333)+1)","v":""},""]
[null,null,null,null,null,null,null,null,null,null,null,null,null,0,{"$f":"IF(N4335=0,\"\",MAX(O$15:O4334)+1)","v":""},""]
[null,null,null,null,null,null,null,null,null,null,null,null,null,0,{"$f":"IF(N4336=0,\"\",MAX(O$15:O4335)+1)","v":""},""]
[null,null,null,null,null,null,null,null,null,null,null,null,null,0,{"$f":"IF(N4337=0,\"\",MAX(O$15:O4336)+1)","v":""},""]
[null,null,null,null,null,null,null,null,null,null,null,null,null,0,{"$f":"IF(N4338=0,\"\",MAX(O$15:O4337)+1)","v":""},""]
[null,null,null,null,null,null,null,null,null,null,null,null,null,0,{"$f":"IF(N4339=0,\"\",MAX(O$15:O4338)+1)","v":""},""]
[null,null,null,null,null,null,null,null,null,null,null,null,null,0,{"$f":"IF(N4340=0,\"\",MAX(O$15:O4339)+1)","v":""},""]
[null,null,null,null,null,null,null,null,null,null,null,null,null,0,{"$f":"IF(N4341=0,\"\",MAX(O$15:O4340)+1)","v":""},""]
[null,null,null,null,null,null,null,null,null,null,null,null,null,0,{"$f":"IF(N4342=0,\"\",MAX(O$15:O4341)+1)","v":""},""]
[null,null,null,null,null,null,null,null,null,null,null,null,null,0,{"$f":"IF(N4343=0,\"\",MAX(O$15:O4342)+1)","v":""},""]
[null,null,null,null,null,null,null,null,null,null,null,null,null,0,{"$f":"IF(N4344=0,\"\",MAX(O$15:O4343)+1)","v":""},""]
[null,null,null,null,null,null,null,null,null,null,null,null,null,0,{"$f":"IF(N4345=0,\"\",MAX(O$15:O4344)+1)","v":""},""]
[null,null,null,null,null,null,null,null,null,null,null,null,null,{"$f":"IFERROR(M4346*L4346/1000,\"\")","v":0},{"$f":"IF(N4346=0,\"\",MAX(O$15:O4345)+1)","v":""},""]
[null,null,null,null,null,null,null,null,null,null,null,null,null,0,{"$f":"IF(N4347=0,\"\",MAX(O$15:O4346)+1)","v":""},""]
[null,null,null,null,null,null,null,null,null,null,null,null,null,0,{"$f":"IF(N4348=0,\"\",MAX(O$15:O4347)+1)","v":""},""]
[null,null,null,null,null,null,null,null,null,null,null,null,null,0,{"$f":"IF(N4349=0,\"\",MAX(O$15:O4348)+1)","v":""},""]
[null,null,null,null,null,null,null,null,null,null,null,null,null,0,{"$f":"IF(N4350=0,\"\",MAX(O$15:O4349)+1)","v":""},""]
[null,null,null,null,null,null,null,null,null,null,null,null,null,0,{"$f":"IF(N4351=0,\"\",MAX(O$15:O4350)+1)","v":""},""]
[null,null,null,null,null,null,null,null,null,null,null,null,null,0,{"$f":"IF(N4352=0,\"\",MAX(O$15:O4351)+1)","v":""},""]
[null,null,null,null,null,null,null,null,null,null,null,null,null,0,{"$f":"IF(N4353=0,\"\",MAX(O$15:O4352)+1)","v":""},""]
[null,null,null,null,null,null,null,null,null,null,null,null,null,0,{"$f":"IF(N4354=0,\"\",MAX(O$15:O4353)+1)","v":""},""]
[null,null,null,null,null,null,null,null,null,null,null,null,null,0,{"$f":"IF(N4355=0,\"\",MAX(O$15:O4354)+1)","v":""},""]
[null,null,null,null,null,null,null,null,null,null,null,null,null,0,{"$f":"IF(N4356=0,\"\",MAX(O$15:O4355)+1)","v":""},""]
[null,null,null,null,null,null,null,null,null,null,null,null,null,0,{"$f":"IF(N4357=0,\"\",MAX(O$15:O4356)+1)","v":""},""]
[null,null,null,null,null,null,null,null,null,null,null,null,null,0,{"$f":"IF(N4358=0,\"\",MAX(O$15:O4357)+1)","v":""},""]
[null,null,null,null,null,null,null,null,null,null,null,null,null,0,{"$f":"IF(N4359=0,\"\",MAX(O$15:O4358)+1)","v":""},""]
[null,null,null,null,null,null,null,null,null,null,null,null,null,0,{"$f":"IF(N4360=0,\"\",MAX(O$15:O4359)+1)","v":""},""]
[null,null,null,null,null,null,null,null,null,null,null,null,null,0,{"$f":"IF(N4361=0,\"\",MAX(O$15:O4360)+1)","v":""},""]
[null,null,null,null,null,null,null,null,null,null,null,null,null,0,{"$f":"IF(N4362=0,\"\",MAX(O$15:O4361)+1)","v":""},""]
[null,null,null,null,null,null,null,null,null,null,null,null,null,0,{"$f":"IF(N4363=0,\"\",MAX(O$15:O4362)+1)","v":""},""]
[null,null,null,null,null,null,null,null,null,null,null,null,null,0,{"$f":"IF(N4364=0,\"\",MAX(O$15:O4363)+1)","v":""},""]
[null,null,null,null,null,null,null,null,null,null,null,null,null,0,{"$f":"IF(N4365=0,\"\",MAX(O$15:O4364)+1)","v":""},""]
[null,null,null,null,null,null,null,null,null,null,null,null,null,0,{"$f":"IF(N4366=0,\"\",MAX(O$15:O4365)+1)","v":""},""]
[null,null,null,null,null,null,null,null,null,null,null,null,null,0,{"$f":"IF(N4367=0,\"\",MAX(O$15:O4366)+1)","v":""},""]
[null,null,null,null,null,null,null,null,null,null,null,null,null,0,{"$f":"IF(N4368=0,\"\",MAX(O$15:O4367)+1)","v":""},{"$f":"IFERROR(INDEX($N$15:$N$5014,MATCH(ROW()-ROW($O$14),$O$15:$O$5014,0)),\"\")","v":""}]
[null,null,null,null,null,null,null,null,null,null,null,null,null,0,{"$f":"IF(N4369=0,\"\",MAX(O$15:O4368)+1)","v":""},""]
[null,null,null,null,null,null,null,null,null,null,null,null,null,0,{"$f":"IF(N4370=0,\"\",MAX(O$15:O4369)+1)","v":""},""]
[null,null,null,null,null,null,null,null,null,null,null,null,null,0,{"$f":"IF(N4371=0,\"\",MAX(O$15:O4370)+1)","v":""},""]
[null,null,null,null,null,null,null,null,null,null,null,null,null,0,{"$f":"IF(N4372=0,\"\",MAX(O$15:O4371)+1)","v":""},""]
[null,null,null,null,null,null,null,null,null,null,null,null,null,0,{"$f":"IF(N4373=0,\"\",MAX(O$15:O4372)+1)","v":""},""]
[null,null,null,null,null,null,null,null,null,null,null,null,null,0,{"$f":"IF(N4374=0,\"\",MAX(O$15:O4373)+1)","v":""},""]
[null,null,null,null,null,null,null,null,null,null,null,null,null,0,{"$f":"IF(N4375=0,\"\",MAX(O$15:O4374)+1)","v":""},""]
[null,null,null,null,null,null,null,null,null,null,null,null,null,0,{"$f":"IF(N4376=0,\"\",MAX(O$15:O4375)+1)","v":""},""]
[null,null,null,null,null,null,null,null,null,null,null,null,null,0,{"$f":"IF(N4377=0,\"\",MAX(O$15:O4376)+1)","v":""},""]
[null,null,null,null,null,null,null,null,null,null,null,null,null,0,{"$f":"IF(N4378=0,\"\",MAX(O$15:O4377)+1)","v":""},""]
[null,null,null,null,null,null,null,null,null,null,null,null,null,0,{"$f":"IF(N4379=0,\"\",MAX(O$15:O4378)+1)","v":""},""]
[null,null,null,null,null,null,null,null,null,null,null,null,null,0,{"$f":"IF(N4380=0,\"\",MAX(O$15:O4379)+1)","v":""},""]
[null,null,null,null,null,null,null,null,null,null,null,null,null,0,{"$f":"IF(N4381=0,\"\",MAX(O$15:O4380)+1)","v":""},""]
[null,null,null,null,null,null,null,null,null,null,null,null,null,0,{"$f":"IF(N4382=0,\"\",MAX(O$15:O4381)+1)","v":""},""]
[null,null,null,null,null,null,null,null,null,null,null,null,null,0,{"$f":"IF(N4383=0,\"\",MAX(O$15:O4382)+1)","v":""},""]
[null,null,null,null,null,null,null,null,null,null,null,null,null,0,{"$f":"IF(N4384=0,\"\",MAX(O$15:O4383)+1)","v":""},""]
[null,null,null,null,null,null,null,null,null,null,null,null,null,0,{"$f":"IF(N4385=0,\"\",MAX(O$15:O4384)+1)","v":""},""]
[null,null,null,null,null,null,null,null,null,null,null,null,null,0,{"$f":"IF(N4386=0,\"\",MAX(O$15:O4385)+1)","v":""},""]
[null,null,null,null,null,null,null,null,null,null,null,null,null,0,{"$f":"IF(N4387=0,\"\",MAX(O$15:O4386)+1)","v":""},""]
[null,null,null,null,null,null,null,null,null,null,null,null,null,0,{"$f":"IF(N4388=0,\"\",MAX(O$15:O4387)+1)","v":""},""]
[null,null,null,null,null,null,null,null,null,null,null,null,null,0,{"$f":"IF(N4389=0,\"\",MAX(O$15:O4388)+1)","v":""},""]
[null,null,null,null,null,null,null,null,null,null,null,null,null,0,{"$f":"IF(N4390=0,\"\",MAX(O$15:O4389)+1)","v":""},""]
[null,null,null,null,null,null,null,null,null,null,null,null,null,0,{"$f":"IF(N4391=0,\"\",MAX(O$15:O4390)+1)","v":""},""]
[null,null,null,null,null,null,null,null,null,null,null,null,null,0,{"$f":"IF(N4392=0,\"\",MAX(O$15:O4391)+1)","v":""},""]
[null,null,null,null,null,null,null,null,null,null,null,null,null,0,{"$f":"IF(N4393=0,\"\",MAX(O$15:O4392)+1)","v":""},""]
[null,null,null,null,null,null,null,null,null,null,null,null,null,0,{"$f":"IF(N4394=0,\"\",MAX(O$15:O4393)+1)","v":""},""]
[null,null,null,null,null,null,null,null,null,null,null,null,null,0,{"$f":"IF(N4395=0,\"\",MAX(O$15:O4394)+1)","v":""},""]
[null,null,null,null,null,null,null,null,null,null,null,null,null,0,{"$f":"IF(N4396=0,\"\",MAX(O$15:O4395)+1)","v":""},""]
[null,null,null,null,null,null,null,null,null,null,null,null,null,0,{"$f":"IF(N4397=0,\"\",MAX(O$15:O4396)+1)","v":""},""]
[null,null,null,null,null,null,null,null,null,null,null,null,null,0,{"$f":"IF(N4398=0,\"\",MAX(O$15:O4397)+1)","v":""},""]
[null,null,null,null,null,null,null,null,null,null,null,null,null,0,{"$f":"IF(N4399=0,\"\",MAX(O$15:O4398)+1)","v":""},""]
[null,null,null,null,null,null,null,null,null,null,null,null,null,0,{"$f":"IF(N4400=0,\"\",MAX(O$15:O4399)+1)","v":""},""]
[null,null,null,null,null,null,null,null,null,null,null,null,null,0,{"$f":"IF(N4401=0,\"\",MAX(O$15:O4400)+1)","v":""},""]
[null,null,null,null,null,null,null,null,null,null,null,null,null,0,{"$f":"IF(N4402=0,\"\",MAX(O$15:O4401)+1)","v":""},""]
[null,null,null,null,null,null,null,null,null,null,null,null,null,0,{"$f":"IF(N4403=0,\"\",MAX(O$15:O4402)+1)","v":""},""]
[null,null,null,null,null,null,null,null,null,null,null,null,null,0,{"$f":"IF(N4404=0,\"\",MAX(O$15:O4403)+1)","v":""},""]
[null,null,null,null,null,null,null,null,null,null,null,null,null,0,{"$f":"IF(N4405=0,\"\",MAX(O$15:O4404)+1)","v":""},""]
[null,null,null,null,null,null,null,null,null,null,null,null,null,0,{"$f":"IF(N4406=0,\"\",MAX(O$15:O4405)+1)","v":""},""]
[null,null,null,null,null,null,null,null,null,null,null,null,null,0,{"$f":"IF(N4407=0,\"\",MAX(O$15:O4406)+1)","v":""},""]
[null,null,null,null,null,null,null,null,null,null,null,null,null,0,{"$f":"IF(N4408=0,\"\",MAX(O$15:O4407)+1)","v":""},""]
[null,null,null,null,null,null,null,null,null,null,null,null,null,0,{"$f":"IF(N4409=0,\"\",MAX(O$15:O4408)+1)","v":""},""]
[null,null,null,null,null,null,null,null,null,null,null,null,null,{"$f":"IFERROR(M4410*L4410/1000,\"\")","v":0},{"$f":"IF(N4410=0,\"\",MAX(O$15:O4409)+1)","v":""},""]
[null,null,null,null,null,null,null,null,null,null,null,null,null,0,{"$f":"IF(N4411=0,\"\",MAX(O$15:O4410)+1)","v":""},""]
[null,null,null,null,null,null,null,null,null,null,null,null,null,0,{"$f":"IF(N4412=0,\"\",MAX(O$15:O4411)+1)","v":""},""]
[null,null,null,null,null,null,null,null,null,null,null,null,null,0,{"$f":"IF(N4413=0,\"\",MAX(O$15:O4412)+1)","v":""},""]
[null,null,null,null,null,null,null,null,null,null,null,null,null,0,{"$f":"IF(N4414=0,\"\",MAX(O$15:O4413)+1)","v":""},""]
[null,null,null,null,null,null,null,null,null,null,null,null,null,0,{"$f":"IF(N4415=0,\"\",MAX(O$15:O4414)+1)","v":""},""]
[null,null,null,null,null,null,null,null,null,null,null,null,null,0,{"$f":"IF(N4416=0,\"\",MAX(O$15:O4415)+1)","v":""},""]
[null,null,null,null,null,null,null,null,null,null,null,null,null,0,{"$f":"IF(N4417=0,\"\",MAX(O$15:O4416)+1)","v":""},""]
[null,null,null,null,null,null,null,null,null,null,null,null,null,0,{"$f":"IF(N4418=0,\"\",MAX(O$15:O4417)+1)","v":""},""]
[null,null,null,null,null,null,null,null,null,null,null,null,null,0,{"$f":"IF(N4419=0,\"\",MAX(O$15:O4418)+1)","v":""},""]
[null,null,null,null,null,null,null,null,null,null,null,null,null,0,{"$f":"IF(N4420=0,\"\",MAX(O$15:O4419)+1)","v":""},""]
[null,null,null,null,null,null,null,null,null,null,null,null,null,0,{"$f":"IF(N4421=0,\"\",MAX(O$15:O4420)+1)","v":""},""]
[null,null,null,null,null,null,null,null,null,null,null,null,null,0,{"$f":"IF(N4422=0,\"\",MAX(O$15:O4421)+1)","v":""},""]
[null,null,null,null,null,null,null,null,null,null,null,null,null,0,{"$f":"IF(N4423=0,\"\",MAX(O$15:O4422)+1)","v":""},""]
[null,null,null,null,null,null,null,null,null,null,null,null,null,0,{"$f":"IF(N4424=0,\"\",MAX(O$15:O4423)+1)","v":""},""]
[null,null,null,null,null,null,null,null,null,null,null,null,null,0,{"$f":"IF(N4425=0,\"\",MAX(O$15:O4424)+1)","v":""},""]
[null,null,null,null,null,null,null,null,null,null,null,null,null,0,{"$f":"IF(N4426=0,\"\",MAX(O$15:O4425)+1)","v":""},""]
[null,null,null,null,null,null,null,null,null,null,null,null,null,0,{"$f":"IF(N4427=0,\"\",MAX(O$15:O4426)+1)","v":""},""]
[null,null,null,null,null,null,null,null,null,null,null,null,null,0,{"$f":"IF(N4428=0,\"\",MAX(O$15:O4427)+1)","v":""},""]
[null,null,null,null,null,null,null,null,null,null,null,null,null,0,{"$f":"IF(N4429=0,\"\",MAX(O$15:O4428)+1)","v":""},""]
[null,null,null,null,null,null,null,null,null,null,null,null,null,0,{"$f":"IF(N4430=0,\"\",MAX(O$15:O4429)+1)","v":""},""]
[null,null,null,null,null,null,null,null,null,null,null,null,null,0,{"$f":"IF(N4431=0,\"\",MAX(O$15:O4430)+1)","v":""},""]
[null,null,null,null,null,null,null,null,null,null,null,null,null,0,{"$f":"IF(N4432=0,\"\",MAX(O$15:O4431)+1)","v":""},{"$f":"IFERROR(INDEX($N$15:$N$5014,MATCH(ROW()-ROW($O$14),$O$15:$O$5014,0)),\"\")","v":""}]
[null,null,null,null,null,null,null,null,null,null,null,null,null,0,{"$f":"IF(N4433=0,\"\",MAX(O$15:O4432)+1)","v":""},""]
[null,null,null,null,null,null,null,null,null,null,null,null,null,0,{"$f":"IF(N4434=0,\"\",MAX(O$15:O4433)+1)","v":""},""]
[null,null,null,null,null,null,null,null,null,null,null,null,null,0,{"$f":"IF(N4435=0,\"\",MAX(O$15:O4434)+1)","v":""},""]
[null,null,null,null,null,null,null,null,null,null,null,null,null,0,{"$f":"IF(N4436=0,\"\",MAX(O$15:O4435)+1)","v":""},""]
[null,null,null,null,null,null,null,null,null,null,null,null,null,0,{"$f":"IF(N4437=0,\"\",MAX(O$15:O4436)+1)","v":""},""]
[null,null,null,null,null,null,null,null,null,null,null,null,null,0,{"$f":"IF(N4438=0,\"\",MAX(O$15:O4437)+1)","v":""},""]
[null,null,null,null,null,null,null,null,null,null,null,null,null,0,{"$f":"IF(N4439=0,\"\",MAX(O$15:O4438)+1)","v":""},""]
[null,null,null,null,null,null,null,null,null,null,null,null,null,0,{"$f":"IF(N4440=0,\"\",MAX(O$15:O4439)+1)","v":""},""]
[null,null,null,null,null,null,null,null,null,null,null,null,null,0,{"$f":"IF(N4441=0,\"\",MAX(O$15:O4440)+1)","v":""},""]
[null,null,null,null,null,null,null,null,null,null,null,null,null,0,{"$f":"IF(N4442=0,\"\",MAX(O$15:O4441)+1)","v":""},""]
[null,null,null,null,null,null,null,null,null,null,null,null,null,0,{"$f":"IF(N4443=0,\"\",MAX(O$15:O4442)+1)","v":""},""]
[null,null,null,null,null,null,null,null,null,null,null,null,null,0,{"$f":"IF(N4444=0,\"\",MAX(O$15:O4443)+1)","v":""},""]
[null,null,null,null,null,null,null,null,null,null,null,null,null,0,{"$f":"IF(N4445=0,\"\",MAX(O$15:O4444)+1)","v":""},""]
[null,null,null,null,null,null,null,null,null,null,null,null,null,0,{"$f":"IF(N4446=0,\"\",MAX(O$15:O4445)+1)","v":""},""]
[null,null,null,null,null,null,null,null,null,null,null,null,null,0,{"$f":"IF(N4447=0,\"\",MAX(O$15:O4446)+1)","v":""},""]
[null,null,null,null,null,null,null,null,null,null,null,null,null,0,{"$f":"IF(N4448=0,\"\",MAX(O$15:O4447)+1)","v":""},""]
[null,null,null,null,null,null,null,null,null,null,null,null,null,0,{"$f":"IF(N4449=0,\"\",MAX(O$15:O4448)+1)","v":""},""]
[null,null,null,null,null,null,null,null,null,null,null,null,null,0,{"$f":"IF(N4450=0,\"\",MAX(O$15:O4449)+1)","v":""},""]
[null,null,null,null,null,null,null,null,null,null,null,null,null,0,{"$f":"IF(N4451=0,\"\",MAX(O$15:O4450)+1)","v":""},""]
[null,null,null,null,null,null,null,null,null,null,null,null,null,0,{"$f":"IF(N4452=0,\"\",MAX(O$15:O4451)+1)","v":""},""]
[null,null,null,null,null,null,null,null,null,null,null,null,null,0,{"$f":"IF(N4453=0,\"\",MAX(O$15:O4452)+1)","v":""},""]
[null,null,null,null,null,null,null,null,null,null,null,null,null,0,{"$f":"IF(N4454=0,\"\",MAX(O$15:O4453)+1)","v":""},""]
[null,null,null,null,null,null,null,null,null,null,null,null,null,0,{"$f":"IF(N4455=0,\"\",MAX(O$15:O4454)+1)","v":""},""]
[null,null,null,null,null,null,null,null,null,null,null,null,null,0,{"$f":"IF(N4456=0,\"\",MAX(O$15:O4455)+1)","v":""},""]
[null,null,null,null,null,null,null,null,null,null,null,null,null,0,{"$f":"IF(N4457=0,\"\",MAX(O$15:O4456)+1)","v":""},""]
[null,null,null,null,null,null,null,null,null,null,null,null,null,0,{"$f":"IF(N4458=0,\"\",MAX(O$15:O4457)+1)","v":""},""]
[null,null,null,null,null,null,null,null,null,null,null,null,null,0,{"$f":"IF(N4459=0,\"\",MAX(O$15:O4458)+1)","v":""},""]
[null,null,null,null,null,null,null,null,null,null,null,null,null,0,{"$f":"IF(N4460=0,\"\",MAX(O$15:O4459)+1)","v":""},""]
[null,null,null,null,null,null,null,null,null,null,null,null,null,0,{"$f":"IF(N4461=0,\"\",MAX(O$15:O4460)+1)","v":""},""]
[null,null,null,null,null,null,null,null,null,null,null,null,null,0,{"$f":"IF(N4462=0,\"\",MAX(O$15:O4461)+1)","v":""},""]
[null,null,null,null,null,null,null,null,null,null,null,null,null,0,{"$f":"IF(N4463=0,\"\",MAX(O$15:O4462)+1)","v":""},""]
[null,null,null,null,null,null,null,null,null,null,null,null,null,0,{"$f":"IF(N4464=0,\"\",MAX(O$15:O4463)+1)","v":""},""]
[null,null,null,null,null,null,null,null,null,null,null,null,null,0,{"$f":"IF(N4465=0,\"\",MAX(O$15:O4464)+1)","v":""},""]
[null,null,null,null,null,null,null,null,null,null,null,null,null,0,{"$f":"IF(N4466=0,\"\",MAX(O$15:O4465)+1)","v":""},""]
[null,null,null,null,null,null,null,null,null,null,null,null,null,0,{"$f":"IF(N4467=0,\"\",MAX(O$15:O4466)+1)","v":""},""]
[null,null,null,null,null,null,null,null,null,null,null,null,null,0,{"$f":"IF(N4468=0,\"\",MAX(O$15:O4467)+1)","v":""},""]
[null,null,null,null,null,null,null,null,null,null,null,null,null,0,{"$f":"IF(N4469=0,\"\",MAX(O$15:O4468)+1)","v":""},""]
[null,null,null,null,null,null,null,null,null,null,null,null,null,0,{"$f":"IF(N4470=0,\"\",MAX(O$15:O4469)+1)","v":""},""]
[null,null,null,null,null,null,null,null,null,null,null,null,null,0,{"$f":"IF(N4471=0,\"\",MAX(O$15:O4470)+1)","v":""},""]
[null,null,null,null,null,null,null,null,null,null,null,null,null,0,{"$f":"IF(N4472=0,\"\",MAX(O$15:O4471)+1)","v":""},""]
[null,null,null,null,null,null,null,null,null,null,null,null,null,0,{"$f":"IF(N4473=0,\"\",MAX(O$15:O4472)+1)","v":""},""]
[null,null,null,null,null,null,null,null,null,null,null,null,null,{"$f":"IFERROR(M4474*L4474/1000,\"\")","v":0},{"$f":"IF(N4474=0,\"\",MAX(O$15:O4473)+1)","v":""},""]
[null,null,null,null,null,null,null,null,null,null,null,null,null,0,{"$f":"IF(N4475=0,\"\",MAX(O$15:O4474)+1)","v":""},""]
[null,null,null,null,null,null,null,null,null,null,null,null,null,0,{"$f":"IF(N4476=0,\"\",MAX(O$15:O4475)+1)","v":""},""]
[null,null,null,null,null,null,null,null,null,null,null,null,null,0,{"$f":"IF(N4477=0,\"\",MAX(O$15:O4476)+1)","v":""},""]
[null,null,null,null,null,null,null,null,null,null,null,null,null,0,{"$f":"IF(N4478=0,\"\",MAX(O$15:O4477)+1)","v":""},""]
[null,null,null,null,null,null,null,null,null,null,null,null,null,0,{"$f":"IF(N4479=0,\"\",MAX(O$15:O4478)+1)","v":""},""]
[null,null,null,null,null,null,null,null,null,null,null,null,null,0,{"$f":"IF(N4480=0,\"\",MAX(O$15:O4479)+1)","v":""},""]
[null,null,null,null,null,null,null,null,null,null,null,null,null,0,{"$f":"IF(N4481=0,\"\",MAX(O$15:O4480)+1)","v":""},""]
[null,null,null,null,null,null,null,null,null,null,null,null,null,0,{"$f":"IF(N4482=0,\"\",MAX(O$15:O4481)+1)","v":""},""]
[null,null,null,null,null,null,null,null,null,null,null,null,null,0,{"$f":"IF(N4483=0,\"\",MAX(O$15:O4482)+1)","v":""},""]
[null,null,null,null,null,null,null,null,null,null,null,null,null,0,{"$f":"IF(N4484=0,\"\",MAX(O$15:O4483)+1)","v":""},""]
[null,null,null,null,null,null,null,null,null,null,null,null,null,0,{"$f":"IF(N4485=0,\"\",MAX(O$15:O4484)+1)","v":""},""]
[null,null,null,null,null,null,null,null,null,null,null,null,null,0,{"$f":"IF(N4486=0,\"\",MAX(O$15:O4485)+1)","v":""},""]
[null,null,null,null,null,null,null,null,null,null,null,null,null,0,{"$f":"IF(N4487=0,\"\",MAX(O$15:O4486)+1)","v":""},""]
[null,null,null,null,null,null,null,null,null,null,null,null,null,0,{"$f":"IF(N4488=0,\"\",MAX(O$15:O4487)+1)","v":""},""]
[null,null,null,null,null,null,null,null,null,null,null,null,null,0,{"$f":"IF(N4489=0,\"\",MAX(O$15:O4488)+1)","v":""},""]
[null,null,null,null,null,null,null,null,null,null,null,null,null,0,{"$f":"IF(N4490=0,\"\",MAX(O$15:O4489)+1)","v":""},""]
[null,null,null,null,null,null,null,null,null,null,null,null,null,0,{"$f":"IF(N4491=0,\"\",MAX(O$15:O4490)+1)","v":""},""]
[null,null,null,null,null,null,null,null,null,null,null,null,null,0,{"$f":"IF(N4492=0,\"\",MAX(O$15:O4491)+1)","v":""},""]
[null,null,null,null,null,null,null,null,null,null,null,null,null,0,{"$f":"IF(N4493=0,\"\",MAX(O$15:O4492)+1)","v":""},""]
[null,null,null,null,null,null,null,null,null,null,null,null,null,0,{"$f":"IF(N4494=0,\"\",MAX(O$15:O4493)+1)","v":""},""]
[null,null,null,null,null,null,null,null,null,null,null,null,null,0,{"$f":"IF(N4495=0,\"\",MAX(O$15:O4494)+1)","v":""},""]
[null,null,null,null,null,null,null,null,null,null,null,null,null,0,{"$f":"IF(N4496=0,\"\",MAX(O$15:O4495)+1)","v":""},{"$f":"IFERROR(INDEX($N$15:$N$5014,MATCH(ROW()-ROW($O$14),$O$15:$O$5014,0)),\"\")","v":""}]
[null,null,null,null,null,null,null,null,null,null,null,null,null,0,{"$f":"IF(N4497=0,\"\",MAX(O$15:O4496)+1)","v":""},""]
[null,null,null,null,null,null,null,null,null,null,null,null,null,0,{"$f":"IF(N4498=0,\"\",MAX(O$15:O4497)+1)","v":""},""]
[null,null,null,null,null,null,null,null,null,null,null,null,null,0,{"$f":"IF(N4499=0,\"\",MAX(O$15:O4498)+1)","v":""},""]
[null,null,null,null,null,null,null,null,null,null,null,null,null,0,{"$f":"IF(N4500=0,\"\",MAX(O$15:O4499)+1)","v":""},""]
[null,null,null,null,null,null,null,null,null,null,null,null,null,0,{"$f":"IF(N4501=0,\"\",MAX(O$15:O4500)+1)","v":""},""]
[null,null,null,null,null,null,null,null,null,null,null,null,null,0,{"$f":"IF(N4502=0,\"\",MAX(O$15:O4501)+1)","v":""},""]
[null,null,null,null,null,null,null,null,null,null,null,null,null,0,{"$f":"IF(N4503=0,\"\",MAX(O$15:O4502)+1)","v":""},""]
[null,null,null,null,null,null,null,null,null,null,null,null,null,0,{"$f":"IF(N4504=0,\"\",MAX(O$15:O4503)+1)","v":""},""]
[null,null,null,null,null,null,null,null,null,null,null,null,null,0,{"$f":"IF(N4505=0,\"\",MAX(O$15:O4504)+1)","v":""},""]
[null,null,null,null,null,null,null,null,null,null,null,null,null,0,{"$f":"IF(N4506=0,\"\",MAX(O$15:O4505)+1)","v":""},""]
[null,null,null,null,null,null,null,null,null,null,null,null,null,0,{"$f":"IF(N4507=0,\"\",MAX(O$15:O4506)+1)","v":""},""]
[null,null,null,null,null,null,null,null,null,null,null,null,null,0,{"$f":"IF(N4508=0,\"\",MAX(O$15:O4507)+1)","v":""},""]
[null,null,null,null,null,null,null,null,null,null,null,null,null,0,{"$f":"IF(N4509=0,\"\",MAX(O$15:O4508)+1)","v":""},""]
[null,null,null,null,null,null,null,null,null,null,null,null,null,0,{"$f":"IF(N4510=0,\"\",MAX(O$15:O4509)+1)","v":""},""]
[null,null,null,null,null,null,null,null,null,null,null,null,null,0,{"$f":"IF(N4511=0,\"\",MAX(O$15:O4510)+1)","v":""},""]
[null,null,null,null,null,null,null,null,null,null,null,null,null,0,{"$f":"IF(N4512=0,\"\",MAX(O$15:O4511)+1)","v":""},""]
[null,null,null,null,null,null,null,null,null,null,null,null,null,0,{"$f":"IF(N4513=0,\"\",MAX(O$15:O4512)+1)","v":""},""]
[null,null,null,null,null,null,null,null,null,null,null,null,null,0,{"$f":"IF(N4514=0,\"\",MAX(O$15:O4513)+1)","v":""},""]
[null,null,null,null,null,null,null,null,null,null,null,null,null,0,{"$f":"IF(N4515=0,\"\",MAX(O$15:O4514)+1)","v":""},""]
[null,null,null,null,null,null,null,null,null,null,null,null,null,0,{"$f":"IF(N4516=0,\"\",MAX(O$15:O4515)+1)","v":""},""]
[null,null,null,null,null,null,null,null,null,null,null,null,null,0,{"$f":"IF(N4517=0,\"\",MAX(O$15:O4516)+1)","v":""},""]
[null,null,null,null,null,null,null,null,null,null,null,null,null,0,{"$f":"IF(N4518=0,\"\",MAX(O$15:O4517)+1)","v":""},""]
[null,null,null,null,null,null,null,null,null,null,null,null,null,0,{"$f":"IF(N4519=0,\"\",MAX(O$15:O4518)+1)","v":""},""]
[null,null,null,null,null,null,null,null,null,null,null,null,null,0,{"$f":"IF(N4520=0,\"\",MAX(O$15:O4519)+1)","v":""},""]
[null,null,null,null,null,null,null,null,null,null,null,null,null,0,{"$f":"IF(N4521=0,\"\",MAX(O$15:O4520)+1)","v":""},""]
[null,null,null,null,null,null,null,null,null,null,null,null,null,0,{"$f":"IF(N4522=0,\"\",MAX(O$15:O4521)+1)","v":""},""]
[null,null,null,null,null,null,null,null,null,null,null,null,null,0,{"$f":"IF(N4523=0,\"\",MAX(O$15:O4522)+1)","v":""},""]
[null,null,null,null,null,null,null,null,null,null,null,null,null,0,{"$f":"IF(N4524=0,\"\",MAX(O$15:O4523)+1)","v":""},""]
[null,null,null,null,null,null,null,null,null,null,null,null,null,0,{"$f":"IF(N4525=0,\"\",MAX(O$15:O4524)+1)","v":""},""]
[null,null,null,null,null,null,null,null,null,null,null,null,null,0,{"$f":"IF(N4526=0,\"\",MAX(O$15:O4525)+1)","v":""},""]
[null,null,null,null,null,null,null,null,null,null,null,null,null,0,{"$f":"IF(N4527=0,\"\",MAX(O$15:O4526)+1)","v":""},""]
[null,null,null,null,null,null,null,null,null,null,null,null,null,0,{"$f":"IF(N4528=0,\"\",MAX(O$15:O4527)+1)","v":""},""]
[null,null,null,null,null,null,null,null,null,null,null,null,null,0,{"$f":"IF(N4529=0,\"\",MAX(O$15:O4528)+1)","v":""},""]
[null,null,null,null,null,null,null,null,null,null,null,null,null,0,{"$f":"IF(N4530=0,\"\",MAX(O$15:O4529)+1)","v":""},""]
[null,null,null,null,null,null,null,null,null,null,null,null,null,0,{"$f":"IF(N4531=0,\"\",MAX(O$15:O4530)+1)","v":""},""]
[null,null,null,null,null,null,null,null,null,null,null,null,null,0,{"$f":"IF(N4532=0,\"\",MAX(O$15:O4531)+1)","v":""},""]
[null,null,null,null,null,null,null,null,null,null,null,null,null,0,{"$f":"IF(N4533=0,\"\",MAX(O$15:O4532)+1)","v":""},""]
[null,null,null,null,null,null,null,null,null,null,null,null,null,0,{"$f":"IF(N4534=0,\"\",MAX(O$15:O4533)+1)","v":""},""]
[null,null,null,null,null,null,null,null,null,null,null,null,null,0,{"$f":"IF(N4535=0,\"\",MAX(O$15:O4534)+1)","v":""},""]
[null,null,null,null,null,null,null,null,null,null,null,null,null,0,{"$f":"IF(N4536=0,\"\",MAX(O$15:O4535)+1)","v":""},""]
[null,null,null,null,null,null,null,null,null,null,null,null,null,0,{"$f":"IF(N4537=0,\"\",MAX(O$15:O4536)+1)","v":""},""]
[null,null,null,null,null,null,null,null,null,null,null,null,null,{"$f":"IFERROR(M4538*L4538/1000,\"\")","v":0},{"$f":"IF(N4538=0,\"\",MAX(O$15:O4537)+1)","v":""},""]
[null,null,null,null,null,null,null,null,null,null,null,null,null,0,{"$f":"IF(N4539=0,\"\",MAX(O$15:O4538)+1)","v":""},""]
[null,null,null,null,null,null,null,null,null,null,null,null,null,0,{"$f":"IF(N4540=0,\"\",MAX(O$15:O4539)+1)","v":""},""]
[null,null,null,null,null,null,null,null,null,null,null,null,null,0,{"$f":"IF(N4541=0,\"\",MAX(O$15:O4540)+1)","v":""},""]
[null,null,null,null,null,null,null,null,null,null,null,null,null,0,{"$f":"IF(N4542=0,\"\",MAX(O$15:O4541)+1)","v":""},""]
[null,null,null,null,null,null,null,null,null,null,null,null,null,0,{"$f":"IF(N4543=0,\"\",MAX(O$15:O4542)+1)","v":""},""]
[null,null,null,null,null,null,null,null,null,null,null,null,null,0,{"$f":"IF(N4544=0,\"\",MAX(O$15:O4543)+1)","v":""},""]
[null,null,null,null,null,null,null,null,null,null,null,null,null,0,{"$f":"IF(N4545=0,\"\",MAX(O$15:O4544)+1)","v":""},""]
[null,null,null,null,null,null,null,null,null,null,null,null,null,0,{"$f":"IF(N4546=0,\"\",MAX(O$15:O4545)+1)","v":""},""]
[null,null,null,null,null,null,null,null,null,null,null,null,null,0,{"$f":"IF(N4547=0,\"\",MAX(O$15:O4546)+1)","v":""},""]
[null,null,null,null,null,null,null,null,null,null,null,null,null,0,{"$f":"IF(N4548=0,\"\",MAX(O$15:O4547)+1)","v":""},""]
[null,null,null,null,null,null,null,null,null,null,null,null,null,0,{"$f":"IF(N4549=0,\"\",MAX(O$15:O4548)+1)","v":""},""]
[null,null,null,null,null,null,null,null,null,null,null,null,null,0,{"$f":"IF(N4550=0,\"\",MAX(O$15:O4549)+1)","v":""},""]
[null,null,null,null,null,null,null,null,null,null,null,null,null,0,{"$f":"IF(N4551=0,\"\",MAX(O$15:O4550)+1)","v":""},""]
[null,null,null,null,null,null,null,null,null,null,null,null,null,0,{"$f":"IF(N4552=0,\"\",MAX(O$15:O4551)+1)","v":""},""]
[null,null,null,null,null,null,null,null,null,null,null,null,null,0,{"$f":"IF(N4553=0,\"\",MAX(O$15:O4552)+1)","v":""},""]
[null,null,null,null,null,null,null,null,null,null,null,null,null,0,{"$f":"IF(N4554=0,\"\",MAX(O$15:O4553)+1)","v":""},""]
[null,null,null,null,null,null,null,null,null,null,null,null,null,0,{"$f":"IF(N4555=0,\"\",MAX(O$15:O4554)+1)","v":""},""]
[null,null,null,null,null,null,null,null,null,null,null,null,null,0,{"$f":"IF(N4556=0,\"\",MAX(O$15:O4555)+1)","v":""},""]
[null,null,null,null,null,null,null,null,null,null,null,null,null,0,{"$f":"IF(N4557=0,\"\",MAX(O$15:O4556)+1)","v":""},""]
[null,null,null,null,null,null,null,null,null,null,null,null,null,0,{"$f":"IF(N4558=0,\"\",MAX(O$15:O4557)+1)","v":""},""]
[null,null,null,null,null,null,null,null,null,null,null,null,null,0,{"$f":"IF(N4559=0,\"\",MAX(O$15:O4558)+1)","v":""},""]
[null,null,null,null,null,null,null,null,null,null,null,null,null,0,{"$f":"IF(N4560=0,\"\",MAX(O$15:O4559)+1)","v":""},{"$f":"IFERROR(INDEX($N$15:$N$5014,MATCH(ROW()-ROW($O$14),$O$15:$O$5014,0)),\"\")","v":""}]
[null,null,null,null,null,null,null,null,null,null,null,null,null,0,{"$f":"IF(N4561=0,\"\",MAX(O$15:O4560)+1)","v":""},""]
[null,null,null,null,null,null,null,null,null,null,null,null,null,0,{"$f":"IF(N4562=0,\"\",MAX(O$15:O4561)+1)","v":""},""]
[null,null,null,null,null,null,null,null,null,null,null,null,null,0,{"$f":"IF(N4563=0,\"\",MAX(O$15:O4562)+1)","v":""},""]
[null,null,null,null,null,null,null,null,null,null,null,null,null,0,{"$f":"IF(N4564=0,\"\",MAX(O$15:O4563)+1)","v":""},""]
[null,null,null,null,null,null,null,null,null,null,null,null,null,0,{"$f":"IF(N4565=0,\"\",MAX(O$15:O4564)+1)","v":""},""]
[null,null,null,null,null,null,null,null,null,null,null,null,null,0,{"$f":"IF(N4566=0,\"\",MAX(O$15:O4565)+1)","v":""},""]
[null,null,null,null,null,null,null,null,null,null,null,null,null,0,{"$f":"IF(N4567=0,\"\",MAX(O$15:O4566)+1)","v":""},""]
[null,null,null,null,null,null,null,null,null,null,null,null,null,0,{"$f":"IF(N4568=0,\"\",MAX(O$15:O4567)+1)","v":""},""]
[null,null,null,null,null,null,null,null,null,null,null,null,null,0,{"$f":"IF(N4569=0,\"\",MAX(O$15:O4568)+1)","v":""},""]
[null,null,null,null,null,null,null,null,null,null,null,null,null,0,{"$f":"IF(N4570=0,\"\",MAX(O$15:O4569)+1)","v":""},""]
[null,null,null,null,null,null,null,null,null,null,null,null,null,0,{"$f":"IF(N4571=0,\"\",MAX(O$15:O4570)+1)","v":""},""]
[null,null,null,null,null,null,null,null,null,null,null,null,null,0,{"$f":"IF(N4572=0,\"\",MAX(O$15:O4571)+1)","v":""},""]
[null,null,null,null,null,null,null,null,null,null,null,null,null,0,{"$f":"IF(N4573=0,\"\",MAX(O$15:O4572)+1)","v":""},""]
[null,null,null,null,null,null,null,null,null,null,null,null,null,0,{"$f":"IF(N4574=0,\"\",MAX(O$15:O4573)+1)","v":""},""]
[null,null,null,null,null,null,null,null,null,null,null,null,null,0,{"$f":"IF(N4575=0,\"\",MAX(O$15:O4574)+1)","v":""},""]
[null,null,null,null,null,null,null,null,null,null,null,null,null,0,{"$f":"IF(N4576=0,\"\",MAX(O$15:O4575)+1)","v":""},""]
[null,null,null,null,null,null,null,null,null,null,null,null,null,0,{"$f":"IF(N4577=0,\"\",MAX(O$15:O4576)+1)","v":""},""]
[null,null,null,null,null,null,null,null,null,null,null,null,null,0,{"$f":"IF(N4578=0,\"\",MAX(O$15:O4577)+1)","v":""},""]
[null,null,null,null,null,null,null,null,null,null,null,null,null,0,{"$f":"IF(N4579=0,\"\",MAX(O$15:O4578)+1)","v":""},""]
[null,null,null,null,null,null,null,null,null,null,null,null,null,0,{"$f":"IF(N4580=0,\"\",MAX(O$15:O4579)+1)","v":""},""]
[null,null,null,null,null,null,null,null,null,null,null,null,null,0,{"$f":"IF(N4581=0,\"\",MAX(O$15:O4580)+1)","v":""},""]
[null,null,null,null,null,null,null,null,null,null,null,null,null,0,{"$f":"IF(N4582=0,\"\",MAX(O$15:O4581)+1)","v":""},""]
[null,null,null,null,null,null,null,null,null,null,null,null,null,0,{"$f":"IF(N4583=0,\"\",MAX(O$15:O4582)+1)","v":""},""]
[null,null,null,null,null,null,null,null,null,null,null,null,null,0,{"$f":"IF(N4584=0,\"\",MAX(O$15:O4583)+1)","v":""},""]
[null,null,null,null,null,null,null,null,null,null,null,null,null,0,{"$f":"IF(N4585=0,\"\",MAX(O$15:O4584)+1)","v":""},""]
[null,null,null,null,null,null,null,null,null,null,null,null,null,0,{"$f":"IF(N4586=0,\"\",MAX(O$15:O4585)+1)","v":""},""]
[null,null,null,null,null,null,null,null,null,null,null,null,null,0,{"$f":"IF(N4587=0,\"\",MAX(O$15:O4586)+1)","v":""},""]
[null,null,null,null,null,null,null,null,null,null,null,null,null,0,{"$f":"IF(N4588=0,\"\",MAX(O$15:O4587)+1)","v":""},""]
[null,null,null,null,null,null,null,null,null,null,null,null,null,0,{"$f":"IF(N4589=0,\"\",MAX(O$15:O4588)+1)","v":""},""]
[null,null,null,null,null,null,null,null,null,null,null,null,null,0,{"$f":"IF(N4590=0,\"\",MAX(O$15:O4589)+1)","v":""},""]
[null,null,null,null,null,null,null,null,null,null,null,null,null,0,{"$f":"IF(N4591=0,\"\",MAX(O$15:O4590)+1)","v":""},""]
[null,null,null,null,null,null,null,null,null,null,null,null,null,0,{"$f":"IF(N4592=0,\"\",MAX(O$15:O4591)+1)","v":""},""]
[null,null,null,null,null,null,null,null,null,null,null,null,null,0,{"$f":"IF(N4593=0,\"\",MAX(O$15:O4592)+1)","v":""},""]
[null,null,null,null,null,null,null,null,null,null,null,null,null,0,{"$f":"IF(N4594=0,\"\",MAX(O$15:O4593)+1)","v":""},""]
[null,null,null,null,null,null,null,null,null,null,null,null,null,0,{"$f":"IF(N4595=0,\"\",MAX(O$15:O4594)+1)","v":""},""]
[null,null,null,null,null,null,null,null,null,null,null,null,null,0,{"$f":"IF(N4596=0,\"\",MAX(O$15:O4595)+1)","v":""},""]
[null,null,null,null,null,null,null,null,null,null,null,null,null,0,{"$f":"IF(N4597=0,\"\",MAX(O$15:O4596)+1)","v":""},""]
[null,null,null,null,null,null,null,null,null,null,null,null,null,0,{"$f":"IF(N4598=0,\"\",MAX(O$15:O4597)+1)","v":""},""]
[null,null,null,null,null,null,null,null,null,null,null,null,null,0,{"$f":"IF(N4599=0,\"\",MAX(O$15:O4598)+1)","v":""},""]
[null,null,null,null,null,null,null,null,null,null,null,null,null,0,{"$f":"IF(N4600=0,\"\",MAX(O$15:O4599)+1)","v":""},""]
[null,null,null,null,null,null,null,null,null,null,null,null,null,0,{"$f":"IF(N4601=0,\"\",MAX(O$15:O4600)+1)","v":""},""]
[null,null,null,null,null,null,null,null,null,null,null,null,null,{"$f":"IFERROR(M4602*L4602/1000,\"\")","v":0},{"$f":"IF(N4602=0,\"\",MAX(O$15:O4601)+1)","v":""},""]
[null,null,null,null,null,null,null,null,null,null,null,null,null,0,{"$f":"IF(N4603=0,\"\",MAX(O$15:O4602)+1)","v":""},""]
[null,null,null,null,null,null,null,null,null,null,null,null,null,0,{"$f":"IF(N4604=0,\"\",MAX(O$15:O4603)+1)","v":""},""]
[null,null,null,null,null,null,null,null,null,null,null,null,null,0,{"$f":"IF(N4605=0,\"\",MAX(O$15:O4604)+1)","v":""},""]
[null,null,null,null,null,null,null,null,null,null,null,null,null,0,{"$f":"IF(N4606=0,\"\",MAX(O$15:O4605)+1)","v":""},""]
[null,null,null,null,null,null,null,null,null,null,null,null,null,0,{"$f":"IF(N4607=0,\"\",MAX(O$15:O4606)+1)","v":""},""]
[null,null,null,null,null,null,null,null,null,null,null,null,null,0,{"$f":"IF(N4608=0,\"\",MAX(O$15:O4607)+1)","v":""},""]
[null,null,null,null,null,null,null,null,null,null,null,null,null,0,{"$f":"IF(N4609=0,\"\",MAX(O$15:O4608)+1)","v":""},""]
[null,null,null,null,null,null,null,null,null,null,null,null,null,0,{"$f":"IF(N4610=0,\"\",MAX(O$15:O4609)+1)","v":""},""]
[null,null,null,null,null,null,null,null,null,null,null,null,null,0,{"$f":"IF(N4611=0,\"\",MAX(O$15:O4610)+1)","v":""},""]
[null,null,null,null,null,null,null,null,null,null,null,null,null,0,{"$f":"IF(N4612=0,\"\",MAX(O$15:O4611)+1)","v":""},""]
[null,null,null,null,null,null,null,null,null,null,null,null,null,0,{"$f":"IF(N4613=0,\"\",MAX(O$15:O4612)+1)","v":""},""]
[null,null,null,null,null,null,null,null,null,null,null,null,null,0,{"$f":"IF(N4614=0,\"\",MAX(O$15:O4613)+1)","v":""},""]
[null,null,null,null,null,null,null,null,null,null,null,null,null,0,{"$f":"IF(N4615=0,\"\",MAX(O$15:O4614)+1)","v":""},""]
[null,null,null,null,null,null,null,null,null,null,null,null,null,0,{"$f":"IF(N4616=0,\"\",MAX(O$15:O4615)+1)","v":""},""]
[null,null,null,null,null,null,null,null,null,null,null,null,null,0,{"$f":"IF(N4617=0,\"\",MAX(O$15:O4616)+1)","v":""},""]
[null,null,null,null,null,null,null,null,null,null,null,null,null,0,{"$f":"IF(N4618=0,\"\",MAX(O$15:O4617)+1)","v":""},""]
[null,null,null,null,null,null,null,null,null,null,null,null,null,0,{"$f":"IF(N4619=0,\"\",MAX(O$15:O4618)+1)","v":""},""]
[null,null,null,null,null,null,null,null,null,null,null,null,null,0,{"$f":"IF(N4620=0,\"\",MAX(O$15:O4619)+1)","v":""},""]
[null,null,null,null,null,null,null,null,null,null,null,null,null,0,{"$f":"IF(N4621=0,\"\",MAX(O$15:O4620)+1)","v":""},""]
[null,null,null,null,null,null,null,null,null,null,null,null,null,0,{"$f":"IF(N4622=0,\"\",MAX(O$15:O4621)+1)","v":""},""]
[null,null,null,null,null,null,null,null,null,null,null,null,null,0,{"$f":"IF(N4623=0,\"\",MAX(O$15:O4622)+1)","v":""},""]
[null,null,null,null,null,null,null,null,null,null,null,null,null,0,{"$f":"IF(N4624=0,\"\",MAX(O$15:O4623)+1)","v":""},{"$f":"IFERROR(INDEX($N$15:$N$5014,MATCH(ROW()-ROW($O$14),$O$15:$O$5014,0)),\"\")","v":""}]
[null,null,null,null,null,null,null,null,null,null,null,null,null,0,{"$f":"IF(N4625=0,\"\",MAX(O$15:O4624)+1)","v":""},""]
[null,null,null,null,null,null,null,null,null,null,null,null,null,0,{"$f":"IF(N4626=0,\"\",MAX(O$15:O4625)+1)","v":""},""]
[null,null,null,null,null,null,null,null,null,null,null,null,null,0,{"$f":"IF(N4627=0,\"\",MAX(O$15:O4626)+1)","v":""},""]
[null,null,null,null,null,null,null,null,null,null,null,null,null,0,{"$f":"IF(N4628=0,\"\",MAX(O$15:O4627)+1)","v":""},""]
[null,null,null,null,null,null,null,null,null,null,null,null,null,0,{"$f":"IF(N4629=0,\"\",MAX(O$15:O4628)+1)","v":""},""]
[null,null,null,null,null,null,null,null,null,null,null,null,null,0,{"$f":"IF(N4630=0,\"\",MAX(O$15:O4629)+1)","v":""},""]
[null,null,null,null,null,null,null,null,null,null,null,null,null,0,{"$f":"IF(N4631=0,\"\",MAX(O$15:O4630)+1)","v":""},""]
[null,null,null,null,null,null,null,null,null,null,null,null,null,0,{"$f":"IF(N4632=0,\"\",MAX(O$15:O4631)+1)","v":""},""]
[null,null,null,null,null,null,null,null,null,null,null,null,null,0,{"$f":"IF(N4633=0,\"\",MAX(O$15:O4632)+1)","v":""},""]
[null,null,null,null,null,null,null,null,null,null,null,null,null,0,{"$f":"IF(N4634=0,\"\",MAX(O$15:O4633)+1)","v":""},""]
[null,null,null,null,null,null,null,null,null,null,null,null,null,0,{"$f":"IF(N4635=0,\"\",MAX(O$15:O4634)+1)","v":""},""]
[null,null,null,null,null,null,null,null,null,null,null,null,null,0,{"$f":"IF(N4636=0,\"\",MAX(O$15:O4635)+1)","v":""},""]
[null,null,null,null,null,null,null,null,null,null,null,null,null,0,{"$f":"IF(N4637=0,\"\",MAX(O$15:O4636)+1)","v":""},""]
[null,null,null,null,null,null,null,null,null,null,null,null,null,0,{"$f":"IF(N4638=0,\"\",MAX(O$15:O4637)+1)","v":""},""]
[null,null,null,null,null,null,null,null,null,null,null,null,null,0,{"$f":"IF(N4639=0,\"\",MAX(O$15:O4638)+1)","v":""},""]
[null,null,null,null,null,null,null,null,null,null,null,null,null,0,{"$f":"IF(N4640=0,\"\",MAX(O$15:O4639)+1)","v":""},""]
[null,null,null,null,null,null,null,null,null,null,null,null,null,0,{"$f":"IF(N4641=0,\"\",MAX(O$15:O4640)+1)","v":""},""]
[null,null,null,null,null,null,null,null,null,null,null,null,null,0,{"$f":"IF(N4642=0,\"\",MAX(O$15:O4641)+1)","v":""},""]
[null,null,null,null,null,null,null,null,null,null,null,null,null,0,{"$f":"IF(N4643=0,\"\",MAX(O$15:O4642)+1)","v":""},""]
[null,null,null,null,null,null,null,null,null,null,null,null,null,0,{"$f":"IF(N4644=0,\"\",MAX(O$15:O4643)+1)","v":""},""]
[null,null,null,null,null,null,null,null,null,null,null,null,null,0,{"$f":"IF(N4645=0,\"\",MAX(O$15:O4644)+1)","v":""},""]
[null,null,null,null,null,null,null,null,null,null,null,null,null,0,{"$f":"IF(N4646=0,\"\",MAX(O$15:O4645)+1)","v":""},""]
[null,null,null,null,null,null,null,null,null,null,null,null,null,0,{"$f":"IF(N4647=0,\"\",MAX(O$15:O4646)+1)","v":""},""]
[null,null,null,null,null,null,null,null,null,null,null,null,null,0,{"$f":"IF(N4648=0,\"\",MAX(O$15:O4647)+1)","v":""},""]
[null,null,null,null,null,null,null,null,null,null,null,null,null,0,{"$f":"IF(N4649=0,\"\",MAX(O$15:O4648)+1)","v":""},""]
[null,null,null,null,null,null,null,null,null,null,null,null,null,0,{"$f":"IF(N4650=0,\"\",MAX(O$15:O4649)+1)","v":""},""]
[null,null,null,null,null,null,null,null,null,null,null,null,null,0,{"$f":"IF(N4651=0,\"\",MAX(O$15:O4650)+1)","v":""},""]
[null,null,null,null,null,null,null,null,null,null,null,null,null,0,{"$f":"IF(N4652=0,\"\",MAX(O$15:O4651)+1)","v":""},""]
[null,null,null,null,null,null,null,null,null,null,null,null,null,0,{"$f":"IF(N4653=0,\"\",MAX(O$15:O4652)+1)","v":""},""]
[null,null,null,null,null,null,null,null,null,null,null,null,null,0,{"$f":"IF(N4654=0,\"\",MAX(O$15:O4653)+1)","v":""},""]
[null,null,null,null,null,null,null,null,null,null,null,null,null,0,{"$f":"IF(N4655=0,\"\",MAX(O$15:O4654)+1)","v":""},""]
[null,null,null,null,null,null,null,null,null,null,null,null,null,0,{"$f":"IF(N4656=0,\"\",MAX(O$15:O4655)+1)","v":""},""]
[null,null,null,null,null,null,null,null,null,null,null,null,null,0,{"$f":"IF(N4657=0,\"\",MAX(O$15:O4656)+1)","v":""},""]
[null,null,null,null,null,null,null,null,null,null,null,null,null,0,{"$f":"IF(N4658=0,\"\",MAX(O$15:O4657)+1)","v":""},""]
[null,null,null,null,null,null,null,null,null,null,null,null,null,0,{"$f":"IF(N4659=0,\"\",MAX(O$15:O4658)+1)","v":""},""]
[null,null,null,null,null,null,null,null,null,null,null,null,null,0,{"$f":"IF(N4660=0,\"\",MAX(O$15:O4659)+1)","v":""},""]
[null,null,null,null,null,null,null,null,null,null,null,null,null,0,{"$f":"IF(N4661=0,\"\",MAX(O$15:O4660)+1)","v":""},""]
[null,null,null,null,null,null,null,null,null,null,null,null,null,0,{"$f":"IF(N4662=0,\"\",MAX(O$15:O4661)+1)","v":""},""]
[null,null,null,null,null,null,null,null,null,null,null,null,null,0,{"$f":"IF(N4663=0,\"\",MAX(O$15:O4662)+1)","v":""},""]
[null,null,null,null,null,null,null,null,null,null,null,null,null,0,{"$f":"IF(N4664=0,\"\",MAX(O$15:O4663)+1)","v":""},""]
[null,null,null,null,null,null,null,null,null,null,null,null,null,0,{"$f":"IF(N4665=0,\"\",MAX(O$15:O4664)+1)","v":""},""]
[null,null,null,null,null,null,null,null,null,null,null,null,null,{"$f":"IFERROR(M4666*L4666/1000,\"\")","v":0},{"$f":"IF(N4666=0,\"\",MAX(O$15:O4665)+1)","v":""},""]
[null,null,null,null,null,null,null,null,null,null,null,null,null,0,{"$f":"IF(N4667=0,\"\",MAX(O$15:O4666)+1)","v":""},""]
[null,null,null,null,null,null,null,null,null,null,null,null,null,0,{"$f":"IF(N4668=0,\"\",MAX(O$15:O4667)+1)","v":""},""]
[null,null,null,null,null,null,null,null,null,null,null,null,null,0,{"$f":"IF(N4669=0,\"\",MAX(O$15:O4668)+1)","v":""},""]
[null,null,null,null,null,null,null,null,null,null,null,null,null,0,{"$f":"IF(N4670=0,\"\",MAX(O$15:O4669)+1)","v":""},""]
[null,null,null,null,null,null,null,null,null,null,null,null,null,0,{"$f":"IF(N4671=0,\"\",MAX(O$15:O4670)+1)","v":""},""]
[null,null,null,null,null,null,null,null,null,null,null,null,null,0,{"$f":"IF(N4672=0,\"\",MAX(O$15:O4671)+1)","v":""},""]
[null,null,null,null,null,null,null,null,null,null,null,null,null,0,{"$f":"IF(N4673=0,\"\",MAX(O$15:O4672)+1)","v":""},""]
[null,null,null,null,null,null,null,null,null,null,null,null,null,0,{"$f":"IF(N4674=0,\"\",MAX(O$15:O4673)+1)","v":""},""]
[null,null,null,null,null,null,null,null,null,null,null,null,null,0,{"$f":"IF(N4675=0,\"\",MAX(O$15:O4674)+1)","v":""},""]
[null,null,null,null,null,null,null,null,null,null,null,null,null,0,{"$f":"IF(N4676=0,\"\",MAX(O$15:O4675)+1)","v":""},""]
[null,null,null,null,null,null,null,null,null,null,null,null,null,0,{"$f":"IF(N4677=0,\"\",MAX(O$15:O4676)+1)","v":""},""]
[null,null,null,null,null,null,null,null,null,null,null,null,null,0,{"$f":"IF(N4678=0,\"\",MAX(O$15:O4677)+1)","v":""},""]
[null,null,null,null,null,null,null,null,null,null,null,null,null,0,{"$f":"IF(N4679=0,\"\",MAX(O$15:O4678)+1)","v":""},""]
[null,null,null,null,null,null,null,null,null,null,null,null,null,0,{"$f":"IF(N4680=0,\"\",MAX(O$15:O4679)+1)","v":""},""]
[null,null,null,null,null,null,null,null,null,null,null,null,null,0,{"$f":"IF(N4681=0,\"\",MAX(O$15:O4680)+1)","v":""},""]
[null,null,null,null,null,null,null,null,null,null,null,null,null,0,{"$f":"IF(N4682=0,\"\",MAX(O$15:O4681)+1)","v":""},""]
[null,null,null,null,null,null,null,null,null,null,null,null,null,0,{"$f":"IF(N4683=0,\"\",MAX(O$15:O4682)+1)","v":""},""]
[null,null,null,null,null,null,null,null,null,null,null,null,null,0,{"$f":"IF(N4684=0,\"\",MAX(O$15:O4683)+1)","v":""},""]
[null,null,null,null,null,null,null,null,null,null,null,null,null,0,{"$f":"IF(N4685=0,\"\",MAX(O$15:O4684)+1)","v":""},""]
[null,null,null,null,null,null,null,null,null,null,null,null,null,0,{"$f":"IF(N4686=0,\"\",MAX(O$15:O4685)+1)","v":""},""]
[null,null,null,null,null,null,null,null,null,null,null,null,null,0,{"$f":"IF(N4687=0,\"\",MAX(O$15:O4686)+1)","v":""},""]
[null,null,null,null,null,null,null,null,null,null,null,null,null,0,{"$f":"IF(N4688=0,\"\",MAX(O$15:O4687)+1)","v":""},{"$f":"IFERROR(INDEX($N$15:$N$5014,MATCH(ROW()-ROW($O$14),$O$15:$O$5014,0)),\"\")","v":""}]
[null,null,null,null,null,null,null,null,null,null,null,null,null,0,{"$f":"IF(N4689=0,\"\",MAX(O$15:O4688)+1)","v":""},""]
[null,null,null,null,null,null,null,null,null,null,null,null,null,0,{"$f":"IF(N4690=0,\"\",MAX(O$15:O4689)+1)","v":""},""]
[null,null,null,null,null,null,null,null,null,null,null,null,null,0,{"$f":"IF(N4691=0,\"\",MAX(O$15:O4690)+1)","v":""},""]
[null,null,null,null,null,null,null,null,null,null,null,null,null,0,{"$f":"IF(N4692=0,\"\",MAX(O$15:O4691)+1)","v":""},""]
[null,null,null,null,null,null,null,null,null,null,null,null,null,0,{"$f":"IF(N4693=0,\"\",MAX(O$15:O4692)+1)","v":""},""]
[null,null,null,null,null,null,null,null,null,null,null,null,null,0,{"$f":"IF(N4694=0,\"\",MAX(O$15:O4693)+1)","v":""},""]
[null,null,null,null,null,null,null,null,null,null,null,null,null,0,{"$f":"IF(N4695=0,\"\",MAX(O$15:O4694)+1)","v":""},""]
[null,null,null,null,null,null,null,null,null,null,null,null,null,0,{"$f":"IF(N4696=0,\"\",MAX(O$15:O4695)+1)","v":""},""]
[null,null,null,null,null,null,null,null,null,null,null,null,null,0,{"$f":"IF(N4697=0,\"\",MAX(O$15:O4696)+1)","v":""},""]
[null,null,null,null,null,null,null,null,null,null,null,null,null,0,{"$f":"IF(N4698=0,\"\",MAX(O$15:O4697)+1)","v":""},""]
[null,null,null,null,null,null,null,null,null,null,null,null,null,0,{"$f":"IF(N4699=0,\"\",MAX(O$15:O4698)+1)","v":""},""]
[null,null,null,null,null,null,null,null,null,null,null,null,null,0,{"$f":"IF(N4700=0,\"\",MAX(O$15:O4699)+1)","v":""},""]
[null,null,null,null,null,null,null,null,null,null,null,null,null,0,{"$f":"IF(N4701=0,\"\",MAX(O$15:O4700)+1)","v":""},""]
[null,null,null,null,null,null,null,null,null,null,null,null,null,0,{"$f":"IF(N4702=0,\"\",MAX(O$15:O4701)+1)","v":""},""]
[null,null,null,null,null,null,null,null,null,null,null,null,null,0,{"$f":"IF(N4703=0,\"\",MAX(O$15:O4702)+1)","v":""},""]
[null,null,null,null,null,null,null,null,null,null,null,null,null,0,{"$f":"IF(N4704=0,\"\",MAX(O$15:O4703)+1)","v":""},""]
[null,null,null,null,null,null,null,null,null,null,null,null,null,0,{"$f":"IF(N4705=0,\"\",MAX(O$15:O4704)+1)","v":""},""]
[null,null,null,null,null,null,null,null,null,null,null,null,null,0,{"$f":"IF(N4706=0,\"\",MAX(O$15:O4705)+1)","v":""},""]
[null,null,null,null,null,null,null,null,null,null,null,null,null,0,{"$f":"IF(N4707=0,\"\",MAX(O$15:O4706)+1)","v":""},""]
[null,null,null,null,null,null,null,null,null,null,null,null,null,0,{"$f":"IF(N4708=0,\"\",MAX(O$15:O4707)+1)","v":""},""]
[null,null,null,null,null,null,null,null,null,null,null,null,null,0,{"$f":"IF(N4709=0,\"\",MAX(O$15:O4708)+1)","v":""},""]
[null,null,null,null,null,null,null,null,null,null,null,null,null,0,{"$f":"IF(N4710=0,\"\",MAX(O$15:O4709)+1)","v":""},""]
[null,null,null,null,null,null,null,null,null,null,null,null,null,0,{"$f":"IF(N4711=0,\"\",MAX(O$15:O4710)+1)","v":""},""]
[null,null,null,null,null,null,null,null,null,null,null,null,null,0,{"$f":"IF(N4712=0,\"\",MAX(O$15:O4711)+1)","v":""},""]
[null,null,null,null,null,null,null,null,null,null,null,null,null,0,{"$f":"IF(N4713=0,\"\",MAX(O$15:O4712)+1)","v":""},""]
[null,null,null,null,null,null,null,null,null,null,null,null,null,0,{"$f":"IF(N4714=0,\"\",MAX(O$15:O4713)+1)","v":""},""]
[null,null,null,null,null,null,null,null,null,null,null,null,null,0,{"$f":"IF(N4715=0,\"\",MAX(O$15:O4714)+1)","v":""},""]
[null,null,null,null,null,null,null,null,null,null,null,null,null,0,{"$f":"IF(N4716=0,\"\",MAX(O$15:O4715)+1)","v":""},""]
[null,null,null,null,null,null,null,null,null,null,null,null,null,0,{"$f":"IF(N4717=0,\"\",MAX(O$15:O4716)+1)","v":""},""]
[null,null,null,null,null,null,null,null,null,null,null,null,null,0,{"$f":"IF(N4718=0,\"\",MAX(O$15:O4717)+1)","v":""},""]
[null,null,null,null,null,null,null,null,null,null,null,null,null,0,{"$f":"IF(N4719=0,\"\",MAX(O$15:O4718)+1)","v":""},""]
[null,null,null,null,null,null,null,null,null,null,null,null,null,0,{"$f":"IF(N4720=0,\"\",MAX(O$15:O4719)+1)","v":""},""]
[null,null,null,null,null,null,null,null,null,null,null,null,null,0,{"$f":"IF(N4721=0,\"\",MAX(O$15:O4720)+1)","v":""},""]
[null,null,null,null,null,null,null,null,null,null,null,null,null,0,{"$f":"IF(N4722=0,\"\",MAX(O$15:O4721)+1)","v":""},""]
[null,null,null,null,null,null,null,null,null,null,null,null,null,0,{"$f":"IF(N4723=0,\"\",MAX(O$15:O4722)+1)","v":""},""]
[null,null,null,null,null,null,null,null,null,null,null,null,null,0,{"$f":"IF(N4724=0,\"\",MAX(O$15:O4723)+1)","v":""},""]
[null,null,null,null,null,null,null,null,null,null,null,null,null,0,{"$f":"IF(N4725=0,\"\",MAX(O$15:O4724)+1)","v":""},""]
[null,null,null,null,null,null,null,null,null,null,null,null,null,0,{"$f":"IF(N4726=0,\"\",MAX(O$15:O4725)+1)","v":""},""]
[null,null,null,null,null,null,null,null,null,null,null,null,null,0,{"$f":"IF(N4727=0,\"\",MAX(O$15:O4726)+1)","v":""},""]
[null,null,null,null,null,null,null,null,null,null,null,null,null,0,{"$f":"IF(N4728=0,\"\",MAX(O$15:O4727)+1)","v":""},""]
[null,null,null,null,null,null,null,null,null,null,null,null,null,0,{"$f":"IF(N4729=0,\"\",MAX(O$15:O4728)+1)","v":""},""]
[null,null,null,null,null,null,null,null,null,null,null,null,null,{"$f":"IFERROR(M4730*L4730/1000,\"\")","v":0},{"$f":"IF(N4730=0,\"\",MAX(O$15:O4729)+1)","v":""},""]
[null,null,null,null,null,null,null,null,null,null,null,null,null,0,{"$f":"IF(N4731=0,\"\",MAX(O$15:O4730)+1)","v":""},""]
[null,null,null,null,null,null,null,null,null,null,null,null,null,0,{"$f":"IF(N4732=0,\"\",MAX(O$15:O4731)+1)","v":""},""]
[null,null,null,null,null,null,null,null,null,null,null,null,null,0,{"$f":"IF(N4733=0,\"\",MAX(O$15:O4732)+1)","v":""},""]
[null,null,null,null,null,null,null,null,null,null,null,null,null,0,{"$f":"IF(N4734=0,\"\",MAX(O$15:O4733)+1)","v":""},""]
[null,null,null,null,null,null,null,null,null,null,null,null,null,0,{"$f":"IF(N4735=0,\"\",MAX(O$15:O4734)+1)","v":""},""]
[null,null,null,null,null,null,null,null,null,null,null,null,null,0,{"$f":"IF(N4736=0,\"\",MAX(O$15:O4735)+1)","v":""},""]
[null,null,null,null,null,null,null,null,null,null,null,null,null,0,{"$f":"IF(N4737=0,\"\",MAX(O$15:O4736)+1)","v":""},""]
[null,null,null,null,null,null,null,null,null,null,null,null,null,0,{"$f":"IF(N4738=0,\"\",MAX(O$15:O4737)+1)","v":""},""]
[null,null,null,null,null,null,null,null,null,null,null,null,null,0,{"$f":"IF(N4739=0,\"\",MAX(O$15:O4738)+1)","v":""},""]
[null,null,null,null,null,null,null,null,null,null,null,null,null,0,{"$f":"IF(N4740=0,\"\",MAX(O$15:O4739)+1)","v":""},""]
[null,null,null,null,null,null,null,null,null,null,null,null,null,0,{"$f":"IF(N4741=0,\"\",MAX(O$15:O4740)+1)","v":""},""]
[null,null,null,null,null,null,null,null,null,null,null,null,null,0,{"$f":"IF(N4742=0,\"\",MAX(O$15:O4741)+1)","v":""},""]
[null,null,null,null,null,null,null,null,null,null,null,null,null,0,{"$f":"IF(N4743=0,\"\",MAX(O$15:O4742)+1)","v":""},""]
[null,null,null,null,null,null,null,null,null,null,null,null,null,0,{"$f":"IF(N4744=0,\"\",MAX(O$15:O4743)+1)","v":""},""]
[null,null,null,null,null,null,null,null,null,null,null,null,null,0,{"$f":"IF(N4745=0,\"\",MAX(O$15:O4744)+1)","v":""},""]
[null,null,null,null,null,null,null,null,null,null,null,null,null,0,{"$f":"IF(N4746=0,\"\",MAX(O$15:O4745)+1)","v":""},""]
[null,null,null,null,null,null,null,null,null,null,null,null,null,0,{"$f":"IF(N4747=0,\"\",MAX(O$15:O4746)+1)","v":""},""]
[null,null,null,null,null,null,null,null,null,null,null,null,null,0,{"$f":"IF(N4748=0,\"\",MAX(O$15:O4747)+1)","v":""},""]
[null,null,null,null,null,null,null,null,null,null,null,null,null,0,{"$f":"IF(N4749=0,\"\",MAX(O$15:O4748)+1)","v":""},""]
[null,null,null,null,null,null,null,null,null,null,null,null,null,0,{"$f":"IF(N4750=0,\"\",MAX(O$15:O4749)+1)","v":""},""]
[null,null,null,null,null,null,null,null,null,null,null,null,null,0,{"$f":"IF(N4751=0,\"\",MAX(O$15:O4750)+1)","v":""},""]
[null,null,null,null,null,null,null,null,null,null,null,null,null,0,{"$f":"IF(N4752=0,\"\",MAX(O$15:O4751)+1)","v":""},{"$f":"IFERROR(INDEX($N$15:$N$5014,MATCH(ROW()-ROW($O$14),$O$15:$O$5014,0)),\"\")","v":""}]
[null,null,null,null,null,null,null,null,null,null,null,null,null,0,{"$f":"IF(N4753=0,\"\",MAX(O$15:O4752)+1)","v":""},""]
[null,null,null,null,null,null,null,null,null,null,null,null,null,0,{"$f":"IF(N4754=0,\"\",MAX(O$15:O4753)+1)","v":""},""]
[null,null,null,null,null,null,null,null,null,null,null,null,null,0,{"$f":"IF(N4755=0,\"\",MAX(O$15:O4754)+1)","v":""},""]
[null,null,null,null,null,null,null,null,null,null,null,null,null,0,{"$f":"IF(N4756=0,\"\",MAX(O$15:O4755)+1)","v":""},""]
[null,null,null,null,null,null,null,null,null,null,null,null,null,0,{"$f":"IF(N4757=0,\"\",MAX(O$15:O4756)+1)","v":""},""]
[null,null,null,null,null,null,null,null,null,null,null,null,null,0,{"$f":"IF(N4758=0,\"\",MAX(O$15:O4757)+1)","v":""},""]
[null,null,null,null,null,null,null,null,null,null,null,null,null,0,{"$f":"IF(N4759=0,\"\",MAX(O$15:O4758)+1)","v":""},""]
[null,null,null,null,null,null,null,null,null,null,null,null,null,0,{"$f":"IF(N4760=0,\"\",MAX(O$15:O4759)+1)","v":""},""]
[null,null,null,null,null,null,null,null,null,null,null,null,null,0,{"$f":"IF(N4761=0,\"\",MAX(O$15:O4760)+1)","v":""},""]
[null,null,null,null,null,null,null,null,null,null,null,null,null,0,{"$f":"IF(N4762=0,\"\",MAX(O$15:O4761)+1)","v":""},""]
[null,null,null,null,null,null,null,null,null,null,null,null,null,0,{"$f":"IF(N4763=0,\"\",MAX(O$15:O4762)+1)","v":""},""]
[null,null,null,null,null,null,null,null,null,null,null,null,null,0,{"$f":"IF(N4764=0,\"\",MAX(O$15:O4763)+1)","v":""},""]
[null,null,null,null,null,null,null,null,null,null,null,null,null,0,{"$f":"IF(N4765=0,\"\",MAX(O$15:O4764)+1)","v":""},""]
[null,null,null,null,null,null,null,null,null,null,null,null,null,0,{"$f":"IF(N4766=0,\"\",MAX(O$15:O4765)+1)","v":""},""]
[null,null,null,null,null,null,null,null,null,null,null,null,null,0,{"$f":"IF(N4767=0,\"\",MAX(O$15:O4766)+1)","v":""},""]
[null,null,null,null,null,null,null,null,null,null,null,null,null,0,{"$f":"IF(N4768=0,\"\",MAX(O$15:O4767)+1)","v":""},""]
[null,null,null,null,null,null,null,null,null,null,null,null,null,0,{"$f":"IF(N4769=0,\"\",MAX(O$15:O4768)+1)","v":""},""]
[null,null,null,null,null,null,null,null,null,null,null,null,null,0,{"$f":"IF(N4770=0,\"\",MAX(O$15:O4769)+1)","v":""},""]
[null,null,null,null,null,null,null,null,null,null,null,null,null,0,{"$f":"IF(N4771=0,\"\",MAX(O$15:O4770)+1)","v":""},""]
[null,null,null,null,null,null,null,null,null,null,null,null,null,0,{"$f":"IF(N4772=0,\"\",MAX(O$15:O4771)+1)","v":""},""]
[null,null,null,null,null,null,null,null,null,null,null,null,null,0,{"$f":"IF(N4773=0,\"\",MAX(O$15:O4772)+1)","v":""},""]
[null,null,null,null,null,null,null,null,null,null,null,null,null,0,{"$f":"IF(N4774=0,\"\",MAX(O$15:O4773)+1)","v":""},""]
[null,null,null,null,null,null,null,null,null,null,null,null,null,0,{"$f":"IF(N4775=0,\"\",MAX(O$15:O4774)+1)","v":""},""]
[null,null,null,null,null,null,null,null,null,null,null,null,null,0,{"$f":"IF(N4776=0,\"\",MAX(O$15:O4775)+1)","v":""},""]
[null,null,null,null,null,null,null,null,null,null,null,null,null,0,{"$f":"IF(N4777=0,\"\",MAX(O$15:O4776)+1)","v":""},""]
[null,null,null,null,null,null,null,null,null,null,null,null,null,0,{"$f":"IF(N4778=0,\"\",MAX(O$15:O4777)+1)","v":""},""]
[null,null,null,null,null,null,null,null,null,null,null,null,null,0,{"$f":"IF(N4779=0,\"\",MAX(O$15:O4778)+1)","v":""},""]
[null,null,null,null,null,null,null,null,null,null,null,null,null,0,{"$f":"IF(N4780=0,\"\",MAX(O$15:O4779)+1)","v":""},""]
[null,null,null,null,null,null,null,null,null,null,null,null,null,0,{"$f":"IF(N4781=0,\"\",MAX(O$15:O4780)+1)","v":""},""]
[null,null,null,null,null,null,null,null,null,null,null,null,null,0,{"$f":"IF(N4782=0,\"\",MAX(O$15:O4781)+1)","v":""},""]
[null,null,null,null,null,null,null,null,null,null,null,null,null,0,{"$f":"IF(N4783=0,\"\",MAX(O$15:O4782)+1)","v":""},""]
[null,null,null,null,null,null,null,null,null,null,null,null,null,0,{"$f":"IF(N4784=0,\"\",MAX(O$15:O4783)+1)","v":""},""]
[null,null,null,null,null,null,null,null,null,null,null,null,null,0,{"$f":"IF(N4785=0,\"\",MAX(O$15:O4784)+1)","v":""},""]
[null,null,null,null,null,null,null,null,null,null,null,null,null,0,{"$f":"IF(N4786=0,\"\",MAX(O$15:O4785)+1)","v":""},""]
[null,null,null,null,null,null,null,null,null,null,null,null,null,0,{"$f":"IF(N4787=0,\"\",MAX(O$15:O4786)+1)","v":""},""]
[null,null,null,null,null,null,null,null,null,null,null,null,null,0,{"$f":"IF(N4788=0,\"\",MAX(O$15:O4787)+1)","v":""},""]
[null,null,null,null,null,null,null,null,null,null,null,null,null,0,{"$f":"IF(N4789=0,\"\",MAX(O$15:O4788)+1)","v":""},""]
[null,null,null,null,null,null,null,null,null,null,null,null,null,0,{"$f":"IF(N4790=0,\"\",MAX(O$15:O4789)+1)","v":""},""]
[null,null,null,null,null,null,null,null,null,null,null,null,null,0,{"$f":"IF(N4791=0,\"\",MAX(O$15:O4790)+1)","v":""},""]
[null,null,null,null,null,null,null,null,null,null,null,null,null,0,{"$f":"IF(N4792=0,\"\",MAX(O$15:O4791)+1)","v":""},""]
[null,null,null,null,null,null,null,null,null,null,null,null,null,0,{"$f":"IF(N4793=0,\"\",MAX(O$15:O4792)+1)","v":""},""]
[null,null,null,null,null,null,null,null,null,null,null,null,null,{"$f":"IFERROR(M4794*L4794/1000,\"\")","v":0},{"$f":"IF(N4794=0,\"\",MAX(O$15:O4793)+1)","v":""},""]
[null,null,null,null,null,null,null,null,null,null,null,null,null,0,{"$f":"IF(N4795=0,\"\",MAX(O$15:O4794)+1)","v":""},""]
[null,null,null,null,null,null,null,null,null,null,null,null,null,0,{"$f":"IF(N4796=0,\"\",MAX(O$15:O4795)+1)","v":""},""]
[null,null,null,null,null,null,null,null,null,null,null,null,null,0,{"$f":"IF(N4797=0,\"\",MAX(O$15:O4796)+1)","v":""},""]
[null,null,null,null,null,null,null,null,null,null,null,null,null,0,{"$f":"IF(N4798=0,\"\",MAX(O$15:O4797)+1)","v":""},""]
[null,null,null,null,null,null,null,null,null,null,null,null,null,0,{"$f":"IF(N4799=0,\"\",MAX(O$15:O4798)+1)","v":""},""]
[null,null,null,null,null,null,null,null,null,null,null,null,null,0,{"$f":"IF(N4800=0,\"\",MAX(O$15:O4799)+1)","v":""},""]
[null,null,null,null,null,null,null,null,null,null,null,null,null,0,{"$f":"IF(N4801=0,\"\",MAX(O$15:O4800)+1)","v":""},""]
[null,null,null,null,null,null,null,null,null,null,null,null,null,0,{"$f":"IF(N4802=0,\"\",MAX(O$15:O4801)+1)","v":""},""]
[null,null,null,null,null,null,null,null,null,null,null,null,null,0,{"$f":"IF(N4803=0,\"\",MAX(O$15:O4802)+1)","v":""},""]
[null,null,null,null,null,null,null,null,null,null,null,null,null,0,{"$f":"IF(N4804=0,\"\",MAX(O$15:O4803)+1)","v":""},""]
[null,null,null,null,null,null,null,null,null,null,null,null,null,0,{"$f":"IF(N4805=0,\"\",MAX(O$15:O4804)+1)","v":""},""]
[null,null,null,null,null,null,null,null,null,null,null,null,null,0,{"$f":"IF(N4806=0,\"\",MAX(O$15:O4805)+1)","v":""},""]
[null,null,null,null,null,null,null,null,null,null,null,null,null,0,{"$f":"IF(N4807=0,\"\",MAX(O$15:O4806)+1)","v":""},""]
[null,null,null,null,null,null,null,null,null,null,null,null,null,0,{"$f":"IF(N4808=0,\"\",MAX(O$15:O4807)+1)","v":""},""]
[null,null,null,null,null,null,null,null,null,null,null,null,null,0,{"$f":"IF(N4809=0,\"\",MAX(O$15:O4808)+1)","v":""},""]
[null,null,null,null,null,null,null,null,null,null,null,null,null,0,{"$f":"IF(N4810=0,\"\",MAX(O$15:O4809)+1)","v":""},""]
[null,null,null,null,null,null,null,null,null,null,null,null,null,0,{"$f":"IF(N4811=0,\"\",MAX(O$15:O4810)+1)","v":""},""]
[null,null,null,null,null,null,null,null,null,null,null,null,null,0,{"$f":"IF(N4812=0,\"\",MAX(O$15:O4811)+1)","v":""},""]
[null,null,null,null,null,null,null,null,null,null,null,null,null,0,{"$f":"IF(N4813=0,\"\",MAX(O$15:O4812)+1)","v":""},""]
[null,null,null,null,null,null,null,null,null,null,null,null,null,0,{"$f":"IF(N4814=0,\"\",MAX(O$15:O4813)+1)","v":""},""]
[null,null,null,null,null,null,null,null,null,null,null,null,null,0,{"$f":"IF(N4815=0,\"\",MAX(O$15:O4814)+1)","v":""},""]
[null,null,null,null,null,null,null,null,null,null,null,null,null,0,{"$f":"IF(N4816=0,\"\",MAX(O$15:O4815)+1)","v":""},{"$f":"IFERROR(INDEX($N$15:$N$5014,MATCH(ROW()-ROW($O$14),$O$15:$O$5014,0)),\"\")","v":""}]
[null,null,null,null,null,null,null,null,null,null,null,null,null,0,{"$f":"IF(N4817=0,\"\",MAX(O$15:O4816)+1)","v":""},""]
[null,null,null,null,null,null,null,null,null,null,null,null,null,0,{"$f":"IF(N4818=0,\"\",MAX(O$15:O4817)+1)","v":""},""]
[null,null,null,null,null,null,null,null,null,null,null,null,null,0,{"$f":"IF(N4819=0,\"\",MAX(O$15:O4818)+1)","v":""},""]
[null,null,null,null,null,null,null,null,null,null,null,null,null,0,{"$f":"IF(N4820=0,\"\",MAX(O$15:O4819)+1)","v":""},""]
[null,null,null,null,null,null,null,null,null,null,null,null,null,0,{"$f":"IF(N4821=0,\"\",MAX(O$15:O4820)+1)","v":""},""]
[null,null,null,null,null,null,null,null,null,null,null,null,null,0,{"$f":"IF(N4822=0,\"\",MAX(O$15:O4821)+1)","v":""},""]
[null,null,null,null,null,null,null,null,null,null,null,null,null,0,{"$f":"IF(N4823=0,\"\",MAX(O$15:O4822)+1)","v":""},""]
[null,null,null,null,null,null,null,null,null,null,null,null,null,0,{"$f":"IF(N4824=0,\"\",MAX(O$15:O4823)+1)","v":""},""]
[null,null,null,null,null,null,null,null,null,null,null,null,null,0,{"$f":"IF(N4825=0,\"\",MAX(O$15:O4824)+1)","v":""},""]
[null,null,null,null,null,null,null,null,null,null,null,null,null,0,{"$f":"IF(N4826=0,\"\",MAX(O$15:O4825)+1)","v":""},""]
[null,null,null,null,null,null,null,null,null,null,null,null,null,0,{"$f":"IF(N4827=0,\"\",MAX(O$15:O4826)+1)","v":""},""]
[null,null,null,null,null,null,null,null,null,null,null,null,null,0,{"$f":"IF(N4828=0,\"\",MAX(O$15:O4827)+1)","v":""},""]
[null,null,null,null,null,null,null,null,null,null,null,null,null,0,{"$f":"IF(N4829=0,\"\",MAX(O$15:O4828)+1)","v":""},""]
[null,null,null,null,null,null,null,null,null,null,null,null,null,0,{"$f":"IF(N4830=0,\"\",MAX(O$15:O4829)+1)","v":""},""]
[null,null,null,null,null,null,null,null,null,null,null,null,null,0,{"$f":"IF(N4831=0,\"\",MAX(O$15:O4830)+1)","v":""},""]
[null,null,null,null,null,null,null,null,null,null,null,null,null,0,{"$f":"IF(N4832=0,\"\",MAX(O$15:O4831)+1)","v":""},""]
[null,null,null,null,null,null,null,null,null,null,null,null,null,0,{"$f":"IF(N4833=0,\"\",MAX(O$15:O4832)+1)","v":""},""]
[null,null,null,null,null,null,null,null,null,null,null,null,null,0,{"$f":"IF(N4834=0,\"\",MAX(O$15:O4833)+1)","v":""},""]
[null,null,null,null,null,null,null,null,null,null,null,null,null,0,{"$f":"IF(N4835=0,\"\",MAX(O$15:O4834)+1)","v":""},""]
[null,null,null,null,null,null,null,null,null,null,null,null,null,0,{"$f":"IF(N4836=0,\"\",MAX(O$15:O4835)+1)","v":""},""]
[null,null,null,null,null,null,null,null,null,null,null,null,null,0,{"$f":"IF(N4837=0,\"\",MAX(O$15:O4836)+1)","v":""},""]
[null,null,null,null,null,null,null,null,null,null,null,null,null,0,{"$f":"IF(N4838=0,\"\",MAX(O$15:O4837)+1)","v":""},""]
[null,null,null,null,null,null,null,null,null,null,null,null,null,0,{"$f":"IF(N4839=0,\"\",MAX(O$15:O4838)+1)","v":""},""]
[null,null,null,null,null,null,null,null,null,null,null,null,null,0,{"$f":"IF(N4840=0,\"\",MAX(O$15:O4839)+1)","v":""},""]
[null,null,null,null,null,null,null,null,null,null,null,null,null,0,{"$f":"IF(N4841=0,\"\",MAX(O$15:O4840)+1)","v":""},""]
[null,null,null,null,null,null,null,null,null,null,null,null,null,0,{"$f":"IF(N4842=0,\"\",MAX(O$15:O4841)+1)","v":""},""]
[null,null,null,null,null,null,null,null,null,null,null,null,null,0,{"$f":"IF(N4843=0,\"\",MAX(O$15:O4842)+1)","v":""},""]
[null,null,null,null,null,null,null,null,null,null,null,null,null,0,{"$f":"IF(N4844=0,\"\",MAX(O$15:O4843)+1)","v":""},""]
[null,null,null,null,null,null,null,null,null,null,null,null,null,0,{"$f":"IF(N4845=0,\"\",MAX(O$15:O4844)+1)","v":""},""]
[null,null,null,null,null,null,null,null,null,null,null,null,null,0,{"$f":"IF(N4846=0,\"\",MAX(O$15:O4845)+1)","v":""},""]
[null,null,null,null,null,null,null,null,null,null,null,null,null,0,{"$f":"IF(N4847=0,\"\",MAX(O$15:O4846)+1)","v":""},""]
[null,null,null,null,null,null,null,null,null,null,null,null,null,0,{"$f":"IF(N4848=0,\"\",MAX(O$15:O4847)+1)","v":""},""]
[null,null,null,null,null,null,null,null,null,null,null,null,null,0,{"$f":"IF(N4849=0,\"\",MAX(O$15:O4848)+1)","v":""},""]
[null,null,null,null,null,null,null,null,null,null,null,null,null,0,{"$f":"IF(N4850=0,\"\",MAX(O$15:O4849)+1)","v":""},""]
[null,null,null,null,null,null,null,null,null,null,null,null,null,0,{"$f":"IF(N4851=0,\"\",MAX(O$15:O4850)+1)","v":""},""]
[null,null,null,null,null,null,null,null,null,null,null,null,null,0,{"$f":"IF(N4852=0,\"\",MAX(O$15:O4851)+1)","v":""},""]
[null,null,null,null,null,null,null,null,null,null,null,null,null,0,{"$f":"IF(N4853=0,\"\",MAX(O$15:O4852)+1)","v":""},""]
[null,null,null,null,null,null,null,null,null,null,null,null,null,0,{"$f":"IF(N4854=0,\"\",MAX(O$15:O4853)+1)","v":""},""]
[null,null,null,null,null,null,null,null,null,null,null,null,null,0,{"$f":"IF(N4855=0,\"\",MAX(O$15:O4854)+1)","v":""},""]
[null,null,null,null,null,null,null,null,null,null,null,null,null,0,{"$f":"IF(N4856=0,\"\",MAX(O$15:O4855)+1)","v":""},""]
[null,null,null,null,null,null,null,null,null,null,null,null,null,0,{"$f":"IF(N4857=0,\"\",MAX(O$15:O4856)+1)","v":""},""]
[null,null,null,null,null,null,null,null,null,null,null,null,null,{"$f":"IFERROR(M4858*L4858/1000,\"\")","v":0},{"$f":"IF(N4858=0,\"\",MAX(O$15:O4857)+1)","v":""},""]
[null,null,null,null,null,null,null,null,null,null,null,null,null,0,{"$f":"IF(N4859=0,\"\",MAX(O$15:O4858)+1)","v":""},""]
[null,null,null,null,null,null,null,null,null,null,null,null,null,0,{"$f":"IF(N4860=0,\"\",MAX(O$15:O4859)+1)","v":""},""]
[null,null,null,null,null,null,null,null,null,null,null,null,null,0,{"$f":"IF(N4861=0,\"\",MAX(O$15:O4860)+1)","v":""},""]
[null,null,null,null,null,null,null,null,null,null,null,null,null,0,{"$f":"IF(N4862=0,\"\",MAX(O$15:O4861)+1)","v":""},""]
[null,null,null,null,null,null,null,null,null,null,null,null,null,0,{"$f":"IF(N4863=0,\"\",MAX(O$15:O4862)+1)","v":""},""]
[null,null,null,null,null,null,null,null,null,null,null,null,null,0,{"$f":"IF(N4864=0,\"\",MAX(O$15:O4863)+1)","v":""},""]
[null,null,null,null,null,null,null,null,null,null,null,null,null,0,{"$f":"IF(N4865=0,\"\",MAX(O$15:O4864)+1)","v":""},""]
[null,null,null,null,null,null,null,null,null,null,null,null,null,0,{"$f":"IF(N4866=0,\"\",MAX(O$15:O4865)+1)","v":""},""]
[null,null,null,null,null,null,null,null,null,null,null,null,null,0,{"$f":"IF(N4867=0,\"\",MAX(O$15:O4866)+1)","v":""},""]
[null,null,null,null,null,null,null,null,null,null,null,null,null,0,{"$f":"IF(N4868=0,\"\",MAX(O$15:O4867)+1)","v":""},""]
[null,null,null,null,null,null,null,null,null,null,null,null,null,0,{"$f":"IF(N4869=0,\"\",MAX(O$15:O4868)+1)","v":""},""]
[null,null,null,null,null,null,null,null,null,null,null,null,null,0,{"$f":"IF(N4870=0,\"\",MAX(O$15:O4869)+1)","v":""},""]
[null,null,null,null,null,null,null,null,null,null,null,null,null,0,{"$f":"IF(N4871=0,\"\",MAX(O$15:O4870)+1)","v":""},""]
[null,null,null,null,null,null,null,null,null,null,null,null,null,0,{"$f":"IF(N4872=0,\"\",MAX(O$15:O4871)+1)","v":""},""]
[null,null,null,null,null,null,null,null,null,null,null,null,null,0,{"$f":"IF(N4873=0,\"\",MAX(O$15:O4872)+1)","v":""},""]
[null,null,null,null,null,null,null,null,null,null,null,null,null,0,{"$f":"IF(N4874=0,\"\",MAX(O$15:O4873)+1)","v":""},""]
[null,null,null,null,null,null,null,null,null,null,null,null,null,0,{"$f":"IF(N4875=0,\"\",MAX(O$15:O4874)+1)","v":""},""]
[null,null,null,null,null,null,null,null,null,null,null,null,null,0,{"$f":"IF(N4876=0,\"\",MAX(O$15:O4875)+1)","v":""},""]
[null,null,null,null,null,null,null,null,null,null,null,null,null,0,{"$f":"IF(N4877=0,\"\",MAX(O$15:O4876)+1)","v":""},""]
[null,null,null,null,null,null,null,null,null,null,null,null,null,0,{"$f":"IF(N4878=0,\"\",MAX(O$15:O4877)+1)","v":""},""]
[null,null,null,null,null,null,null,null,null,null,null,null,null,0,{"$f":"IF(N4879=0,\"\",MAX(O$15:O4878)+1)","v":""},""]
[null,null,null,null,null,null,null,null,null,null,null,null,null,0,{"$f":"IF(N4880=0,\"\",MAX(O$15:O4879)+1)","v":""},{"$f":"IFERROR(INDEX($N$15:$N$5014,MATCH(ROW()-ROW($O$14),$O$15:$O$5014,0)),\"\")","v":""}]
[null,null,null,null,null,null,null,null,null,null,null,null,null,0,{"$f":"IF(N4881=0,\"\",MAX(O$15:O4880)+1)","v":""},""]
[null,null,null,null,null,null,null,null,null,null,null,null,null,0,{"$f":"IF(N4882=0,\"\",MAX(O$15:O4881)+1)","v":""},""]
[null,null,null,null,null,null,null,null,null,null,null,null,null,0,{"$f":"IF(N4883=0,\"\",MAX(O$15:O4882)+1)","v":""},""]
[null,null,null,null,null,null,null,null,null,null,null,null,null,0,{"$f":"IF(N4884=0,\"\",MAX(O$15:O4883)+1)","v":""},""]
[null,null,null,null,null,null,null,null,null,null,null,null,null,0,{"$f":"IF(N4885=0,\"\",MAX(O$15:O4884)+1)","v":""},""]
[null,null,null,null,null,null,null,null,null,null,null,null,null,0,{"$f":"IF(N4886=0,\"\",MAX(O$15:O4885)+1)","v":""},""]
[null,null,null,null,null,null,null,null,null,null,null,null,null,0,{"$f":"IF(N4887=0,\"\",MAX(O$15:O4886)+1)","v":""},""]
[null,null,null,null,null,null,null,null,null,null,null,null,null,0,{"$f":"IF(N4888=0,\"\",MAX(O$15:O4887)+1)","v":""},""]
[null,null,null,null,null,null,null,null,null,null,null,null,null,0,{"$f":"IF(N4889=0,\"\",MAX(O$15:O4888)+1)","v":""},""]
[null,null,null,null,null,null,null,null,null,null,null,null,null,0,{"$f":"IF(N4890=0,\"\",MAX(O$15:O4889)+1)","v":""},""]
[null,null,null,null,null,null,null,null,null,null,null,null,null,0,{"$f":"IF(N4891=0,\"\",MAX(O$15:O4890)+1)","v":""},""]
[null,null,null,null,null,null,null,null,null,null,null,null,null,0,{"$f":"IF(N4892=0,\"\",MAX(O$15:O4891)+1)","v":""},""]
[null,null,null,null,null,null,null,null,null,null,null,null,null,0,{"$f":"IF(N4893=0,\"\",MAX(O$15:O4892)+1)","v":""},""]
[null,null,null,null,null,null,null,null,null,null,null,null,null,0,{"$f":"IF(N4894=0,\"\",MAX(O$15:O4893)+1)","v":""},""]
[null,null,null,null,null,null,null,null,null,null,null,null,null,0,{"$f":"IF(N4895=0,\"\",MAX(O$15:O4894)+1)","v":""},""]
[null,null,null,null,null,null,null,null,null,null,null,null,null,0,{"$f":"IF(N4896=0,\"\",MAX(O$15:O4895)+1)","v":""},""]
[null,null,null,null,null,null,null,null,null,null,null,null,null,0,{"$f":"IF(N4897=0,\"\",MAX(O$15:O4896)+1)","v":""},""]
[null,null,null,null,null,null,null,null,null,null,null,null,null,0,{"$f":"IF(N4898=0,\"\",MAX(O$15:O4897)+1)","v":""},""]
[null,null,null,null,null,null,null,null,null,null,null,null,null,0,{"$f":"IF(N4899=0,\"\",MAX(O$15:O4898)+1)","v":""},""]
[null,null,null,null,null,null,null,null,null,null,null,null,null,0,{"$f":"IF(N4900=0,\"\",MAX(O$15:O4899)+1)","v":""},""]
[null,null,null,null,null,null,null,null,null,null,null,null,null,0,{"$f":"IF(N4901=0,\"\",MAX(O$15:O4900)+1)","v":""},""]
[null,null,null,null,null,null,null,null,null,null,null,null,null,0,{"$f":"IF(N4902=0,\"\",MAX(O$15:O4901)+1)","v":""},""]
[null,null,null,null,null,null,null,null,null,null,null,null,null,0,{"$f":"IF(N4903=0,\"\",MAX(O$15:O4902)+1)","v":""},""]
[null,null,null,null,null,null,null,null,null,null,null,null,null,0,{"$f":"IF(N4904=0,\"\",MAX(O$15:O4903)+1)","v":""},""]
[null,null,null,null,null,null,null,null,null,null,null,null,null,0,{"$f":"IF(N4905=0,\"\",MAX(O$15:O4904)+1)","v":""},""]
[null,null,null,null,null,null,null,null,null,null,null,null,null,0,{"$f":"IF(N4906=0,\"\",MAX(O$15:O4905)+1)","v":""},""]
[null,null,null,null,null,null,null,null,null,null,null,null,null,0,{"$f":"IF(N4907=0,\"\",MAX(O$15:O4906)+1)","v":""},""]
[null,null,null,null,null,null,null,null,null,null,null,null,null,0,{"$f":"IF(N4908=0,\"\",MAX(O$15:O4907)+1)","v":""},""]
[null,null,null,null,null,null,null,null,null,null,null,null,null,0,{"$f":"IF(N4909=0,\"\",MAX(O$15:O4908)+1)","v":""},""]
[null,null,null,null,null,null,null,null,null,null,null,null,null,0,{"$f":"IF(N4910=0,\"\",MAX(O$15:O4909)+1)","v":""},""]
[null,null,null,null,null,null,null,null,null,null,null,null,null,0,{"$f":"IF(N4911=0,\"\",MAX(O$15:O4910)+1)","v":""},""]
[null,null,null,null,null,null,null,null,null,null,null,null,null,0,{"$f":"IF(N4912=0,\"\",MAX(O$15:O4911)+1)","v":""},""]
[null,null,null,null,null,null,null,null,null,null,null,null,null,0,{"$f":"IF(N4913=0,\"\",MAX(O$15:O4912)+1)","v":""},""]
[null,null,null,null,null,null,null,null,null,null,null,null,null,0,{"$f":"IF(N4914=0,\"\",MAX(O$15:O4913)+1)","v":""},""]
[null,null,null,null,null,null,null,null,null,null,null,null,null,0,{"$f":"IF(N4915=0,\"\",MAX(O$15:O4914)+1)","v":""},""]
[null,null,null,null,null,null,null,null,null,null,null,null,null,0,{"$f":"IF(N4916=0,\"\",MAX(O$15:O4915)+1)","v":""},""]
[null,null,null,null,null,null,null,null,null,null,null,null,null,0,{"$f":"IF(N4917=0,\"\",MAX(O$15:O4916)+1)","v":""},""]
[null,null,null,null,null,null,null,null,null,null,null,null,null,0,{"$f":"IF(N4918=0,\"\",MAX(O$15:O4917)+1)","v":""},""]
[null,null,null,null,null,null,null,null,null,null,null,null,null,0,{"$f":"IF(N4919=0,\"\",MAX(O$15:O4918)+1)","v":""},""]
[null,null,null,null,null,null,null,null,null,null,null,null,null,0,{"$f":"IF(N4920=0,\"\",MAX(O$15:O4919)+1)","v":""},""]
[null,null,null,null,null,null,null,null,null,null,null,null,null,0,{"$f":"IF(N4921=0,\"\",MAX(O$15:O4920)+1)","v":""},""]
[null,null,null,null,null,null,null,null,null,null,null,null,null,{"$f":"IFERROR(M4922*L4922/1000,\"\")","v":0},{"$f":"IF(N4922=0,\"\",MAX(O$15:O4921)+1)","v":""},""]
[null,null,null,null,null,null,null,null,null,null,null,null,null,0,{"$f":"IF(N4923=0,\"\",MAX(O$15:O4922)+1)","v":""},""]
[null,null,null,null,null,null,null,null,null,null,null,null,null,0,{"$f":"IF(N4924=0,\"\",MAX(O$15:O4923)+1)","v":""},""]
[null,null,null,null,null,null,null,null,null,null,null,null,null,0,{"$f":"IF(N4925=0,\"\",MAX(O$15:O4924)+1)","v":""},""]
[null,null,null,null,null,null,null,null,null,null,null,null,null,0,{"$f":"IF(N4926=0,\"\",MAX(O$15:O4925)+1)","v":""},""]
[null,null,null,null,null,null,null,null,null,null,null,null,null,0,{"$f":"IF(N4927=0,\"\",MAX(O$15:O4926)+1)","v":""},""]
[null,null,null,null,null,null,null,null,null,null,null,null,null,0,{"$f":"IF(N4928=0,\"\",MAX(O$15:O4927)+1)","v":""},""]
[null,null,null,null,null,null,null,null,null,null,null,null,null,0,{"$f":"IF(N4929=0,\"\",MAX(O$15:O4928)+1)","v":""},""]
[null,null,null,null,null,null,null,null,null,null,null,null,null,0,{"$f":"IF(N4930=0,\"\",MAX(O$15:O4929)+1)","v":""},""]
[null,null,null,null,null,null,null,null,null,null,null,null,null,0,{"$f":"IF(N4931=0,\"\",MAX(O$15:O4930)+1)","v":""},""]
[null,null,null,null,null,null,null,null,null,null,null,null,null,0,{"$f":"IF(N4932=0,\"\",MAX(O$15:O4931)+1)","v":""},""]
[null,null,null,null,null,null,null,null,null,null,null,null,null,0,{"$f":"IF(N4933=0,\"\",MAX(O$15:O4932)+1)","v":""},""]
[null,null,null,null,null,null,null,null,null,null,null,null,null,0,{"$f":"IF(N4934=0,\"\",MAX(O$15:O4933)+1)","v":""},""]
[null,null,null,null,null,null,null,null,null,null,null,null,null,0,{"$f":"IF(N4935=0,\"\",MAX(O$15:O4934)+1)","v":""},""]
[null,null,null,null,null,null,null,null,null,null,null,null,null,0,{"$f":"IF(N4936=0,\"\",MAX(O$15:O4935)+1)","v":""},""]
[null,null,null,null,null,null,null,null,null,null,null,null,null,0,{"$f":"IF(N4937=0,\"\",MAX(O$15:O4936)+1)","v":""},""]
[null,null,null,null,null,null,null,null,null,null,null,null,null,0,{"$f":"IF(N4938=0,\"\",MAX(O$15:O4937)+1)","v":""},""]
[null,null,null,null,null,null,null,null,null,null,null,null,null,0,{"$f":"IF(N4939=0,\"\",MAX(O$15:O4938)+1)","v":""},""]
[null,null,null,null,null,null,null,null,null,null,null,null,null,0,{"$f":"IF(N4940=0,\"\",MAX(O$15:O4939)+1)","v":""},""]
[null,null,null,null,null,null,null,null,null,null,null,null,null,0,{"$f":"IF(N4941=0,\"\",MAX(O$15:O4940)+1)","v":""},""]
[null,null,null,null,null,null,null,null,null,null,null,null,null,0,{"$f":"IF(N4942=0,\"\",MAX(O$15:O4941)+1)","v":""},""]
[null,null,null,null,null,null,null,null,null,null,null,null,null,0,{"$f":"IF(N4943=0,\"\",MAX(O$15:O4942)+1)","v":""},""]
[null,null,null,null,null,null,null,null,null,null,null,null,null,0,{"$f":"IF(N4944=0,\"\",MAX(O$15:O4943)+1)","v":""},{"$f":"IFERROR(INDEX($N$15:$N$5014,MATCH(ROW()-ROW($O$14),$O$15:$O$5014,0)),\"\")","v":""}]
[null,null,null,null,null,null,null,null,null,null,null,null,null,0,{"$f":"IF(N4945=0,\"\",MAX(O$15:O4944)+1)","v":""},""]
[null,null,null,null,null,null,null,null,null,null,null,null,null,0,{"$f":"IF(N4946=0,\"\",MAX(O$15:O4945)+1)","v":""},""]
[null,null,null,null,null,null,null,null,null,null,null,null,null,0,{"$f":"IF(N4947=0,\"\",MAX(O$15:O4946)+1)","v":""},""]
[null,null,null,null,null,null,null,null,null,null,null,null,null,0,{"$f":"IF(N4948=0,\"\",MAX(O$15:O4947)+1)","v":""},""]
[null,null,null,null,null,null,null,null,null,null,null,null,null,0,{"$f":"IF(N4949=0,\"\",MAX(O$15:O4948)+1)","v":""},""]
[null,null,null,null,null,null,null,null,null,null,null,null,null,0,{"$f":"IF(N4950=0,\"\",MAX(O$15:O4949)+1)","v":""},""]
[null,null,null,null,null,null,null,null,null,null,null,null,null,0,{"$f":"IF(N4951=0,\"\",MAX(O$15:O4950)+1)","v":""},""]
[null,null,null,null,null,null,null,null,null,null,null,null,null,0,{"$f":"IF(N4952=0,\"\",MAX(O$15:O4951)+1)","v":""},""]
[null,null,null,null,null,null,null,null,null,null,null,null,null,0,{"$f":"IF(N4953=0,\"\",MAX(O$15:O4952)+1)","v":""},""]
[null,null,null,null,null,null,null,null,null,null,null,null,null,0,{"$f":"IF(N4954=0,\"\",MAX(O$15:O4953)+1)","v":""},""]
[null,null,null,null,null,null,null,null,null,null,null,null,null,0,{"$f":"IF(N4955=0,\"\",MAX(O$15:O4954)+1)","v":""},""]
[null,null,null,null,null,null,null,null,null,null,null,null,null,0,{"$f":"IF(N4956=0,\"\",MAX(O$15:O4955)+1)","v":""},""]
[null,null,null,null,null,null,null,null,null,null,null,null,null,0,{"$f":"IF(N4957=0,\"\",MAX(O$15:O4956)+1)","v":""},""]
[null,null,null,null,null,null,null,null,null,null,null,null,null,0,{"$f":"IF(N4958=0,\"\",MAX(O$15:O4957)+1)","v":""},""]
[null,null,null,null,null,null,null,null,null,null,null,null,null,0,{"$f":"IF(N4959=0,\"\",MAX(O$15:O4958)+1)","v":""},""]
[null,null,null,null,null,null,null,null,null,null,null,null,null,0,{"$f":"IF(N4960=0,\"\",MAX(O$15:O4959)+1)","v":""},""]
[null,null,null,null,null,null,null,null,null,null,null,null,null,0,{"$f":"IF(N4961=0,\"\",MAX(O$15:O4960)+1)","v":""},""]
[null,null,null,null,null,null,null,null,null,null,null,null,null,0,{"$f":"IF(N4962=0,\"\",MAX(O$15:O4961)+1)","v":""},""]
[null,null,null,null,null,null,null,null,null,null,null,null,null,0,{"$f":"IF(N4963=0,\"\",MAX(O$15:O4962)+1)","v":""},""]
[null,null,null,null,null,null,null,null,null,null,null,null,null,0,{"$f":"IF(N4964=0,\"\",MAX(O$15:O4963)+1)","v":""},""]
[null,null,null,null,null,null,null,null,null,null,null,null,null,0,{"$f":"IF(N4965=0,\"\",MAX(O$15:O4964)+1)","v":""},""]
[null,null,null,null,null,null,null,null,null,null,null,null,null,0,{"$f":"IF(N4966=0,\"\",MAX(O$15:O4965)+1)","v":""},""]
[null,null,null,null,null,null,null,null,null,null,null,null,null,0,{"$f":"IF(N4967=0,\"\",MAX(O$15:O4966)+1)","v":""},""]
[null,null,null,null,null,null,null,null,null,null,null,null,null,0,{"$f":"IF(N4968=0,\"\",MAX(O$15:O4967)+1)","v":""},""]
[null,null,null,null,null,null,null,null,null,null,null,null,null,0,{"$f":"IF(N4969=0,\"\",MAX(O$15:O4968)+1)","v":""},""]
[null,null,null,null,null,null,null,null,null,null,null,null,null,0,{"$f":"IF(N4970=0,\"\",MAX(O$15:O4969)+1)","v":""},""]
[null,null,null,null,null,null,null,null,null,null,null,null,null,0,{"$f":"IF(N4971=0,\"\",MAX(O$15:O4970)+1)","v":""},""]
[null,null,null,null,null,null,null,null,null,null,null,null,null,0,{"$f":"IF(N4972=0,\"\",MAX(O$15:O4971)+1)","v":""},""]
[null,null,null,null,null,null,null,null,null,null,null,null,null,0,{"$f":"IF(N4973=0,\"\",MAX(O$15:O4972)+1)","v":""},""]
[null,null,null,null,null,null,null,null,null,null,null,null,null,0,{"$f":"IF(N4974=0,\"\",MAX(O$15:O4973)+1)","v":""},""]
[null,null,null,null,null,null,null,null,null,null,null,null,null,0,{"$f":"IF(N4975=0,\"\",MAX(O$15:O4974)+1)","v":""},""]
[null,null,null,null,null,null,null,null,null,null,null,null,null,0,{"$f":"IF(N4976=0,\"\",MAX(O$15:O4975)+1)","v":""},""]
[null,null,null,null,null,null,null,null,null,null,null,null,null,0,{"$f":"IF(N4977=0,\"\",MAX(O$15:O4976)+1)","v":""},""]
[null,null,null,null,null,null,null,null,null,null,null,null,null,0,{"$f":"IF(N4978=0,\"\",MAX(O$15:O4977)+1)","v":""},""]
[null,null,null,null,null,null,null,null,null,null,null,null,null,0,{"$f":"IF(N4979=0,\"\",MAX(O$15:O4978)+1)","v":""},""]
[null,null,null,null,null,null,null,null,null,null,null,null,null,0,{"$f":"IF(N4980=0,\"\",MAX(O$15:O4979)+1)","v":""},""]
[null,null,null,null,null,null,null,null,null,null,null,null,null,0,{"$f":"IF(N4981=0,\"\",MAX(O$15:O4980)+1)","v":""},""]
[null,null,null,null,null,null,null,null,null,null,null,null,null,0,{"$f":"IF(N4982=0,\"\",MAX(O$15:O4981)+1)","v":""},""]
[null,null,null,null,null,null,null,null,null,null,null,null,null,0,{"$f":"IF(N4983=0,\"\",MAX(O$15:O4982)+1)","v":""},""]
[null,null,null,null,null,null,null,null,null,null,null,null,null,0,{"$f":"IF(N4984=0,\"\",MAX(O$15:O4983)+1)","v":""},""]
[null,null,null,null,null,null,null,null,null,null,null,null,null,0,{"$f":"IF(N4985=0,\"\",MAX(O$15:O4984)+1)","v":""},""]
[null,null,null,null,null,null,null,null,null,null,null,null,null,{"$f":"IFERROR(M4986*L4986/1000,\"\")","v":0},{"$f":"IF(N4986=0,\"\",MAX(O$15:O4985)+1)","v":""},""]
[null,null,null,null,null,null,null,null,null,null,null,null,null,0,{"$f":"IF(N4987=0,\"\",MAX(O$15:O4986)+1)","v":""},""]
[null,null,null,null,null,null,null,null,null,null,null,null,null,0,{"$f":"IF(N4988=0,\"\",MAX(O$15:O4987)+1)","v":""},""]
[null,null,null,null,null,null,null,null,null,null,null,null,null,0,{"$f":"IF(N4989=0,\"\",MAX(O$15:O4988)+1)","v":""},""]
[null,null,null,null,null,null,null,null,null,null,null,null,null,0,{"$f":"IF(N4990=0,\"\",MAX(O$15:O4989)+1)","v":""},""]
[null,null,null,null,null,null,null,null,null,null,null,null,null,0,{"$f":"IF(N4991=0,\"\",MAX(O$15:O4990)+1)","v":""},""]
[null,null,null,null,null,null,null,null,null,null,null,null,null,0,{"$f":"IF(N4992=0,\"\",MAX(O$15:O4991)+1)","v":""},""]
[null,null,null,null,null,null,null,null,null,null,null,null,null,0,{"$f":"IF(N4993=0,\"\",MAX(O$15:O4992)+1)","v":""},""]
[null,null,null,null,null,null,null,null,null,null,null,null,null,0,{"$f":"IF(N4994=0,\"\",MAX(O$15:O4993)+1)","v":""},""]
[null,null,null,null,null,null,null,null,null,null,null,null,null,0,{"$f":"IF(N4995=0,\"\",MAX(O$15:O4994)+1)","v":""},""]
[null,null,null,null,null,null,null,null,null,null,null,null,null,0,{"$f":"IF(N4996=0,\"\",MAX(O$15:O4995)+1)","v":""},""]
[null,null,null,null,null,null,null,null,null,null,null,null,null,0,{"$f":"IF(N4997=0,\"\",MAX(O$15:O4996)+1)","v":""},""]
[null,null,null,null,null,null,null,null,null,null,null,null,null,0,{"$f":"IF(N4998=0,\"\",MAX(O$15:O4997)+1)","v":""},""]
[null,null,null,null,null,null,null,null,null,null,null,null,null,0,{"$f":"IF(N4999=0,\"\",MAX(O$15:O4998)+1)","v":""},""]
[null,null,null,null,null,null,null,null,null,null,null,null,null,0,{"$f":"IF(N5000=0,\"\",MAX(O$15:O4999)+1)","v":""},""]
[null,null,null,null,null,null,null,null,null,null,null,null,null,0,{"$f":"IF(N5001=0,\"\",MAX(O$15:O5000)+1)","v":""},""]
[null,null,null,null,null,null,null,null,null,null,null,null,null,{"$f":"IFERROR(M5002*L5002/1000,\"\")","v":0},{"$f":"IF(N5002=0,\"\",MAX(O$15:O5001)+1)","v":""},""]
[null,null,null,null,null,null,null,null,null,null,null,null,null,0,{"$f":"IF(N5003=0,\"\",MAX(O$15:O5002)+1)","v":""},""]
[null,null,null,null,null,null,null,null,null,null,null,null,null,0,{"$f":"IF(N5004=0,\"\",MAX(O$15:O5003)+1)","v":""},""]
[null,null,null,null,null,null,null,null,null,null,null,null,null,0,{"$f":"IF(N5005=0,\"\",MAX(O$15:O5004)+1)","v":""},""]
[null,null,null,null,null,null,null,null,null,null,null,null,null,0,{"$f":"IF(N5006=0,\"\",MAX(O$15:O5005)+1)","v":""},""]
[null,null,null,null,null,null,null,null,null,null,null,null,null,0,{"$f":"IF(N5007=0,\"\",MAX(O$15:O5006)+1)","v":""},""]
[null,null,null,null,null,null,null,null,null,null,null,null,null,0,{"$f":"IF(N5008=0,\"\",MAX(O$15:O5007)+1)","v":""},{"$f":"IFERROR(INDEX($N$15:$N$5014,MATCH(ROW()-ROW($O$14),$O$15:$O$5014,0)),\"\")","v":""}]
[null,null,null,null,null,null,null,null,null,null,null,null,null,0,{"$f":"IF(N5009=0,\"\",MAX(O$15:O5008)+1)","v":""},""]
[null,null,null,null,null,null,null,null,null,null,null,null,null,0,{"$f":"IF(N5010=0,\"\",MAX(O$15:O5009)+1)","v":""},""]
[null,null,null,null,null,null,null,null,null,null,null,null,null,0,{"$f":"IF(N5011=0,\"\",MAX(O$15:O5010)+1)","v":""},""]
[null,null,null,null,null,null,null,null,null,null,null,null,null,0,{"$f":"IF(N5012=0,\"\",MAX(O$15:O5011)+1)","v":""},""]
[null,null,null,null,null,null,null,null,null,null,null,null,null,0,{"$f":"IF(N5013=0,\"\",MAX(O$15:O5012)+1)","v":""},""]
[null,null,null,null,null,null,null,null,null,null,null,null,null,{"$f":"IFERROR(M5014*L5014/1000,\"\")","v":0},{"$f":"IF(N5014=0,\"\",MAX(O$15:O5013)+1)","v":""},""]

{"sheet":"HavePREC_prop_matched_hayes","index":5,"n_rows":35,"n_cols":20,"rows_kept":35,"cut":false,"hidden":false,"merged":[[1,5,2,5]]}
["PROPORTIONS MATCHED (HAYES)"]
["1-type I","power","z_a","z_b",null,"CSMF Rank","p_0","%","p_1","cluster","km","# clusters "]
[null,null,null,null,null,null,"CSMF time 0","Reduction","CSMF time 1","size n",null,"per arm*","MIS","Male:Female","* clusters to be conservative, round up","n without clustering (n1)","n with clustering (n2)","DE","ICC","CV or k"]
[{"$f":"$I$26","v":0.05},{"$f":"$F$26","v":0.8},{"$f":"NORMSINV(1-(0.5*(A4)))","v":1.9599639845400536},{"$f":"NORMSINV(B4)","v":0.84162123357291474},{"$f":"(C4+D4)^2","v":7.8488797343490884},null,{"$f":"MIN(G5:G14)","v":0.01},{"$f":"PrecisionCSMF","v":0.25},{"$f":"G4*(1-H4)","v":7.4999999999999997E-3},{"$f":"$F$22*$I$22*(1-$I$20)*(1-$I$18)","v":73.709999999999994},{"$f":"$F$24","v":0.25},{"$f":"2+E4*((G4*(1-G4)/J4)+(I4*(1-I4)/J4)+(K4*K4)*((G4*G4)+(I4*I4)))/((I4-G4)^2)","v":309.75486987482299},{"$f":"L4*$F$28","v":464.63230481223445},{"$f":"M4*$I$24","v":929.2646096244689},{"$f":"INT(N4)+1","v":930},{"$f":"E4*(G4*(1-G4)+I4*(1-I4))/(G4-I4)^2","v":21780.64126281871},{"$f":"J4*L4","v":22832.0314584732},{"$f":"Q4/P4","v":1.0482717741396024},{"$f":"(R4-1)/(J4-1)","v":6.638945693797604E-4},{"$f":"SQRT(S4*(1-G4)/G4)","v":0.25636997165931169}]
[0.05,0.8,1.9599639845400536,0.84162123357291474,7.8488797343490884,null,0.25,{"$f":"(1-I5/G5)","v":7.0654631474716623E-2},{"$f":"(-SQRT((-2*L5*J5*G5+4*J5*G5-E5)^2-4*(L5*J5+K5^2*(-J5)*E5-2*J5+E5)*(L5*J5*G5^2-K5^2*J5*G5^2*E5-2*J5*G5^2+G5^2*E5-G5*E5))+2*L5*J5*G5-4*J5*G5+E5)/(2*(L5*J5+K5^2*(-J5)*E5-2*J5+E5))","v":0.23233634213132084},{"$f":"$F$22*$I$22*(1-$I$20)*(1-$I$18)","v":73.709999999999994},0.25,{"$f":"M5/$F$28","v":310},{"$f":"N5/$I$24","v":465},{"$f":"$O$4","v":930},{"$f":"ROUND(N5,0)","v":930},9203.5794430302976,22850.1,2.4827405621303091,2.0392525954205876E-2,0.24734101532624472]
[0.05,0.8,1.9599639845400536,0.84162123357291474,7.8488797343490884,null,0.2,{"$f":"(1-I6/G6)","v":7.5107303278533877E-2},{"$f":"(-SQRT((-2*L6*J6*G6+4*J6*G6-E6)^2-4*(L6*J6+K6^2*(-J6)*E6-2*J6+E6)*(L6*J6*G6^2-K6^2*J6*G6^2*E6-2*J6*G6^2+G6^2*E6-G6*E6))+2*L6*J6*G6-4*J6*G6+E6)/(2*(L6*J6+K6^2*(-J6)*E6-2*J6+E6))","v":0.18497853934429323},73.709999999999994,0.25,{"$f":"M6/$F$28","v":310},{"$f":"N6/$I$24","v":465},{"$f":"$O$4","v":930},{"$f":"ROUND(N6,0)","v":930},10809.622450010454,22850.1,2.1138666133503952,1.5319304268331663E-2,0.24754235409991288]
[0.05,0.8,1.9599639845400536,0.84162123357291474,7.8488797343490884,null,0.15,8.1967485275113994E-2,0.1377048772087329,73.709999999999994,0.25,310,465,930,930,12785.110738620386,22850.1,1.7872430256685994,1.0827163054168608E-2,0.24769724256362266]
[0.05,0.8,1.9599639845400536,0.84162123357291474,7.8488797343490884,null,0.125,8.704694680881031E-2,0.11411913164889871,73.709999999999994,0.25,310,465,930,930,13953.165184237405,22850.1,1.6376284304161519,8.7694736682182913E-3,0.24776261961306439]
[0.05,0.8,1.9599639845400536,0.84162123357291474,7.8488797343490884,null,0.1,9.4124185409595218E-2,9.0587581459040487E-2,73.709999999999994,0.25,310,465,930,930,15271.995838645566,22850.1,1.496209155726598,6.8244967092091595E-3,0.24783153629609456]
[0.05,0.8,1.9599639845400536,0.84162123357291474,7.8488797343490884,null,7.4999999999999997E-2,0.10479766779352551,6.7140174915485587E-2,73.709999999999994,0.25,310,465,930,930,16771.816295264878,22850.1,1.3624105819982764,4.9843292806804624E-3,0.24793828760747241]
[0.05,0.8,1.9599639845400536,0.84162123357291474,7.8488797343490884,null,0.05,0.12321772271100984,4.3839113864449511E-2,73.709999999999994,0.25,310,465,930,930,18490.242181203299,22850.1,1.2357923588058148,3.2429151259223609E-3,0.24822446976985338]
[0.05,0.8,1.9599639845400536,0.84162123357291474,7.8488797343490884,null,0.03,0.15305539530226697,2.5408338140931991E-2,73.709999999999994,0.25,310,465,930,930,20051.941896066372,22850.1,1.1395454923237409,1.9192063309550395E-3,0.24910708146139271]
[0.05,0.8,1.9599639845400536,0.84162123357291474,7.8488797343490884,null,0.02,0.18299853301434876,1.6340029339713024E-2,73.709999999999994,0.25,310,465,930,930,20902.224098986713,22850.1,1.0931898869607715,1.2816653412291497E-3,0.25060247748222347]
[0.05,0.8,1.9599639845400536,0.84162123357291474,7.8488797343490884,null,0.01,0.2499072577917183,7.5009274220828176E-3,73.709999999999994,0.25,310,465,930,930,21797.958193945429,22850.1,1.048267906410923,6.6384137547686767E-4,0.25635970075698306]
[null,null,null,null,null,null,null,null,null,null,null,null,null,null,"Clusters needed",null,null,null,{"$f":"SUMPRODUCT(S4:S14,G4:G14)","v":1.2197157988340248E-2}]
[]
[]
[null,null,null," ","CDR",{"$f":"CDR","v":6.5},null,"Non-response rate",{"$f":"NonResponse","v":0.1}]
[]
[" "," ",null,"Cluster population",null,{"$f":"cluster_pop","v":18000},null,"Prior MCCD ",{"$f":"PriorMCCD","v":0.3}]
[" "]
["Expected total deaths per cluster per year",null,null,null,null,{"$f":"Expected_deaths","v":117},null,"Years of follow up",{"$f":"YearsFollowUp","v":1}]
[]
[null,null,null," ","k",{"$f":"Coeff_k","v":0.25},null,"Male:Female",{"$f":"MaleFemale","v":2}]
[]
[null,null,null,null,"Power",{"$f":"Power","v":0.8},null,"Significance Level",{"$f":"Significance","v":0.05}]
[]
[null,null,null,null,"MIS",{"$f":"MIS","v":1.5}]
[]
[null,"km = coefficient of variation within matched pairs"]
[]
[]
[]
[]
[null,"From the book:"]

{"sheet":"HaveCLUSTER_prop_matched_hayes","index":6,"n_rows":35,"n_cols":20,"rows_kept":35,"cut":false,"hidden":false,"merged":[[1,14,2,14],[1,5,2,5],[1,12,2,12]]}
["PROPORTIONS MATCHED (HAYES)"]
["1-type I","power","z_a","z_b",null,"CSMF Rank","p_0","%","p_1","cluster","km","# clusters ","MIS",null,"* to be conservative, round up"]
[null,null,null,null,null,null,"CSMF time 0","Reduction","CSMF time 1","size n",null,"per arm*",null,"Male:Female",null,"n without clustering (n1)","n with clustering (n2)","DE","ICC","CV or k"]
[{"$f":"$I$26","v":0.05},{"$f":"$F$26","v":0.8},{"$f":"NORMSINV(1-(0.5*(A4)))","v":1.9599639845400536},{"$f":"NORMSINV(B4)","v":0.84162123357291474},{"$f":"(C4+D4)^2","v":7.8488797343490884},"20th",{"$f":"MIN(G5:G14)","v":0.01},{"$f":"MAX(H5:H14)","v":0.53023700930836848},null,null,null,null,null,null,{"$f":"NumberClusters","v":178},{"$f":"E4*(G4*(1-G4)+I4*(1-I4))/(G4-I4)^2","v":777.03909370055987},{"$f":"J4*L4","v":0},{"$f":"Q4/P4","v":0},{"$f":"(R4-1)/(J4-1)","v":1},{"$f":"SQRT(S4*(1-G4)/G4)","v":9.9498743710661994}]
[0.05,0.8,{"$f":"NORMSINV(1-(0.5*(A5)))","v":1.9599639845400536},{"$f":"NORMSINV(B5)","v":0.84162123357291474},{"$f":"(C5+D5)^2","v":7.8488797343490884},{"$f":"Mask1!E24","v":0},0.25,{"$f":"1-I5/G5","v":0.15850284258882597},{"$f":"(-SQRT((-2*M5*J5*G5+4*J5*G5-E5)^2-4*(M5*J5+K5^2*(-J5)*E5-2*J5+E5)*(M5*J5*G5^2-K5^2*J5*G5^2*E5-2*J5*G5^2+G5^2*E5-G5*E5))+2*M5*J5*G5-4*J5*G5+E5)/(2*(M5*J5+K5^2*(-J5)*E5-2*J5+E5))","v":0.21037428935279351},{"$f":"$F$22*$I$22*(1-$I$18)*(1-$I$20)","v":73.709999999999994},{"$f":"$F$24","v":0.25},{"$f":"2+E5*((G5*(1-G5)/J5)+(I5*(1-I5)/J5)+(K5*K5)*((G5*G5)+(I5*I5)))/((I5-G5)^2)","v":59.333333333333812},{"$f":"N5/$F$28","v":59.333333333333336},{"$f":"O4/$I$24","v":89},{"$f":"O4","v":178},1767.6106840349423,4373.4600000000346,{"$f":"Q5/P5","v":2.4742212974277198},2.0275358237212486E-2,0.24662942791085871]
[0.05,0.8,{"$f":"NORMSINV(1-(0.5*(A6)))","v":1.9599639845400536},{"$f":"NORMSINV(B6)","v":0.84162123357291474},{"$f":"(C6+D6)^2","v":7.8488797343490884},{"$f":"Mask1!E25","v":0},0.2,{"$f":"1-I6/G6","v":0.16834934098783116},0.16633013180243378,{"$f":"$F$22*$I$22*(1-$I$18)*(1-$I$20)","v":73.709999999999994},0.25,{"$f":"2+E6*((G6*(1-G6)/J6)+(I6*(1-I6)/J6)+(K6*K6)*((G6*G6)+(I6*I6)))/((I6-G6)^2)","v":59.333333333333591},59.333333333333336,{"$f":"O5/$I$24","v":89},{"$f":"O5","v":178},2067.7990363669051,4373.4600000000182,{"$f":"Q6/P6","v":2.115031452807004},1.5335324615692533E-2,0.24767175548045467]
[0.05,0.8,1.9599639845400536,0.84162123357291474,7.8488797343490884,{"$f":"Mask1!E26","v":0},0.15,{"$f":"1-I7/G7","v":0.18345939577826931},0.1224810906332596,73.709999999999994,0.25,{"$f":"2+E7*((G7*(1-G7)/J7)+(I7*(1-I7)/J7)+(K7*K7)*((G7*G7)+(I7*I7)))/((I7-G7)^2)","v":59.333333333332789},59.333333333333336,89,178,2435.4272688174547,4373.4599999999591,1.7957670327488511,1.094439599434536E-2,0.24903462403440418]
[0.05,0.8,1.9599639845400536,0.84162123357291474,7.8488797343490884,{"$f":"Mask1!E27","v":0},0.125,0.19460003434900941,0.10067499570637382,73.709999999999994,0.25,{"$f":"2+E8*((G8*(1-G8)/J8)+(I8*(1-I8)/J8)+(K8*K8)*((G8*G8)+(I8*I8)))/((I8-G8)^2)","v":59.333333333333094},59.333333333333336,89,178,2651.8332238331136,4373.4599999999818,1.6492213615448745,8.9289143383973948E-3,0.25000480069147024]
[0.05,0.8,1.9599639845400536,0.84162123357291474,7.8488797343490884,{"$f":"Mask1!E28","v":0},0.1,0.21005517181976285,7.8994482818023723E-2,73.709999999999994,0.25,59.333333333333165,59.333333333333336,89,178,2895.1664260376779,4373.4599999999873,1.5106074596151975,7.0225204183083142E-3,0.25140143946440485]
[0.05,0.8,1.9599639845400536,0.84162123357291474,7.8488797343490884,{"$f":"Mask1!E29","v":0},7.4999999999999997E-2,0.23321548619441557,5.7508838535418827E-2,73.709999999999994,0.25,59.333333333332931,59.333333333333336,89,178,3170.3449677279277,4373.45999999997,1.3794902587948565,5.2192306257028819E-3,0.25371344278602104]
[0.05,0.8,1.9599639845400536,0.84162123357291474,7.8488797343490884,{"$f":"Mask1!#REF!","v":{"$error":"#REF!"}},0.05,0.27276455714176684,3.6361772142911662E-2,73.709999999999994,0.25,59.333333333333329,59.333333333333336,89,178,3483.005154008822,4373.4599999999991,1.2556570566558862,3.5161196074251994E-3,0.25846909397658896]
[0.05,0.8,1.9599639845400536,0.84162123357291474,7.8488797343490884,{"$f":"Mask1!E31","v":0},0.03,0.33569400798981008,1.9929179760305695E-2,73.709999999999994,0.25,59.333333333333442,59.333333333333336,89,178,3763.5716144023568,4373.4600000000073,1.1620504265851466,2.2287226871839719E-3,0.26844372511251174]
[0.05,0.8,1.9599639845400536,0.84162123357291474,7.8488797343490884,{"$f":"Mask1!#REF!","v":{"$error":"#REF!"}},0.02,0.39743062933824491,1.2051387413235103E-2,73.709999999999994,0.25,59.333333333333393,59.333333333333336,89,178,3913.9959420274145,4373.4600000000037,1.1173900189928636,1.6144962040003249E-3,0.28126555778483775]
[0.05,0.8,1.9599639845400536,0.84162123357291474,7.8488797343490884,{"$f":"Mask1!#REF!","v":{"$error":"#REF!"}},0.01,0.53023700930836848,4.6976299069163155E-3,73.709999999999994,0.25,59.3333333333334,59.333333333333336,{"$f":"O13/$I$24","v":89},178,4069.0489531077992,4373.4600000000046,1.0748113503671926,1.0289004314013555E-3,0.31915692489547237]
[null,null,null,null,null,null,null,null,null,null,null,null,null,null,"Clusters needed",null,null,null,{"$f":"SUMPRODUCT(S4:S14,G4:G14)","v":2.2272619102032459E-2}]
[]
[]
[null,null,null," ","CDR",{"$f":"CDR","v":6.5},null,"Non-response rate",{"$f":"NonResponse","v":0.1}]
[]
[" "," ",null,"Cluster population",null,{"$f":"cluster_pop","v":18000},null,"Prior MCCD ",{"$f":"PriorMCCD","v":0.3}]
[" "]
["Expected total deaths per cluster per year",null,null,null,null,{"$f":"Expected_deaths","v":117},null,"Years of follow up",{"$f":"YearsFollowUp","v":1}]
[]
[null,null,null," ","k",{"$f":"Coeff_k","v":0.25},null,"Male:Female",{"$f":"MaleFemale","v":2}]
[]
[null,null,null,null,"Power",{"$f":"Power","v":0.8},null,"Significance Level",{"$f":"Significance","v":0.05}]
[]
[null,null,null,null,"MIS",{"$f":"MIS","v":1.5}]
[]
[null,"km = coefficient of variation within matched pairs"]
[]
[]
[]
[]
[null,"From the book:"]

{"sheet":"values for k","index":7,"n_rows":44,"n_cols":18,"rows_kept":44,"cut":false,"hidden":false,"merged":[]}
["INTERPRETATION OF VARIOUS VALUES OF K"]
["k","(1-2*k)","(1+2*k)","mean rate","range_low","range_high"]
[0.15,{"$f":"(1-2*A3)","v":0.7},{"$f":"(1+2*A3)","v":1.3},0.01,{"$f":"D3*B3","v":6.9999999999999993E-3},{"$f":"D3*C3","v":1.3000000000000001E-2}]
[0.2,{"$f":"(1-2*A4)","v":0.6},{"$f":"(1+2*A4)","v":1.4},0.01,{"$f":"D4*B4","v":6.0000000000000001E-3},1.3999999999999999E-2]
[0.25,0.5,1.5,0.01,5.0000000000000001E-3,1.4999999999999999E-2]
[0.3,0.4,1.6,0.01,4.0000000000000001E-3,1.6E-2]
[0.35,0.30000000000000004,1.7,0.01,3.0000000000000005E-3,1.7000000000000001E-2]
[0.15,0.7,1.3,1.4999999999999999E-2,1.0499999999999999E-2,1.95E-2]
[0.2,0.6,1.4,1.4999999999999999E-2,8.9999999999999993E-3,2.0999999999999998E-2]
[0.25,0.5,1.5,1.4999999999999999E-2,7.4999999999999997E-3,2.2499999999999999E-2]
[0.3,0.4,1.6,1.4999999999999999E-2,6.0000000000000001E-3,2.4E-2]
[0.35,0.30000000000000004,1.7,1.4999999999999999E-2,4.5000000000000005E-3,2.5499999999999998E-2]
[0.15,0.7,1.3,0.02,1.3999999999999999E-2,2.6000000000000002E-2]
[0.2,0.6,1.4,0.02,1.2E-2,2.7999999999999997E-2]
[0.25,0.5,1.5,0.02,0.01,0.03]
[0.3,0.4,1.6,0.02,8.0000000000000002E-3,3.2000000000000001E-2]
[0.35,0.30000000000000004,1.7,0.02,6.000000000000001E-3,3.4000000000000002E-2]
[0.15,{"$f":"(1-2*A18)","v":0.7},{"$f":"(1+2*A18)","v":1.3},0.04,{"$f":"D18*B18","v":2.7999999999999997E-2},{"$f":"D18*C18","v":5.2000000000000005E-2}]
[0.2,0.6,{"$f":"(1+2*A19)","v":1.4},0.04,{"$f":"D19*B19","v":2.4E-2},{"$f":"D19*C19","v":5.5999999999999994E-2}]
[0.25,0.5,{"$f":"(1+2*A20)","v":1.5},0.04,{"$f":"D20*B20","v":0.02},{"$f":"D20*C20","v":0.06}]
[0.3,0.4,{"$f":"(1+2*A21)","v":1.6},0.04,{"$f":"D21*B21","v":1.6E-2},{"$f":"D21*C21","v":6.4000000000000001E-2}]
[0.35,0.30000000000000004,{"$f":"(1+2*A22)","v":1.7},0.04,{"$f":"D22*B22","v":1.2000000000000002E-2},{"$f":"D22*C22","v":6.8000000000000005E-2}]
[]
[null,null,null,null,null,null,null,null,null,"FROM IHME",null,null,null,null,null,null,"low","upper"]
[0.25,{"$f":"(1-2*A25)","v":0.5},{"$f":"(1+2*A25)","v":1.5},{"$f":"N25","v":7.7973321074299999E-4},{"$f":"D25*B25","v":3.898666053715E-4},{"$f":"D25*C25","v":1.1695998161145001E-3},null,null,1,"HIV/AIDS","Rate",2016,77.973321074300003,{"$f":"M25/100000","v":7.7973321074299999E-4},95.519623667199994,66.317656242300004,{"$f":"P25/100000","v":6.6317656242300001E-4},{"$f":"O25/100000","v":9.5519623667199998E-4}]
[{"$f":"$A$25","v":0.25},{"$f":"(1-2*A26)","v":0.5},{"$f":"(1+2*A26)","v":1.5},{"$f":"N26","v":7.1234351190599995E-4},{"$f":"D26*B26","v":3.5617175595299997E-4},{"$f":"D26*C26","v":1.0685152678589999E-3},null,null,2,"Lower respiratory infections","Rate",2016,71.234351190599995,{"$f":"M26/100000","v":7.1234351190599995E-4},85.812951264899993,57.571188860699998,5.7571188860699996E-4,8.5812951264899997E-4]
[{"$f":"$A$25","v":0.25},0.5,1.5,4.91527114974E-4,2.45763557487E-4,7.3729067246100001E-4,null,null,3,"Diarrheal diseases","Rate",2016,49.152711497399999,4.91527114974E-4,73.881714373400001,31.085383616400001,3.1085383616400001E-4,7.3881714373399997E-4]
[0.25,0.5,1.5,4.8397488627400002E-4,2.4198744313700001E-4,7.2596232941100002E-4,null,null,4,"Ischemic heart disease","Rate",2016,48.397488627400001,4.8397488627400002E-4,56.921510312899997,40.432443570300002,4.0432443570300001E-4,5.69215103129E-4]
[0.25,0.5,1.5,2.9423329270599901E-4,1.471166463529995E-4,4.4134993905899848E-4,null,null,5,"Malaria","Rate",2016,29.423329270599901,2.9423329270599901E-4,41.4759116392,19.850889408,1.9850889407999999E-4,4.1475911639199999E-4]
[0.25,0.5,1.5,2.8847724399099997E-4,1.4423862199549998E-4,4.3271586598649992E-4,null,null,6,"Tuberculosis","Rate",2016,28.847724399099999,2.8847724399099997E-4,36.416291968799896,23.252180818999999,2.3252180819E-4,3.6416291968799895E-4]
[0.25,0.5,1.5,2.6868647825400001E-4,1.3434323912700001E-4,4.0302971738100004E-4,null,null,7,"Cerebrovascular disease","Rate",2016,26.8686478254,2.6868647825400001E-4,31.8346670056,21.977022480399999,2.1977022480399998E-4,3.18346670056E-4]
[0.25,0.5,1.5,2.4560380152699999E-4,1.228019007635E-4,3.6840570229049999E-4,null,null,8,"Neonatal encephalopathy due to birth asphyxia and trauma","Rate",2016,24.560380152699999,2.4560380152699999E-4,33.362355880899997,17.819064801,1.7819064800999999E-4,3.3362355880899996E-4]
[0.25,0.5,1.5,2.15205325498E-4,1.07602662749E-4,3.2280798824700001E-4,null,null,9,"Protein-energy malnutrition","Rate",2016,21.520532549799999,2.15205325498E-4,29.799751694699999,15.3426214408,1.53426214408E-4,2.97997516947E-4]
[0.25,0.5,1.5,1.6309314394200001E-4,8.1546571971000004E-5,2.44639715913E-4,null,null,10,"Neonatal preterm birth complications","Rate",2016,16.309314394200001,1.6309314394200001E-4,23.247437014999999,11.074024231799999,1.1074024231799999E-4,2.3247437014999999E-4]
[0.25,0.5,1.5,1.5904983076500001E-4,7.9524915382500004E-5,2.3857474614750001E-4,null,null,11,"Meningitis","Rate",2016,15.904983076500001,1.5904983076500001E-4,23.0830548556,11.761961672,1.1761961672000001E-4,2.3083054855600001E-4]
[0.25,0.5,1.5,1.3281421063599999E-4,6.6407105317999997E-5,1.9922131595399999E-4,null,null,12,"Diabetes mellitus","Rate",2016,13.2814210636,1.3281421063599999E-4,15.535809728899901,11.099204807,1.1099204806999999E-4,1.5535809728899901E-4]
[0.25,0.5,1.5,1.2360429278799999E-4,6.1802146393999993E-5,1.8540643918199998E-4,null,null,13,"Road injuries","Rate",2016,12.3604292788,1.2360429278799999E-4,14.597555326299901,10.415107132999999,1.0415107133E-4,1.4597555326299901E-4]
[0.25,0.5,1.5,1.17745201453E-4,5.8872600726499999E-5,1.766178021795E-4,null,null,14,"Neonatal sepsis and other neonatal infections","Rate",2016,11.7745201453,1.17745201453E-4,18.785874505100001,7.0766298510299999,7.0766298510299995E-5,1.8785874505100001E-4]
[0.25,0.5,1.5,9.0985502822099899E-5,4.549275141104995E-5,1.3647825423314985E-4,null,null,15,"Chronic obstructive pulmonary disease","Rate",2016,9.09855028220999,9.0985502822099899E-5,11.1306031524999,7.2187274022999999,7.2187274023000002E-5,1.11306031524999E-4]
[0.25,0.5,1.5,8.6734345305600004E-5,4.3367172652800002E-5,1.301015179584E-4,null,null,16,"Alzheimer disease and other dementias","Rate",2016,8.6734345305599998,8.6734345305600004E-5,10.8395081457,6.9829465108699997,6.9829465108699993E-5,1.0839508145699999E-4]
[0.25,0.5,1.5,8.4174760298599995E-5,4.2087380149299997E-5,1.2626214044789998E-4,null,null,17,"Sexually transmitted diseases excluding HIV","Rate",2016,8.4174760298599995,8.4174760298599995E-5,16.6230120785,3.2345175115,3.2345175114999998E-5,1.6623012078500002E-4]
[0.25,0.5,1.5,8.2503668898000011E-5,4.1251834449000005E-5,1.2375550334700001E-4,null,null,18,"Hypertensive heart disease","Rate",2016,8.2503668898000004,8.2503668898000011E-5,11.210251206900001,5.4699393306699999,5.4699393306699999E-5,1.12102512069E-4]
[0.25,0.5,1.5,7.9931668158599904E-5,3.9965834079299952E-5,1.1989750223789986E-4,null,null,19,"Interpersonal violence","Rate",2016,7.9931668158599898,7.9931668158599904E-5,10.656946233999999,6.0140515035300002,6.0140515035300002E-5,1.0656946234E-4]
[0.25,0.5,1.5,7.2912374188199993E-5,3.6456187094099996E-5,1.0936856128229999E-4,null,null,20,"Paralytic ileus and intestinal obstruction","Rate",2016,7.2912374188199998,{"$f":"M44/100000","v":7.2912374188199993E-5},9.1455465295400007,5.9249829641499998,{"$f":"P44/100000","v":5.9249829641499999E-5},{"$f":"O44/100000","v":9.1455465295400013E-5}]

{"sheet":"Lists","index":8,"n_rows":229,"n_cols":7,"rows_kept":229,"cut":false,"hidden":false,"merged":[]}
["Country",null,"Measure","Design","Use of the tool","Male:Female","Title"]
["Afghanistan ","Yes","Rates /100,000","Matched",{"$f":"IF(E3=1,\"HavePREC\", \"HaveCLUSTER\")","v":"HaveCLUSTER"},{"$f":"IF(Mask1!C18=\"Yes\",2,1)","v":2},"VA Sampling Tool v 1.0"]
["Albania ","No","CSMFs","Unmatched",2]
["Algeria "]
["American Samoa "]
["Andorra "]
["Angola "]
["Anguilla "]
["Antigua & Barbuda "]
["Argentina "]
["Armenia "]
["Aruba "]
["Australia "]
["Austria "]
["Azerbaijan "]
["Bahamas, The "]
["Bahrain "]
["Bangladesh "]
["Barbados "]
["Belarus "]
["Belgium "]
["Belize "]
["Benin "]
["Bermuda "]
["Bhutan "]
["Bolivia "]
["Bosnia & Herzegovina "]
["Botswana "]
["Brazil "]
["British Virgin Is. "]
["Brunei "]
["Bulgaria "]
["Burkina Faso "]
["Burundi "]
["Cambodia "]
["Cameroon "]
["Canada "]
["Cape Verde "]
["Cayman Islands "]
["Central African Rep. "]
["Chad "]
["Chile "]
["China "]
["Colombia "]
["Comoros "]
["Congo, Dem. Rep. "]
["Congo, Repub. of the "]
["Cook Islands "]
["Costa Rica "]
["Cote d'Ivoire "]
["Croatia "]
["Cuba "]
["Cyprus "]
["Czech Republic "]
["Denmark "]
["Djibouti "]
["Dominica "]
["Dominican Republic "]
["East Timor "]
["Ecuador "]
["Egypt "]
["El Salvador "]
["Equatorial Guinea "]
["Eritrea "]
["Estonia "]
["Ethiopia "]
["Faroe Islands "]
["Fiji "]
["Finland "]
["France "]
["French Guiana "]
["French Polynesia "]
["Gabon "]
["Gambia, The "]
["Gaza Strip "]
["Georgia "]
["Germany "]
["Ghana "]
["Gibraltar "]
["Greece "]
["Greenland "]
["Grenada "]
["Guadeloupe "]
["Guam "]
["Guatemala "]
["Guernsey "]
["Guinea "]
["Guinea-Bissau "]
["Guyana "]
["Haiti "]
["Honduras "]
["Hong Kong "]
["Hungary "]
["Iceland "]
["India "]
["Indonesia "]
["Iran "]
["Iraq "]
["Ireland "]
["Isle of Man "]
["Israel "]
["Italy "]
["Jamaica "]
["Japan "]
["Jersey "]
["Jordan "]
["Kazakhstan "]
["Kenya "]
["Kiribati "]
["Korea, North "]
["Korea, South "]
["Kuwait "]
["Kyrgyzstan "]
["Laos "]
["Latvia "]
["Lebanon "]
["Lesotho "]
["Liberia "]
["Libya "]
["Liechtenstein "]
["Lithuania "]
["Luxembourg "]
["Macau "]
["Macedonia "]
["Madagascar "]
["Malawi "]
["Malaysia "]
["Maldives "]
["Mali "]
["Malta "]
["Marshall Islands "]
["Martinique "]
["Mauritania "]
["Mauritius "]
["Mayotte "]
["Mexico "]
["Micronesia, Fed. St. "]
["Moldova "]
["Monaco "]
["Mongolia "]
["Montserrat "]
["Morocco "]
["Mozambique "]
["Myanmar"]
["Namibia "]
["Nauru "]
["Nepal "]
["Netherlands "]
["Netherlands Antilles "]
["New Caledonia "]
["New Zealand "]
["Nicaragua "]
["Niger "]
["Nigeria "]
["N. Mariana Islands "]
["Norway "]
["Oman "]
["Pakistan "]
["Palau "]
["Panama "]
["Papua New Guinea "]
["Paraguay "]
["Peru "]
["Philippines "]
["Poland "]
["Portugal "]
["Puerto Rico "]
["Qatar "]
["Reunion "]
["Romania "]
["Russia "]
["Rwanda "]
["Saint Helena "]
["Saint Kitts & Nevis "]
["Saint Lucia "]
["St Pierre & Miquelon "]
["Saint Vincent and the Grenadines "]
["Samoa "]
["San Marino "]
["Sao Tome & Principe "]
["Saudi Arabia "]
["Senegal "]
["Serbia "]
["Seychelles "]
["Sierra Leone "]
["Singapore "]
["Slovakia "]
["Slovenia "]
["Solomon Islands "]
["Somalia "]
["South Africa "]
["Spain "]
["Sri Lanka "]
["Sudan "]
["Suriname "]
["Swaziland "]
["Sweden "]
["Switzerland "]
["Syria "]
["Taiwan "]
["Tajikistan "]
["Tanzania "]
["Thailand "]
["Togo "]
["Tonga "]
["Trinidad & Tobago "]
["Tunisia "]
["Turkey "]
["Turkmenistan "]
["Turks & Caicos Is "]
["Tuvalu "]
["Uganda "]
["Ukraine "]
["United Arab Emirates "]
["United Kingdom "]
["United States "]
["Uruguay "]
["Uzbekistan "]
["Vanuatu "]
["Venezuela "]
["Vietnam "]
["Virgin Islands "]
["Wallis and Futuna "]
["West Bank "]
["Western Sahara "]
["Yemen "]
["Zambia "]
["Zimbabwe "]
["Rondonia"]

{"sheet":"HavePREC_rates_matched_hayes","index":9,"n_rows":60,"n_cols":22,"rows_kept":60,"cut":false,"hidden":false,"merged":[[32,9,32,10],[1,5,2,5],[1,18,2,18],[30,9,30,10],[1,14,1,17]]}
["RATES MATCHED (HAYES)"]
["1-type I","power","z_a","z_b",null,"Rank","l_0","%","l_1","# of","cluster","person","km","# clusters",null,null,null,null,"* to be conservative, round up"]
[null,null,null,null,null,null,"Rate time 0","Reduction","Rate time 1","yrs","size","years y",null,"per arm*","MIS","Male:Female","Prior MCCD","Non-response",null,"y without clustering (y1)","y with clustering (y2)","DE"]
[{"$f":"$O$37","v":0.05},{"$f":"$L$37","v":0.8},{"$f":"NORMSINV(1-(0.5*(A4)))","v":1.9599639845400536},{"$f":"NORMSINV(B4)","v":0.84162123357291474},{"$f":"(C4+D4)^2","v":7.8488797343490884},"20th",{"$f":"MIN(G5:G24)","v":{"$error":"#REF!"}},{"$f":"PrecisionRate","v":0},{"$f":"G4*(1-H4)","v":{"$error":"#REF!"}},{"$f":"O$33","v":1},{"$f":"$L$31","v":18000},{"$f":"J4*K4","v":18000},{"$f":"$L$35","v":0.25},{"$f":"2+E4*(((G4+I4)/L4)+(M4*M4)*((G4*G4)+(I4*I4)))/((G4-I4)^2)","v":{"$error":"#REF!"}},{"$f":"$L$39*N4","v":{"$error":"#REF!"}},{"$f":"O4*$O$35","v":{"$error":"#REF!"}},{"$f":"P4*1/(1-$O$31)","v":{"$error":"#REF!"}},{"$f":"Q4*1/(1-$O$29)","v":{"$error":"#REF!"}},{"$f":"INT(R4)+1","v":{"$error":"#REF!"}},{"$f":"E4*(G4+I4)/(G4-I4)^2","v":{"$error":"#REF!"}},{"$f":"N4*L4","v":{"$error":"#REF!"}},{"$f":"U4/T4","v":{"$error":"#REF!"}}]
[{"$f":"$O$37","v":0.05},{"$f":"$L$37","v":0.8},{"$f":"NORMSINV(1-(0.5*(A5)))","v":1.9599639845400536},{"$f":"NORMSINV(B5)","v":0.84162123357291474},{"$f":"(C5+D5)^2","v":7.8488797343490884},{"$f":"Mask1!E24","v":0},{"$f":"Mask1!H24/100000","v":0},{"$f":"1-I5/G5","v":{"$error":"#REF!"}},{"$f":"(1/(2*L5*(N5+M5^2*(-E5)-2)))*(-SQRT(E5)*SQRT(8*N5*M5^2*G5^2*L5^2+8*N5*G5*L5-4*M5^4*G5^2*L5^2*E5-16*M5^2*G5^2*L5^2-4*M5^2*G5*L5*E5-16*G5*L5+E5)+2*N5*G5*L5-4*G5*L5+E5)","v":{"$error":"#REF!"}},{"$f":"O$33","v":1},{"$f":"$L$31","v":18000},{"$f":"J5*K5","v":18000},{"$f":"$L$35","v":0.25},{"$f":"O5/$L$39","v":{"$error":"#REF!"}},{"$f":"P5/$O$35","v":{"$error":"#REF!"}},{"$f":"Q5*(1-$O$31)","v":{"$error":"#REF!"}},{"$f":"R5*(1-$O$29)","v":{"$error":"#REF!"}},{"$f":"$S$4","v":{"$error":"#REF!"}},{"$f":"ROUND(R5,0)","v":{"$error":"#REF!"}},{"$error":"#REF!"},{"$error":"#REF!"},{"$f":"U5/T5","v":{"$error":"#REF!"}}]
[{"$f":"$O$37","v":0.05},{"$f":"$L$37","v":0.8},{"$f":"NORMSINV(1-(0.5*(A6)))","v":1.9599639845400536},{"$f":"NORMSINV(B6)","v":0.84162123357291474},{"$f":"(C6+D6)^2","v":7.8488797343490884},{"$f":"Mask1!E25","v":0},{"$f":"Mask1!H25/100000","v":0},{"$f":"1-I6/G6","v":{"$error":"#REF!"}},{"$f":"(1/(2*L6*(N6+M6^2*(-E6)-2)))*(-SQRT(E6)*SQRT(8*N6*M6^2*G6^2*L6^2+8*N6*G6*L6-4*M6^4*G6^2*L6^2*E6-16*M6^2*G6^2*L6^2-4*M6^2*G6*L6*E6-16*G6*L6+E6)+2*N6*G6*L6-4*G6*L6+E6)","v":{"$error":"#REF!"}},{"$f":"O$33","v":1},{"$f":"$L$31","v":18000},{"$f":"J6*K6","v":18000},{"$f":"$L$35","v":0.25},{"$f":"O6/$L$39","v":{"$error":"#REF!"}},{"$f":"P6/$O$35","v":{"$error":"#REF!"}},{"$f":"Q6*(1-$O$31)","v":{"$error":"#REF!"}},{"$f":"R6*(1-$O$29)","v":{"$error":"#REF!"}},{"$f":"$S$4","v":{"$error":"#REF!"}},{"$f":"ROUND(R6,0)","v":{"$error":"#REF!"}},{"$error":"#REF!"},{"$error":"#REF!"},{"$f":"U6/T6","v":{"$error":"#REF!"}}]
[{"$f":"$O$37","v":0.05},{"$f":"$L$37","v":0.8},{"$f":"NORMSINV(1-(0.5*(A7)))","v":1.9599639845400536},{"$f":"NORMSINV(B7)","v":0.84162123357291474},{"$f":"(C7+D7)^2","v":7.8488797343490884},{"$f":"Mask1!E26","v":0},{"$f":"Mask1!H26/100000","v":0},{"$f":"1-I7/G7","v":{"$error":"#REF!"}},{"$error":"#REF!"},{"$f":"O$33","v":1},{"$f":"$L$31","v":18000},{"$f":"J7*K7","v":18000},{"$f":"$L$35","v":0.25},{"$error":"#REF!"},{"$error":"#REF!"},{"$error":"#REF!"},{"$error":"#REF!"},{"$error":"#REF!"},{"$error":"#REF!"},{"$error":"#REF!"},{"$error":"#REF!"},{"$error":"#REF!"}]
[0.05,0.8,1.9599639845400536,0.84162123357291474,7.8488797343490884,{"$f":"Mask1!E27","v":0},{"$f":"Mask1!H27/100000","v":0},{"$error":"#REF!"},{"$error":"#REF!"},1,18000,18000,0.25,{"$error":"#REF!"},{"$error":"#REF!"},{"$error":"#REF!"},{"$error":"#REF!"},{"$error":"#REF!"},{"$error":"#REF!"},{"$error":"#REF!"},{"$error":"#REF!"},{"$error":"#REF!"}]
[0.05,0.8,1.9599639845400536,0.84162123357291474,7.8488797343490884,{"$f":"Mask1!E28","v":0},{"$f":"Mask1!H28/100000","v":0},{"$error":"#REF!"},{"$error":"#REF!"},1,18000,18000,0.25,{"$error":"#REF!"},{"$error":"#REF!"},{"$error":"#REF!"},{"$error":"#REF!"},{"$error":"#REF!"},{"$error":"#REF!"},{"$error":"#REF!"},{"$error":"#REF!"},{"$error":"#REF!"}]
[0.05,0.8,1.9599639845400536,0.84162123357291474,7.8488797343490884,{"$f":"Mask1!E29","v":0},{"$f":"Mask1!H29/100000","v":0},{"$error":"#REF!"},{"$error":"#REF!"},1,18000,18000,0.25,{"$error":"#REF!"},{"$error":"#REF!"},{"$error":"#REF!"},{"$error":"#REF!"},{"$error":"#REF!"},{"$error":"#REF!"},{"$error":"#REF!"},{"$error":"#REF!"},{"$error":"#REF!"}]
[0.05,0.8,1.9599639845400536,0.84162123357291474,7.8488797343490884,{"$f":"Mask1!#REF!","v":{"$error":"#REF!"}},{"$f":"Mask1!H30/100000","v":0},{"$error":"#REF!"},{"$error":"#REF!"},1,18000,18000,0.25,{"$error":"#REF!"},{"$error":"#REF!"},{"$error":"#REF!"},{"$error":"#REF!"},{"$error":"#REF!"},{"$error":"#REF!"},{"$error":"#REF!"},{"$error":"#REF!"},{"$error":"#REF!"}]
[0.05,0.8,1.9599639845400536,0.84162123357291474,7.8488797343490884,{"$f":"Mask1!E31","v":0},{"$f":"Mask1!H31/100000","v":0},{"$error":"#REF!"},{"$error":"#REF!"},1,18000,18000,0.25,{"$error":"#REF!"},{"$error":"#REF!"},{"$error":"#REF!"},{"$error":"#REF!"},{"$error":"#REF!"},{"$error":"#REF!"},{"$error":"#REF!"},{"$error":"#REF!"},{"$error":"#REF!"}]
[0.05,0.8,1.9599639845400536,0.84162123357291474,7.8488797343490884,{"$f":"Mask1!#REF!","v":{"$error":"#REF!"}},{"$f":"Mask1!#REF!/100000","v":{"$error":"#REF!"}},{"$error":"#REF!"},{"$error":"#REF!"},1,18000,18000,0.25,{"$error":"#REF!"},{"$error":"#REF!"},{"$error":"#REF!"},{"$error":"#REF!"},{"$error":"#REF!"},{"$error":"#REF!"},{"$error":"#REF!"},{"$error":"#REF!"},{"$error":"#REF!"}]
[0.05,0.8,1.9599639845400536,0.84162123357291474,7.8488797343490884,{"$f":"Mask1!#REF!","v":{"$error":"#REF!"}},{"$f":"Mask1!#REF!/100000","v":{"$error":"#REF!"}},{"$error":"#REF!"},{"$error":"#REF!"},1,18000,18000,0.25,{"$error":"#REF!"},{"$error":"#REF!"},{"$error":"#REF!"},{"$error":"#REF!"},{"$error":"#REF!"},{"$error":"#REF!"},{"$error":"#REF!"},{"$error":"#REF!"},{"$error":"#REF!"}]
[0.05,0.8,1.9599639845400536,0.84162123357291474,7.8488797343490884,{"$f":"Mask1!E32","v":0},{"$f":"Mask1!H32/100000","v":0},{"$error":"#REF!"},{"$error":"#REF!"},1,18000,18000,0.25,{"$error":"#REF!"},{"$error":"#REF!"},{"$error":"#REF!"},{"$error":"#REF!"},{"$error":"#REF!"},{"$error":"#REF!"},{"$error":"#REF!"},{"$error":"#REF!"},{"$error":"#REF!"}]
[0.05,0.8,1.9599639845400536,0.84162123357291474,7.8488797343490884,{"$f":"Mask1!E33","v":0},{"$f":"Mask1!H33/100000","v":0},{"$error":"#REF!"},{"$error":"#REF!"},1,18000,18000,0.25,{"$error":"#REF!"},{"$error":"#REF!"},{"$error":"#REF!"},{"$error":"#REF!"},{"$error":"#REF!"},{"$error":"#REF!"},{"$error":"#REF!"},{"$error":"#REF!"},{"$error":"#REF!"}]
[0.05,0.8,1.9599639845400536,0.84162123357291474,7.8488797343490884,{"$f":"Mask1!E34","v":0},{"$f":"Mask1!H34/100000","v":0},{"$error":"#REF!"},{"$error":"#REF!"},1,18000,18000,0.25,{"$error":"#REF!"},{"$error":"#REF!"},{"$error":"#REF!"},{"$error":"#REF!"},{"$error":"#REF!"},{"$error":"#REF!"},{"$error":"#REF!"},{"$error":"#REF!"},{"$error":"#REF!"}]
[0.05,0.8,1.9599639845400536,0.84162123357291474,7.8488797343490884,{"$f":"Mask1!E35","v":0},{"$f":"Mask1!H35/100000","v":0},{"$error":"#REF!"},{"$error":"#REF!"},1,18000,18000,0.25,{"$error":"#REF!"},{"$error":"#REF!"},{"$error":"#REF!"},{"$error":"#REF!"},{"$error":"#REF!"},{"$error":"#REF!"},{"$error":"#REF!"},{"$error":"#REF!"},{"$error":"#REF!"}]
[0.05,0.8,1.9599639845400536,0.84162123357291474,7.8488797343490884,{"$f":"Mask1!E36","v":0},{"$f":"Mask1!H36/100000","v":0},{"$error":"#REF!"},{"$error":"#REF!"},1,18000,18000,0.25,{"$error":"#REF!"},{"$error":"#REF!"},{"$error":"#REF!"},{"$error":"#REF!"},{"$error":"#REF!"},{"$error":"#REF!"},{"$error":"#REF!"},{"$error":"#REF!"},{"$error":"#REF!"}]
[0.05,0.8,1.9599639845400536,0.84162123357291474,7.8488797343490884,{"$f":"Mask1!E37","v":0},{"$f":"Mask1!H37/100000","v":0},{"$error":"#REF!"},{"$error":"#REF!"},1,18000,18000,0.25,{"$error":"#REF!"},{"$error":"#REF!"},{"$error":"#REF!"},{"$error":"#REF!"},{"$error":"#REF!"},{"$error":"#REF!"},{"$error":"#REF!"},{"$error":"#REF!"},{"$error":"#REF!"}]
[0.05,0.8,1.9599639845400536,0.84162123357291474,7.8488797343490884,{"$f":"Mask1!E38","v":0},{"$f":"Mask1!H38/100000","v":0},{"$error":"#REF!"},{"$error":"#REF!"},1,18000,18000,0.25,{"$error":"#REF!"},{"$error":"#REF!"},{"$error":"#REF!"},{"$error":"#REF!"},{"$error":"#REF!"},{"$error":"#REF!"},{"$error":"#REF!"},{"$error":"#REF!"},{"$error":"#REF!"}]
[0.05,0.8,1.9599639845400536,0.84162123357291474,7.8488797343490884,{"$f":"Mask1!E39","v":0},{"$f":"Mask1!H39/100000","v":0},{"$error":"#REF!"},{"$error":"#REF!"},1,18000,18000,0.25,{"$error":"#REF!"},{"$error":"#REF!"},{"$error":"#REF!"},{"$error":"#REF!"},{"$error":"#REF!"},{"$error":"#REF!"},{"$error":"#REF!"},{"$error":"#REF!"},{"$error":"#REF!"}]
[0.05,0.8,1.9599639845400536,0.84162123357291474,7.8488797343490884,{"$f":"Mask1!E40","v":0},{"$f":"Mask1!H40/100000","v":0},{"$error":"#REF!"},{"$error":"#REF!"},1,18000,18000,0.25,{"$error":"#REF!"},{"$error":"#REF!"},{"$error":"#REF!"},{"$error":"#REF!"},{"$error":"#REF!"},{"$error":"#REF!"},{"$error":"#REF!"},{"$error":"#REF!"},{"$error":"#REF!"}]
[0.05,0.8,1.9599639845400536,0.84162123357291474,7.8488797343490884,{"$f":"Mask1!E41","v":0},{"$f":"Mask1!H41/100000","v":0},{"$error":"#REF!"},{"$error":"#REF!"},1,18000,18000,0.25,{"$error":"#REF!"},{"$error":"#REF!"},{"$error":"#REF!"},{"$error":"#REF!"},{"$error":"#REF!"},{"$error":"#REF!"},{"$error":"#REF!"},{"$error":"#REF!"},{"$error":"#REF!"}]
[null,null,null,null,null,null,null,null,null,null,null,null,null,null,null,null,null,null,"Clusters needed"]
[]
[]
[]
[null,null,null,null,null,null,null,null,null," ","CDR",{"$f":"CDR","v":6.5},null,"Non-response rate",{"$f":"NonResponse","v":0.1}]
[]
[null,null,null,null,null,null,null,null,null,"Cluster population",null,{"$f":"cluster_pop","v":18000},null,"Prior MCCD ",{"$f":"PriorMCCD","v":0.3}]
[]
[null,null,null,null,null,null,null,null,null,"Expected deaths",null,{"$f":"Expected_deaths","v":117},null,"Years of follow up",{"$f":"YearsFollowUp","v":1}]
[]
[null,null,null,null,null,null,null,null,null,null,"k",{"$f":"Coeff_k","v":0.25},null,"Male:Female",{"$f":"MaleFemale","v":2}]
[]
[null,null,null,null,null,null,null,null,null,null,"Power",{"$f":"Power","v":0.8},null,"Significance Level",{"$f":"Significance","v":0.05}]
[]
[null,null,null,null,null,null,null,null,null,null,"MIS",{"$f":"MIS","v":1.5}]
[null,"km = coefficient of variation within matched pairs"]
[]
[]
[]
[]
[null,"From the book:"]
[]
[]
[]
[]
[]
[]
[]
[]
[]
[]
[]
[]
[]
[]
[null,"or p.326 (plus +2 as written in the text):"]

{"sheet":"HaveCLUSTER_rates_matched_hayes","index":10,"n_rows":60,"n_cols":22,"rows_kept":60,"cut":false,"hidden":false,"merged":[[1,5,2,5],[32,9,32,10],[1,16,1,17],[30,9,30,10],[1,18,2,18]]}
["RATES MATCHED (HAYES)"]
["1-type I","power","z_a","z_b",null,"Rank","l_0","%","l_1","# of","cluster","person","km","# clusters",null,null,null,null,"* to be conservative, round up"]
[null,null,null,null,null,null,"Rate time 0","Reduction","Rate time 1","yrs","size","years y",null,"per arm*","MIS","Male:Female","Prior MCCD","Non response",null,"y without clustering (y1)","y with clustering (y2)","DE"]
[{"$f":"$P$37","v":0.05},{"$f":"$L$37","v":0.8},{"$f":"NORMSINV(1-(0.5*(A4)))","v":1.9599639845400536},{"$f":"NORMSINV(B4)","v":0.84162123357291474},{"$f":"(C4+D4)^2","v":7.8488797343490884},"20th",{"$f":"MIN(G5:G24)","v":{"$error":"#REF!"}},{"$f":"MAX(H5:H24)","v":{"$error":"#DIV/0!"}},null,null,null,null,null,null,null,null,null,null,{"$f":"NumberClusters","v":178},{"$f":"E4*(G4+I4)/(G4-I4)^2","v":{"$error":"#REF!"}},{"$f":"N4*L4","v":0},{"$f":"U4/T4","v":{"$error":"#REF!"}}]
[0.05,{"$f":"$L$37","v":0.8},{"$f":"NORMSINV(1-(0.5*(A5)))","v":1.9599639845400536},{"$f":"NORMSINV(B5)","v":0.84162123357291474},{"$f":"(C5+D5)^2","v":7.8488797343490884},{"$f":"Mask1!E24","v":0},{"$f":"Mask1!H24/100000","v":0},{"$f":"1-I5/G5","v":{"$error":"#DIV/0!"}},{"$f":"(1/(2*L5*($O$5+M5^2*(-E5)-2)))*(-SQRT(E5)*SQRT(8*$O$5*M5^2*G5^2*L5^2+8*$O$5*G5*L5-4*M5^4*G5^2*L5^2*E5-16*M5^2*G5^2*L5^2-4*M5^2*G5*L5*E5-16*G5*L5+E5)+2*$O$5*G5*L5-4*G5*L5+E5)","v":0},{"$f":"P$33","v":1},{"$f":"$L$31","v":18000},{"$f":"J5*K5","v":18000},{"$f":"$L$35","v":0.25},{"$f":"2+E5*(((G5+I5)/L5)+(M5*M5)*((G5*G5)+(I5*I5)))/((G5-I5)^2)","v":{"$error":"#DIV/0!"}},{"$f":"P5/$L$39","v":37.380000000000003},{"$f":"Q5/$P$35","v":56.07},{"$f":"R5*(1-$P$31)","v":112.14},{"$f":"S5*(1-$P$29)","v":160.20000000000002},{"$f":"S4","v":178},{"$error":"#DIV/0!"},{"$error":"#DIV/0!"},{"$f":"U5/T5","v":{"$error":"#DIV/0!"}}]
[0.05,{"$f":"$L$37","v":0.8},{"$f":"NORMSINV(1-(0.5*(A6)))","v":1.9599639845400536},{"$f":"NORMSINV(B6)","v":0.84162123357291474},{"$f":"(C6+D6)^2","v":7.8488797343490884},{"$f":"Mask1!E25","v":0},{"$f":"Mask1!H25/100000","v":0},{"$f":"1-I6/G6","v":{"$error":"#DIV/0!"}},{"$f":"(1/(2*L6*($O$5+M6^2*(-E6)-2)))*(-SQRT(E6)*SQRT(8*$O$5*M6^2*G6^2*L6^2+8*$O$5*G6*L6-4*M6^4*G6^2*L6^2*E6-16*M6^2*G6^2*L6^2-4*M6^2*G6*L6*E6-16*G6*L6+E6)+2*$O$5*G6*L6-4*G6*L6+E6)","v":0},1,{"$f":"$L$31","v":18000},{"$f":"J6*K6","v":18000},{"$f":"$L$35","v":0.25},{"$f":"2+E6*(((G6+I6)/L6)+(M6*M6)*((G6*G6)+(I6*I6)))/((G6-I6)^2)","v":{"$error":"#DIV/0!"}},{"$f":"P6/$L$39","v":37.380000000000003},56.07,112.14,{"$f":"S6*(1-$P$29)","v":160.20000000000002},{"$f":"S5","v":178},{"$error":"#DIV/0!"},{"$error":"#DIV/0!"},{"$f":"U6/T6","v":{"$error":"#DIV/0!"}}]
[0.05,{"$f":"$L$37","v":0.8},{"$f":"NORMSINV(1-(0.5*(A7)))","v":1.9599639845400536},{"$f":"NORMSINV(B7)","v":0.84162123357291474},{"$f":"(C7+D7)^2","v":7.8488797343490884},{"$f":"Mask1!E26","v":0},{"$f":"Mask1!H26/100000","v":0},{"$f":"1-I7/G7","v":{"$error":"#DIV/0!"}},0,1,{"$f":"$L$31","v":18000},{"$f":"J7*K7","v":18000},{"$f":"$L$35","v":0.25},{"$f":"2+E7*(((G7+I7)/L7)+(M7*M7)*((G7*G7)+(I7*I7)))/((G7-I7)^2)","v":{"$error":"#DIV/0!"}},{"$f":"P7/$L$39","v":37.380000000000003},56.07,112.14,160.20000000000002,178,{"$error":"#DIV/0!"},{"$error":"#DIV/0!"},{"$error":"#DIV/0!"}]
[0.05,0.8,1.9599639845400536,0.84162123357291474,7.8488797343490884,{"$f":"Mask1!E27","v":0},{"$f":"Mask1!H27/100000","v":0},{"$error":"#DIV/0!"},0,1,18000,18000,0.25,{"$error":"#DIV/0!"},37.380000000000003,56.07,112.14,160.20000000000002,178,{"$error":"#DIV/0!"},{"$error":"#DIV/0!"},{"$error":"#DIV/0!"}]
[0.05,0.8,1.9599639845400536,0.84162123357291474,7.8488797343490884,{"$f":"Mask1!E28","v":0},{"$f":"Mask1!H28/100000","v":0},{"$error":"#DIV/0!"},0,1,18000,18000,0.25,{"$error":"#DIV/0!"},37.380000000000003,56.07,112.14,160.20000000000002,178,{"$error":"#DIV/0!"},{"$error":"#DIV/0!"},{"$error":"#DIV/0!"}]
[0.05,0.8,1.9599639845400536,0.84162123357291474,7.8488797343490884,{"$f":"Mask1!E29","v":0},{"$f":"Mask1!H29/100000","v":0},{"$error":"#DIV/0!"},0,1,18000,18000,0.25,{"$error":"#DIV/0!"},37.380000000000003,56.07,112.14,160.20000000000002,178,{"$error":"#DIV/0!"},{"$error":"#DIV/0!"},{"$error":"#DIV/0!"}]
[0.05,0.8,1.9599639845400536,0.84162123357291474,7.8488797343490884,{"$f":"Mask1!#REF!","v":{"$error":"#REF!"}},{"$f":"Mask1!H30/100000","v":0},{"$error":"#DIV/0!"},0,1,18000,18000,0.25,{"$error":"#DIV/0!"},37.380000000000003,56.07,112.14,160.20000000000002,178,{"$error":"#DIV/0!"},{"$error":"#DIV/0!"},{"$error":"#DIV/0!"}]
[0.05,0.8,1.9599639845400536,0.84162123357291474,7.8488797343490884,{"$f":"Mask1!E31","v":0},{"$f":"Mask1!H31/100000","v":0},{"$error":"#DIV/0!"},0,1,18000,18000,0.25,{"$error":"#DIV/0!"},37.380000000000003,56.07,112.14,160.20000000000002,178,{"$error":"#DIV/0!"},{"$error":"#DIV/0!"},{"$error":"#DIV/0!"}]
[0.05,0.8,1.9599639845400536,0.84162123357291474,7.8488797343490884,{"$f":"Mask1!#REF!","v":{"$error":"#REF!"}},{"$f":"Mask1!#REF!/100000","v":{"$error":"#REF!"}},{"$error":"#REF!"},{"$error":"#REF!"},1,18000,18000,0.25,{"$error":"#REF!"},37.380000000000003,56.07,112.14,160.20000000000002,178,{"$error":"#REF!"},{"$error":"#REF!"},{"$error":"#REF!"}]
[0.05,0.8,1.9599639845400536,0.84162123357291474,7.8488797343490884,{"$f":"Mask1!#REF!","v":{"$error":"#REF!"}},{"$f":"Mask1!#REF!/100000","v":{"$error":"#REF!"}},{"$error":"#REF!"},{"$error":"#REF!"},1,18000,18000,0.25,{"$error":"#REF!"},37.380000000000003,56.07,112.14,160.20000000000002,178,{"$error":"#REF!"},{"$error":"#REF!"},{"$error":"#REF!"}]
[0.05,0.8,1.9599639845400536,0.84162123357291474,7.8488797343490884,{"$f":"Mask1!E32","v":0},{"$f":"Mask1!H32/100000","v":0},{"$error":"#DIV/0!"},0,1,18000,18000,0.25,{"$error":"#DIV/0!"},37.380000000000003,56.07,112.14,160.20000000000002,178,{"$error":"#DIV/0!"},{"$error":"#DIV/0!"},{"$error":"#DIV/0!"}]
[0.05,0.8,1.9599639845400536,0.84162123357291474,7.8488797343490884,{"$f":"Mask1!E33","v":0},{"$f":"Mask1!H33/100000","v":0},{"$error":"#DIV/0!"},0,1,18000,18000,0.25,{"$error":"#DIV/0!"},37.380000000000003,56.07,112.14,160.20000000000002,178,{"$error":"#DIV/0!"},{"$error":"#DIV/0!"},{"$error":"#DIV/0!"}]
[0.05,0.8,1.9599639845400536,0.84162123357291474,7.8488797343490884,{"$f":"Mask1!E34","v":0},{"$f":"Mask1!H34/100000","v":0},{"$error":"#DIV/0!"},0,1,18000,18000,0.25,{"$error":"#DIV/0!"},37.380000000000003,56.07,112.14,160.20000000000002,178,{"$error":"#DIV/0!"},{"$error":"#DIV/0!"},{"$error":"#DIV/0!"}]
[0.05,0.8,1.9599639845400536,0.84162123357291474,7.8488797343490884,{"$f":"Mask1!E35","v":0},{"$f":"Mask1!H35/100000","v":0},{"$error":"#DIV/0!"},0,1,18000,18000,0.25,{"$error":"#DIV/0!"},37.380000000000003,56.07,112.14,160.20000000000002,178,{"$error":"#DIV/0!"},{"$error":"#DIV/0!"},{"$error":"#DIV/0!"}]
[0.05,0.8,1.9599639845400536,0.84162123357291474,7.8488797343490884,{"$f":"Mask1!E36","v":0},{"$f":"Mask1!H36/100000","v":0},{"$error":"#DIV/0!"},0,1,18000,18000,0.25,{"$error":"#DIV/0!"},37.380000000000003,56.07,112.14,160.20000000000002,178,{"$error":"#DIV/0!"},{"$error":"#DIV/0!"},{"$error":"#DIV/0!"}]
[0.05,0.8,1.9599639845400536,0.84162123357291474,7.8488797343490884,{"$f":"Mask1!E37","v":0},{"$f":"Mask1!H37/100000","v":0},{"$error":"#DIV/0!"},0,1,18000,18000,0.25,{"$error":"#DIV/0!"},37.380000000000003,56.07,112.14,160.20000000000002,178,{"$error":"#DIV/0!"},{"$error":"#DIV/0!"},{"$error":"#DIV/0!"}]
[0.05,0.8,1.9599639845400536,0.84162123357291474,7.8488797343490884,{"$f":"Mask1!E38","v":0},{"$f":"Mask1!H38/100000","v":0},{"$error":"#DIV/0!"},0,1,18000,18000,0.25,{"$error":"#DIV/0!"},37.380000000000003,56.07,112.14,160.20000000000002,178,{"$error":"#DIV/0!"},{"$error":"#DIV/0!"},{"$error":"#DIV/0!"}]
[0.05,0.8,1.9599639845400536,0.84162123357291474,7.8488797343490884,{"$f":"Mask1!E39","v":0},{"$f":"Mask1!H39/100000","v":0},{"$error":"#DIV/0!"},0,1,18000,18000,0.25,{"$error":"#DIV/0!"},37.380000000000003,56.07,112.14,160.20000000000002,178,{"$error":"#DIV/0!"},{"$error":"#DIV/0!"},{"$error":"#DIV/0!"}]
[0.05,0.8,1.9599639845400536,0.84162123357291474,7.8488797343490884,{"$f":"Mask1!E40","v":0},{"$f":"Mask1!H40/100000","v":0},{"$error":"#DIV/0!"},0,1,18000,18000,0.25,{"$error":"#DIV/0!"},37.380000000000003,56.07,112.14,160.20000000000002,178,{"$error":"#DIV/0!"},{"$error":"#DIV/0!"},{"$error":"#DIV/0!"}]
[0.05,0.8,1.9599639845400536,0.84162123357291474,7.8488797343490884,{"$f":"Mask1!E41","v":0},{"$f":"Mask1!H41/100000","v":0},{"$error":"#DIV/0!"},0,1,18000,18000,0.25,{"$error":"#DIV/0!"},37.380000000000003,56.07,112.14,160.20000000000002,178,{"$error":"#DIV/0!"},{"$error":"#DIV/0!"},{"$error":"#DIV/0!"}]
[null,null,null,null,null,null,null,null,null,null,null,null,null,null,null,null,null,null,"Clusters needed"]
[]
[]
[]
[null,null,null,null,null,null,null,null,null," ","CDR",{"$f":"CDR","v":6.5},null,null,"Non-response rate",{"$f":"NonResponse","v":0.1}]
[]
[null,null,null,null,null,null,null,null,null,"Cluster population",null,{"$f":"cluster_pop","v":18000},null,null,"Prior MCCD ",{"$f":"PriorMCCD","v":0.3}]
[]
[null,null,null,null,null,null,null,null,null,"Expected deaths",null,{"$f":"Expected_deaths","v":117},null,null,"Years of follow up",{"$f":"YearsFollowUp","v":1}]
[]
[null,null,null,null,null,null,null,null,null,null,"k",{"$f":"Coeff_k","v":0.25},null,null,"Male:Female",{"$f":"MaleFemale","v":2}]
[]
[null,null,null,null,null,null,null,null,null,null,"Power",{"$f":"Power","v":0.8},null,null,"Significance Level",{"$f":"Significance","v":0.05}]
[]
[null,null,null,null,null,null,null,null,null,null,"MIS",{"$f":"MIS","v":1.5}]
[null,"km = coefficient of variation within matched pairs"]
[]
[]
[]
[]
[null,"From the book:"]
[]
[]
[]
[]
[]
[]
[]
[]
[]
[]
[]
[]
[]
[]
[null,"or p.326 (plus +2 as written in the text):"]

{"sheet":"Sheet1","index":11,"n_rows":4,"n_cols":1,"rows_kept":4,"cut":false,"hidden":false,"merged":[]}
[670]
[1045.2]
[]
[{"$f":"HARMEAN(A1:A2)","v":816.56250000000011}]